PDS_VERSION_ID = PDS3
/* File characteristics */
RECORD_TYPE = FIXED_LENGTH
RECORD_BYTES = 14560
FILE_RECORDS = 3640
/* Pointers to objects in file */
^IMAGE = "NICO_POL_LEVEL1.IMG"
/* Identification keywords */
DATA_SET_ID = "ARCB/NRAO-L-RTLS/GBT-4/5-70CM-V1.0"
PRODUCT_ID = "NICO_POL_LEVEL1"
INSTRUMENT_HOST_NAME = {"ARECIBO OBSERVATORY","NATIONAL RADIO ASTRONOMY OBSERVATORY"}
INSTRUMENT_NAME = {"RADIO TELESCOPE","ROBERT C. BYRD GREEN BANK TELESCOPE"}
TARGET_NAME = "MOON"
FEATURE_NAME = "NICOLAI"
LATITUDE = -30.0 /* latitude of center of radar beam */
LONGITUDE = 50.0 /* longitude of center of radar beam */
START_TIME = 2004-08-08T11:06
STOP_TIME = 2004-08-08T11:54
PRODUCT_CREATION_TIME = 2006-06-05
PRODUCER_FULL_NAME = "BRUCE CAMPBELL"
PRODUCER_INSTITUTION_NAME = "SMITHSONIAN INSTITUTION"
TRANSMITTED_POLARIZATION_TYPE = "RIGHT CIRCULAR"
RECEIVED_POLARIZATION_TYPE = "LEFT CIRCULAR"
CENTER_FREQUENCY = 430
/* Image descriptive information */
OBJECT = IMAGE
  LINES = 3640
  LINE_SAMPLES = 3640
  SAMPLE_TYPE = IEEE_REAL
  SAMPLE_BITS = 32
  DESCRIPTION = "Pixel values are in units of noise- and area- normalized backscatter power."
END_OBJECT
OBJECT = IMAGE_MAP_PROJECTION
  ^DATA_SET_MAP_PROJECTION = "DSMAP.CAT"
  MAP_PROJECTION_TYPE = SINUSOIDAL
  MAP_RESOLUTION = 75.8
  MAP_SCALE = 400
  COORDINATE_SYSTEM_NAME = "PLANETOCENTRIC"
  COORDINATE_SYSTEM_TYPE = "BODY-FIXED ROTATING"
  POSITIVE_LONGITUDE_DIRECTION = EAST
  MAXIMUM_LATITUDE = 0.0
  MINIMUM_LATITUDE = -48.0
  EASTERNMOST_LONGITUDE = 68.0
  WESTERNMOST_LONGITUDE = 20.0
  A_AXIS_RADIUS = 1738.0
  B_AXIS_RADIUS = 1738.0
  C_AXIS_RADIUS = 1738.0
  SAMPLE_FIRST_PIXEL = 1
  SAMPLE_LAST_PIXEL = 3640
  SAMPLE_PROJECTION_OFFSET = 1820.0
  LINE_FIRST_PIXEL = 1
  LINE_LAST_PIXEL = 3640
  LINE_PROJECTION_OFFSET = 0.0
  FIRST_STANDARD_PARALLEL = "N/A"
  SECOND_STANDARD_PARALLEL = "N/A"
  CENTER_LATITUDE = 0.0
  CENTER_LONGITUDE = 44.0
  REFERENCE_LATITUDE = "N/A"
  REFERENCE_LONGITUDE = "N/A"
  MAP_PROJECTION_ROTATION = 0.0
END_OBJECT
END
