PDS_VERSION_ID = PDS3
/* File characteristics */
RECORD_TYPE = FIXED_LENGTH
RECORD_BYTES = 17100
FILE_RECORDS = 4550
/* Pointers to objects in file */
^IMAGE = "BABB_BEAM_LEVEL2.IMG"
/* Identification keywords */
DATA_SET_ID = "ARCB/NRAO-L-RTLS/GBT-4/5-70CM-V1.0"
PRODUCT_ID = "BABB_BEAM_LEVEL2"
INSTRUMENT_HOST_NAME = {"ARECIBO OBSERVATORY","NATIONAL RADIO ASTRONOMY OBSERVATORY"}
INSTRUMENT_NAME = {"RADIO TELESCOPE","ROBERT C. BYRD GREEN BANK TELESCOPE"}
TARGET_NAME = "MOON"
FEATURE_NAME = "BABBAGE"
LATITUDE = 60.0 /* latitude of center of radar beam */
LONGITUDE = 300.0 /* longitude of center of radar beam */
START_TIME = 2005-02-20T00:35
STOP_TIME = 2005-02-20T01:40
PRODUCT_CREATION_TIME = 2006-06-19
PRODUCER_FULL_NAME = "BRUCE CAMPBELL"
PRODUCER_INSTITUTION_NAME = "SMITHSONIAN INSTITUTION"
TRANSMITTED_POLARIZATION_TYPE = "N/A"
RECEIVED_POLARIZATION_TYPE = "N/A"
CENTER_FREQUENCY = "N/A"
/* Image descriptive information */
OBJECT = IMAGE
  LINES = 4550
  LINE_SAMPLES = 4275
  SAMPLE_TYPE = IEEE_REAL
  SAMPLE_BITS = 32
  UNIT = RADIAN
END_OBJECT
OBJECT = IMAGE_MAP_PROJECTION
  ^DATA_SET_MAP_PROJECTION = "DSMAP.CAT"
  MAP_PROJECTION_TYPE = SINUSOIDAL
  MAP_RESOLUTION = 75.8
  MAP_SCALE = 400
  COORDINATE_SYSTEM_NAME = "PLANETOCENTRIC"
  COORDINATE_SYSTEM_TYPE = "BODY-FIXED ROTATING"
  POSITIVE_LONGITUDE_DIRECTION = EAST
  MAXIMUM_LATITUDE = 80.0
  MINIMUM_LATITUDE = 20.0
  EASTERNMOST_LONGITUDE = 340.0
  WESTERNMOST_LONGITUDE = 280.0
  A_AXIS_RADIUS = 1738.0
  B_AXIS_RADIUS = 1738.0
  C_AXIS_RADIUS = 1738.0
  SAMPLE_FIRST_PIXEL = 1
  SAMPLE_LAST_PIXEL = 4275
  SAMPLE_PROJECTION_OFFSET = 2137.8
  LINE_FIRST_PIXEL = 1
  LINE_LAST_PIXEL = 4550
  LINE_PROJECTION_OFFSET = 6066.7
  FIRST_STANDARD_PARALLEL = "N/A"
  SECOND_STANDARD_PARALLEL = "N/A"
  CENTER_LATITUDE = 0.0
  CENTER_LONGITUDE = 310.0
  REFERENCE_LATITUDE = "N/A"
  REFERENCE_LONGITUDE = "N/A"
  MAP_PROJECTION_ROTATION = 0.0
END_OBJECT
END
