PDS_VERSION_ID = PDS3
/* File characteristics */
RECORD_TYPE = FIXED_LENGTH
RECORD_BYTES = 18200
FILE_RECORDS = 3336
/* Pointers to objects in file */
^IMAGE = "ORIE_RAT_LEVEL2.IMG"
/* Identification keywords */
DATA_SET_ID = "ARCB/NRAO-L-RTLS/GBT-4/5-70CM-V1.0"
PRODUCT_ID = "ORIE_RAT_LEVEL2"
INSTRUMENT_HOST_NAME = {"ARECIBO OBSERVATORY","NATIONAL RADIO ASTRONOMY OBSERVATORY"}
INSTRUMENT_NAME = {"RADIO TELESCOPE","ROBERT C. BYRD GREEN BANK TELESCOPE"}
TARGET_NAME = "MOON"
FEATURE_NAME = "MARE ORIENTALE"
LATITUDE = -20.0 /* latitude of center of radar beam */
LONGITUDE = 270.0 /* longitude of center of radar beam */
START_TIME = 2003-10-21T12:00
STOP_TIME = 2003-10-21T13:59
PRODUCT_CREATION_TIME = 2006-06-05
PRODUCER_FULL_NAME = "BRUCE CAMPBELL"
PRODUCER_INSTITUTION_NAME = "SMITHSONIAN INSTITUTION"
TRANSMITTED_POLARIZATION_TYPE = "N/A"
RECEIVED_POLARIZATION_TYPE = "N/A"
CENTER_FREQUENCY = 430
/* Image descriptive information */
OBJECT = IMAGE
  LINES = 3336
  LINE_SAMPLES = 4550
  SAMPLE_TYPE = IEEE_REAL
  SAMPLE_BITS = 32
  DESCRIPTION = "Pixel values are dimensionless."
END_OBJECT
OBJECT = IMAGE_MAP_PROJECTION
  ^DATA_SET_MAP_PROJECTION = "DSMAP.CAT"
  MAP_PROJECTION_TYPE = SINUSOIDAL
  MAP_RESOLUTION = 75.8
  MAP_SCALE = 400
  COORDINATE_SYSTEM_NAME = "PLANETOCENTRIC"
  COORDINATE_SYSTEM_TYPE = "BODY-FIXED ROTATING"
  POSITIVE_LONGITUDE_DIRECTION = EAST
  MAXIMUM_LATITUDE = 0.0
  MINIMUM_LATITUDE = -44.0
  EASTERNMOST_LONGITUDE = 310.0
  WESTERNMOST_LONGITUDE = 250.0
  A_AXIS_RADIUS = 1738.0
  B_AXIS_RADIUS = 1738.0
  C_AXIS_RADIUS = 1738.0
  SAMPLE_FIRST_PIXEL = 1
  SAMPLE_LAST_PIXEL = 4550
  SAMPLE_PROJECTION_OFFSET = 2275.0
  LINE_FIRST_PIXEL = 1
  LINE_LAST_PIXEL = 3336
  LINE_PROJECTION_OFFSET = 0.0
  FIRST_STANDARD_PARALLEL = "N/A"
  SECOND_STANDARD_PARALLEL = "N/A"
  CENTER_LATITUDE = 0.0
  CENTER_LONGITUDE = 280.0
  REFERENCE_LATITUDE = "N/A"
  REFERENCE_LONGITUDE = "N/A"
  MAP_PROJECTION_ROTATION = 0.0
END_OBJECT
END
