ENVI
description = { Image Gridded from Irregular set of points [Thu Oct 20 17:16:07 2005]}
samples = 1836
lines = 1858
bands = 1
header offset = 0
file type = ENVI Standard
data type = 4
interleave = bsq
sensor type = Unknown
byte order = 1
map info = {UTM, 1.500, 1.500, 555513.903, 4108133.012, 2.0000000000e+00, 2.0000000000e+00, 11, North, units=Meters}
wavelength units = Unknown
