ENVI
description = { Image Gridded from Irregular set of points [Thu Oct 20 11:35:03 2005]}
samples = 1339
lines = 1400
bands = 1
header offset = 0
file type = ENVI Standard
data type = 4
interleave = bsq
sensor type = Unknown
byte order = 1
map info = {UTM, 1.500, 1.500, 583430.154, 4116387.151, 2.0000000000e+00, 2.0000000000e+00, 11, North, WGS-84, units=Meters}
wavelength units = Unknown
