PDS_VERSION_ID = PDS3
/* File characteristics */
RECORD_TYPE = FIXED_LENGTH
RECORD_BYTES = 59204
FILE_RECORDS = 5357
/* Pointers to objects in file */
^IMAGE = "SBAND_04N070_INC.IMG"
/* Identification keywords */
DATA_SET_ID = "ARCB/NRAO-L-RTLS/GBT-5-12.6CM-V1.0"
PRODUCT_ID = "SBAND_04N070_INC"
INSTRUMENT_HOST_NAME = {"ARECIBO OBSERVATORY","NATIONAL RADIO ASTRONOMY OBSERVATORY"}
INSTRUMENT_NAME = {"RADIO TELESCOPE","ROBERT C. BYRD GREEN BANK TELESCOPE"}
TARGET_NAME = "MOON"
LATITUDE = 4 /* latitude of center of radar beam */
LONGITUDE = 70 /* longitude of center of radar beam */
START_TIME = 2008-06-07T21:00:00
STOP_TIME = 2008-06-07T21:32:46
PRODUCT_CREATION_TIME = 2012-11-08T12:00:00
PRODUCER_FULL_NAME = "BRUCE CAMPBELL"
PRODUCER_INSTITUTION_NAME = "SMITHSONIAN INSTITUTION"
TRANSMITTED_POLARIZATION_TYPE = "N/A"
RECEIVED_POLARIZATION_TYPE = "N/A"
CENTER_FREQUENCY = "N/A"
/* Image descriptive information */
OBJECT = IMAGE
  LINES = 5357
  LINE_SAMPLES = 14801
  SAMPLE_TYPE = PC_REAL
  SAMPLE_BITS = 32
  UNIT = RADIAN
  DESCRIPTION = "Map of incidence angle in radians."
END_OBJECT
OBJECT = IMAGE_MAP_PROJECTION
  ^DATA_SET_MAP_PROJECTION = "DSMAP.CAT"
  MAP_PROJECTION_TYPE = "SIMPLE CYLINDRICAL"
  MAP_RESOLUTION = 379.173
  MAP_SCALE = 80.000
  COORDINATE_SYSTEM_NAME = "PLANETOCENTRIC"
  COORDINATE_SYSTEM_TYPE = "BODY-FIXED ROTATING"
  POSITIVE_LONGITUDE_DIRECTION = EAST
  MAXIMUM_LATITUDE = 10.861
  MINIMUM_LATITUDE = -3.2671
  EASTERNMOST_LONGITUDE = 94.9197
  WESTERNMOST_LONGITUDE = 55.8847
  A_AXIS_RADIUS = 1738.0
  B_AXIS_RADIUS = 1738.0
  C_AXIS_RADIUS = 1738.0
  SAMPLE_FIRST_PIXEL = 1
  SAMPLE_LAST_PIXEL = 14801
  SAMPLE_PROJECTION_OFFSET = -21189.462
  LINE_FIRST_PIXEL = 1
  LINE_LAST_PIXEL = 5357
  LINE_PROJECTION_OFFSET = 4118.700
  FIRST_STANDARD_PARALLEL = "N/A"
  SECOND_STANDARD_PARALLEL = "N/A"
  CENTER_LATITUDE = 0.0
  CENTER_LONGITUDE = 0.0
  REFERENCE_LATITUDE = "N/A"
  REFERENCE_LONGITUDE = "N/A"
  MAP_PROJECTION_ROTATION = 0.0
END_OBJECT
END
