PDS_VERSION_ID = PDS3
/* File characteristics */
RECORD_TYPE = FIXED_LENGTH
RECORD_BYTES = 65412
FILE_RECORDS = 6713
/* Pointers to objects in file */
^IMAGE = "SBAND_25N060_ANG.IMG"
/* Identification keywords */
DATA_SET_ID = "ARCB/NRAO-L-RTLS/GBT-5-12.6CM-V1.0"
PRODUCT_ID = "SBAND_25N060_ANG"
INSTRUMENT_HOST_NAME = {"ARECIBO OBSERVATORY","NATIONAL RADIO ASTRONOMY OBSERVATORY"}
INSTRUMENT_NAME = {"RADIO TELESCOPE","ROBERT C. BYRD GREEN BANK TELESCOPE"}
TARGET_NAME = "MOON"
LATITUDE = 25 /* latitude of center of radar beam */
LONGITUDE = 60 /* longitude of center of radar beam */
START_TIME = 2013-05-12T18:45:00
STOP_TIME = 2013-05-12T19:17:46
PRODUCT_CREATION_TIME = 2014-07-18T12:00:00
PRODUCER_FULL_NAME = "BRUCE CAMPBELL"
PRODUCER_INSTITUTION_NAME = "SMITHSONIAN INSTITUTION"
TRANSMITTED_POLARIZATION_TYPE = "N/A"
RECEIVED_POLARIZATION_TYPE = "N/A"
CENTER_FREQUENCY = "N/A"
/* Image descriptive information */
OBJECT = IMAGE
  LINES = 6713
  LINE_SAMPLES = 16353
  SAMPLE_TYPE = PC_REAL
  SAMPLE_BITS = 32
  UNIT = RADIAN
  DESCRIPTION = "Map of beam angle in radians."
END_OBJECT
OBJECT = IMAGE_MAP_PROJECTION
  ^DATA_SET_MAP_PROJECTION = "DSMAP.CAT"
  MAP_PROJECTION_TYPE = "SIMPLE CYLINDRICAL"
  MAP_RESOLUTION = 379.173
  MAP_SCALE = 80.000
  COORDINATE_SYSTEM_NAME = "PLANETOCENTRIC"
  COORDINATE_SYSTEM_TYPE = "BODY-FIXED ROTATING"
  POSITIVE_LONGITUDE_DIRECTION = EAST
  MAXIMUM_LATITUDE = 34.7884
  MINIMUM_LATITUDE = 17.084
  EASTERNMOST_LONGITUDE = 86.3718
  WESTERNMOST_LONGITUDE = 43.2438
  A_AXIS_RADIUS = 1738.0
  B_AXIS_RADIUS = 1738.0
  C_AXIS_RADIUS = 1738.0
  SAMPLE_FIRST_PIXEL = 1
  SAMPLE_LAST_PIXEL = 16353
  SAMPLE_PROJECTION_OFFSET = -16396.354
  LINE_FIRST_PIXEL = 1
  LINE_LAST_PIXEL = 6713
  LINE_PROJECTION_OFFSET = 13191.301
  FIRST_STANDARD_PARALLEL = "N/A"
  SECOND_STANDARD_PARALLEL = "N/A"
  CENTER_LATITUDE = 0.0
  CENTER_LONGITUDE = 0.0
  REFERENCE_LATITUDE = "N/A"
  REFERENCE_LONGITUDE = "N/A"
  MAP_PROJECTION_ROTATION = 0.0
END_OBJECT
END
