PDS_VERSION_ID = PDS3
/* File characteristics */
RECORD_TYPE = FIXED_LENGTH
RECORD_BYTES = 30032
FILE_RECORDS = 7764
/* Pointers to objects in file */
^IMAGE = "SBAND_32S000_SCP.IMG"
/* Identification keywords */
DATA_SET_ID = "ARCB/NRAO-L-RTLS/GBT-5-12.6CM-V1.0"
PRODUCT_ID = "SBAND_32S000_SCP"
INSTRUMENT_HOST_NAME = {"ARECIBO OBSERVATORY","NATIONAL RADIO ASTRONOMY OBSERVATORY"}
INSTRUMENT_NAME = {"RADIO TELESCOPE","ROBERT C. BYRD GREEN BANK TELESCOPE"}
TARGET_NAME = "MOON"
LATITUDE = -32 /* latitude of center of radar beam */
LONGITUDE = 0 /* longitude of center of radar beam */
START_TIME = 2013-05-11T18:35:00
STOP_TIME = 2013-05-11T19:04:00
PRODUCT_CREATION_TIME = 2016-01-31T12:00:00
PRODUCER_FULL_NAME = "BRUCE CAMPBELL"
PRODUCER_INSTITUTION_NAME = "SMITHSONIAN INSTITUTION"
TRANSMITTED_POLARIZATION_TYPE = "LEFT CIRCULAR"
RECEIVED_POLARIZATION_TYPE = "LEFT CIRCULAR"
CENTER_FREQUENCY = 2380
/* Image descriptive information */
OBJECT = IMAGE
  LINES = 7764
  LINE_SAMPLES = 7508
  SAMPLE_TYPE = PC_REAL
  SAMPLE_BITS = 32
  DESCRIPTION = "Same-sense circular polarization image. Pixel values are dimensionless backscatter coefficients."
END_OBJECT
OBJECT = IMAGE_MAP_PROJECTION
  ^DATA_SET_MAP_PROJECTION = "DSMAP.CAT"
  MAP_PROJECTION_TYPE = "SIMPLE CYLINDRICAL"
  MAP_RESOLUTION = 379.173
  MAP_SCALE = 80.000
  COORDINATE_SYSTEM_NAME = "PLANETOCENTRIC"
  COORDINATE_SYSTEM_TYPE = "BODY-FIXED ROTATING"
  POSITIVE_LONGITUDE_DIRECTION = EAST
  MAXIMUM_LATITUDE = -21.5417
  MINIMUM_LATITUDE = -42.0179
  EASTERNMOST_LONGITUDE = 9.3638
  WESTERNMOST_LONGITUDE = -10.4372
  A_AXIS_RADIUS = 1738.0
  B_AXIS_RADIUS = 1738.0
  C_AXIS_RADIUS = 1738.0
  SAMPLE_FIRST_PIXEL = 1
  SAMPLE_LAST_PIXEL = 7508
  SAMPLE_PROJECTION_OFFSET = -3957.504436
  LINE_FIRST_PIXEL = 1
  LINE_LAST_PIXEL = 7764
  LINE_PROJECTION_OFFSET = -8168.031014
  FIRST_STANDARD_PARALLEL = "N/A"
  SECOND_STANDARD_PARALLEL = "N/A"
  CENTER_LATITUDE = 0.0
  CENTER_LONGITUDE = 0.0
  REFERENCE_LATITUDE = "N/A"
  REFERENCE_LONGITUDE = "N/A"
  MAP_PROJECTION_ROTATION = 0.0
END_OBJECT
END
