PDS_VERSION_ID = PDS3
/* File characteristics */
RECORD_TYPE = FIXED_LENGTH
RECORD_BYTES = 30344
FILE_RECORDS = 8291
/* Pointers to objects in file */
^IMAGE = "SBAND_43N351_SCP.IMG"
/* Identification keywords */
DATA_SET_ID = "ARCB/NRAO-L-RTLS/GBT-5-12.6CM-V1.0"
PRODUCT_ID = "SBAND_43N351_SCP"
INSTRUMENT_HOST_NAME = {"ARECIBO OBSERVATORY","NATIONAL RADIO ASTRONOMY OBSERVATORY"}
INSTRUMENT_NAME = {"RADIO TELESCOPE","ROBERT C. BYRD GREEN BANK TELESCOPE"}
TARGET_NAME = "MOON"
LATITUDE = 43.0 /* latitude of center of radar beam */
LONGITUDE = -9.0 /* longitude of center of radar beam */
START_TIME = 2010-01-25T23:09:00
STOP_TIME = 2010-01-25T23:37:38
PRODUCT_CREATION_TIME = 2015-10-20T12:00:00
PRODUCER_FULL_NAME = "BRUCE CAMPBELL"
PRODUCER_INSTITUTION_NAME = "SMITHSONIAN INSTITUTION"
TRANSMITTED_POLARIZATION_TYPE = "LEFT CIRCULAR"
RECEIVED_POLARIZATION_TYPE = "LEFT CIRCULAR"
CENTER_FREQUENCY = 2380
/* Image descriptive information */
OBJECT = IMAGE
  LINES = 8291
  LINE_SAMPLES = 7586
  SAMPLE_TYPE = PC_REAL
  SAMPLE_BITS = 32
  DESCRIPTION = "Same-sense circular polarization image. Pixel values are dimensionless backscatter coefficients."
END_OBJECT
OBJECT = IMAGE_MAP_PROJECTION
  ^DATA_SET_MAP_PROJECTION = "DSMAP.CAT"
  MAP_PROJECTION_TYPE = "SIMPLE CYLINDRICAL"
  MAP_RESOLUTION = 379.173
  MAP_SCALE = 80.000
  COORDINATE_SYSTEM_NAME = "PLANETOCENTRIC"
  COORDINATE_SYSTEM_TYPE = "BODY-FIXED ROTATING"
  POSITIVE_LONGITUDE_DIRECTION = EAST
  MAXIMUM_LATITUDE = 56.0966
  MINIMUM_LATITUDE = 34.2259
  EASTERNMOST_LONGITUDE = 1.5224
  WESTERNMOST_LONGITUDE = -18.4886
  A_AXIS_RADIUS = 1738.0
  B_AXIS_RADIUS = 1738.0
  C_AXIS_RADIUS = 1738.0
  SAMPLE_FIRST_PIXEL = 1
  SAMPLE_LAST_PIXEL = 7586
  SAMPLE_PROJECTION_OFFSET = 7010.378461
  LINE_FIRST_PIXEL = 1
  LINE_LAST_PIXEL = 8291
  LINE_PROJECTION_OFFSET = 21270.33482
  FIRST_STANDARD_PARALLEL = "N/A"
  SECOND_STANDARD_PARALLEL = "N/A"
  CENTER_LATITUDE = 0.0
  CENTER_LONGITUDE = 0.0
  REFERENCE_LATITUDE = "N/A"
  REFERENCE_LONGITUDE = "N/A"
  MAP_PROJECTION_ROTATION = 0.0
END_OBJECT
END
