PDS_VERSION_ID = PDS3
/* File characteristics */
RECORD_TYPE = FIXED_LENGTH
RECORD_BYTES = 96572
FILE_RECORDS = 13667
/* Pointers to objects in file */
^IMAGE = "SBAND_57S325_ANG.IMG"
/* Identification keywords */
DATA_SET_ID = "ARCB/NRAO-L-RTLS/GBT-5-12.6CM-V1.0"
PRODUCT_ID = "SBAND_57S325_ANG"
INSTRUMENT_HOST_NAME = {"ARECIBO OBSERVATORY","NATIONAL RADIO ASTRONOMY OBSERVATORY"}
INSTRUMENT_NAME = {"RADIO TELESCOPE","ROBERT C. BYRD GREEN BANK TELESCOPE"}
TARGET_NAME = "MOON"
LATITUDE = -57 /* latitude of center of radar beam */
LONGITUDE = -35 /* longitude of center of radar beam */
START_TIME = 2009-09-12T12:09:00
STOP_TIME = 2009-09-12T12:38:00
PRODUCT_CREATION_TIME = 2016-01-31T12:00:00
PRODUCER_FULL_NAME = "BRUCE CAMPBELL"
PRODUCER_INSTITUTION_NAME = "SMITHSONIAN INSTITUTION"
TRANSMITTED_POLARIZATION_TYPE = "N/A"
RECEIVED_POLARIZATION_TYPE = "N/A"
CENTER_FREQUENCY = "N/A"
/* Image descriptive information */
OBJECT = IMAGE
  LINES = 13667
  LINE_SAMPLES = 24143
  SAMPLE_TYPE = PC_REAL
  SAMPLE_BITS = 32
  UNIT = RADIAN
  DESCRIPTION = "Map of beam angle in radians."
END_OBJECT
OBJECT = IMAGE_MAP_PROJECTION
  ^DATA_SET_MAP_PROJECTION = "DSMAP.CAT"
  MAP_PROJECTION_TYPE = "SIMPLE CYLINDRICAL"
  MAP_RESOLUTION = 379.173
  MAP_SCALE = 80.000
  COORDINATE_SYSTEM_NAME = "PLANETOCENTRIC"
  COORDINATE_SYSTEM_TYPE = "BODY-FIXED ROTATING"
  POSITIVE_LONGITUDE_DIRECTION = EAST
  MAXIMUM_LATITUDE = -41.668
  MINIMUM_LATITUDE = -77.7122
  EASTERNMOST_LONGITUDE = -18.2913
  WESTERNMOST_LONGITUDE = -81.9641
  A_AXIS_RADIUS = 1738.0
  B_AXIS_RADIUS = 1738.0
  C_AXIS_RADIUS = 1738.0
  SAMPLE_FIRST_PIXEL = 1
  SAMPLE_LAST_PIXEL = 24143
  SAMPLE_PROJECTION_OFFSET = -31078.57369
  LINE_FIRST_PIXEL = 1
  LINE_LAST_PIXEL = 13667
  LINE_PROJECTION_OFFSET = -15799.38056
  FIRST_STANDARD_PARALLEL = "N/A"
  SECOND_STANDARD_PARALLEL = "N/A"
  CENTER_LATITUDE = -59.6901
  CENTER_LONGITUDE = -50.1277
  REFERENCE_LATITUDE = "N/A"
  REFERENCE_LONGITUDE = "N/A"
  MAP_PROJECTION_ROTATION = 0.0
END_OBJECT
END
