PDS_VERSION_ID = PDS3
/* File Characteristics */
RECORD_TYPE = FIXED_LENGTH
RECORD_BYTES = 32000
FILE_RECORDS = 2000
/* Pointers to Data Objects */
^IMAGE = "SOUTH_POLE_MOSAIC.IMG"
/* Identification Data Elements */
DATA_SET_ID = "GDSCC-L-DSS14/DSS13/DSS15/DSS25-5-V1.0"
PRODUCT_ID = "SOUTH_POLE_MOSAIC"
PRODUCT_VERSION_ID = "1.0"
INSTRUMENT_HOST_NAME = "GOLDSTONE DEEP SPACE COMMUNICATIONS COMPLEX"
INSTRUMENT_NAME = ("GOLDSTONE DEEP SPACE NETWORK ANTENNA DSS-14", "GOLDSTONE DEEP SPACE NETWORK ANTENNA DSS-13", "GOLDSTONE DEEP SPACE NETWORK ANTENNA DSS-15", "GOLDSTONE DEEP SPACE NETWORK ANTENNA DSS-25")
TARGET_NAME = "MOON"
START_TIME = 1997-10-06T20:30:00
STOP_TIME = 1997-10-06T22:10:00
PRODUCT_CREATION_TIME = 2011-09-01T12:59:00
PRODUCER_FULL_NAME = "MICHAEL BUSCH"
PRODUCER_INSTITUTION_NAME = "UNIVERSITY OF CALIFORNIA, LOS ANGELES"
/* Descriptive Data Elements */
OBJECT = IMAGE
  LINES = 2000
  LINE_SAMPLES = 8000
  SAMPLE_BITS = 32
  SAMPLE_TYPE = PC_REAL
  MISSING_CONSTANT = -25000
  DESCRIPTION = "This is a digital elevation model (DEM) of a region approximately 1200 x 300 km in area at the lunar south pole. Elevation data at 200 pixels per degree of latitude (~150 m spatial resolution) were obtained with radar interferometry from the Goldstone Solar System Radar in October 1997, as described in MARGOTETAL2000. Delay-Doppler radar images were converted to latitude and longitude using the lunar spin state and prime meridian as specified by the DE405 planetary ephemeris. Elevations are given in meters with respect to a 1737.4 km sphere. Absolute elevations were obtained by comparison with Lunar Reconnaissance Orbiter laser altimetry data (LOLA, NEUMANN2010); a single elevation offset was applied to the radar DEM to minimize (in a least square sense) the differences in elevations with ~300,000 LOLA RDR points throughout the region. We checked for horizontal offsets between the LOLA points, which were produced using the DE421 ephemeris; the two datasets match horizontally to <100 m. No corrections for large-scale slopes in the elevation offsets were applied. Geocoding corrections have not been applied to this data set, so residual errors due to foreshortening remain, with the largest errors (300 m) in areas with elevations farthest from the 1737.4 km reference radius. The median geocoding error is ~100 m. Elevation errors due to noise in the interferometric phase estimates are also of order 100 m. In small, isolated areas (<1% of the map), larger errors due to incorrect phase unwrapping remain. The DEM is formatted as a 8000 x 2000 array in a polar stereographic projection, with the south pole at (x,y) = (4000.5,900.5) (one-based convention). Each cell contains either an elevation measurement or a null value (set to -25000 m). Null values represent areas that were either shadowed from the radar, provided too weak an echo for a reliable elevation measurement, were not simply connected to the rest of the map, or where the data are simply missing."
END_OBJECT = IMAGE
OBJECT = IMAGE_MAP_PROJECTION
  ^DATA_SET_MAP_PROJECTION = "DSMAP_POLAR.CAT"
  MAP_PROJECTION_TYPE = "POLAR STEREOGRAPHIC"
  MINIMUM_LATITUDE = -90.0
  MAXIMUM_LATITUDE = -70.0
  EASTERNMOST_LONGITUDE = 360.0
  WESTERNMOST_LONGITUDE = 0.0
  POSITIVE_LONGITUDE_DIRECTION = "EAST"
  CENTER_LATITUDE = -90.0
  CENTER_LONGITUDE = 0.0
  COORDINATE_SYSTEM_NAME = "PLANETOCENTRIC"
  COORDINATE_SYSTEM_TYPE = "BODY-FIXED ROTATING"
  MAP_PROJECTION_ROTATION = 0.0
  MAP_RESOLUTION = 200
  MAP_SCALE = 151.62
  A_AXIS_RADIUS = 1737.4
  B_AXIS_RADIUS = 1737.4
  C_AXIS_RADIUS = 1737.4
  LINE_FIRST_PIXEL = 1
  LINE_LAST_PIXEL = 2000
  LINE_PROJECTION_OFFSET = 900.5
  SAMPLE_FIRST_PIXEL = 1
  SAMPLE_LAST_PIXEL = 8000
  SAMPLE_PROJECTION_OFFSET = 4000.5
END_OBJECT = IMAGE_MAP_PROJECTION
END
