<?xml version="1.0" encoding="UTF-8"?>
<?xml-model href="https://pds.nasa.gov/pds4/pds/v1/PDS4_PDS_1800.sch" schematypens="http://purl.oclc.org/dsdl/schematron"?>
<?xml-model href="https://pds.nasa.gov/pds4/cart/v1/PDS4_CART_1700.sch" schematypens="http://purl.oclc.org/dsdl/schematron"?>
<?xml-model href="https://pds.nasa.gov/pds4/disp/v1/PDS4_DISP_1700.sch" schematypens="http://purl.oclc.org/dsdl/schematron"?>
<Product_Observational
 xmlns="http://pds.nasa.gov/pds4/pds/v1"
 xmlns:disp="http://pds.nasa.gov/pds4/disp/v1"
 xmlns:cart="http://pds.nasa.gov/pds4/cart/v1"
 xmlns:xsi="http://www.w3.org/2001/XMLSchema-instance"
 xsi:schemaLocation="http://pds.nasa.gov/pds4/pds/v1 https://pds.nasa.gov/pds4/pds/v1/PDS4_PDS_1800.xsd 
                     http://pds.nasa.gov/pds4/disp/v1 https://pds.nasa.gov/pds4/disp/v1/PDS4_DISP_1700.xsd 
                     http://pds.nasa.gov/pds4/cart/v1 https://pds.nasa.gov/pds4/cart/v1/PDS4_CART_1700.xsd">
 <Identification_Area>
  <logical_identifier>urn:nasa:pds:trang2017_mercury_space_weathering:data:npc_error</logical_identifier>
  <version_id>1.0</version_id>
  <title>Mercury Space Weathering Map: Nanophase Amorphous Carbon Error Map</title>
  <information_model_version>1.8.0.0</information_model_version>
  <product_class>Product_Observational</product_class>
  <Modification_History>
   <Modification_Detail>
    <modification_date>2019-02-21</modification_date>
    <version_id>1.0</version_id>
    <description>Draft by D. Trang and S. Slavney</description>
   </Modification_Detail>
   <Modification_Detail>
    <modification_date>2019-07-05</modification_date>
    <version_id>1.0</version_id>
    <description>Edited bounding coordinates in label.</description>
   </Modification_Detail>
  </Modification_History>
 </Identification_Area>
 <Observation_Area>
  <Time_Coordinates>
   <start_date_time>2004-08-13Z</start_date_time>
   <stop_date_time>2015-04-30Z</stop_date_time>
  </Time_Coordinates>
  <Primary_Result_Summary>
   <purpose>Science</purpose>
   <processing_level>Derived</processing_level>
   <description>This map, which is one of six space weathering abundance error maps of Mercury, displays the L1 (1.4826*median absolute difference) scale of the median nanophase amorphous carbon abundance.</description>
  </Primary_Result_Summary>
  <Investigation_Area>
   <name>MESSENGER</name>
   <type>Mission</type>
   <Internal_Reference>
    <lid_reference>urn:nasa:pds:context:investigation:mission.messenger</lid_reference>
    <reference_type>data_to_investigation</reference_type>
   </Internal_Reference>
  </Investigation_Area>
  <Observing_System>
   <name>MESSENGER VIRS</name>
   <Observing_System_Component>
    <name>MESSENGER</name>
    <type>Spacecraft</type>
    <Internal_Reference>
     <lid_reference>urn:nasa:pds:context:instrument_host:spacecraft.mess</lid_reference>
     <reference_type>is_instrument_host</reference_type>
    </Internal_Reference>
   </Observing_System_Component>
   <Observing_System_Component>
    <name>MASCS</name>
    <type>Instrument</type>
    <Internal_Reference>
     <lid_reference>urn:nasa:pds:context:instrument:mascs.mess</lid_reference>
     <reference_type>is_instrument</reference_type>
    </Internal_Reference>
   </Observing_System_Component>
  </Observing_System>
  <Target_Identification>
   <name>Mercury</name>
   <type>Planet</type>
   <Internal_Reference>
    <lid_reference>urn:nasa:pds:context:target:planet.mercury</lid_reference>
    <reference_type>data_to_target</reference_type>
   </Internal_Reference>
  </Target_Identification>
  <Discipline_Area>
   <disp:Display_Settings>
    <Local_Internal_Reference>
     <local_identifier_reference>NPC_Error</local_identifier_reference>
     <local_reference_type>display_settings_to_array</local_reference_type>
    </Local_Internal_Reference>
    <disp:Display_Direction>
     <disp:horizontal_display_axis>Sample</disp:horizontal_display_axis>
     <disp:horizontal_display_direction>Left to Right</disp:horizontal_display_direction>
     <disp:vertical_display_axis>Line</disp:vertical_display_axis>
     <disp:vertical_display_direction>Top to Bottom</disp:vertical_display_direction>
    </disp:Display_Direction>
   </disp:Display_Settings>
   <cart:Cartography>
    <cart:Spatial_Domain>
     <cart:Bounding_Coordinates>
      <cart:west_bounding_coordinate
       unit="deg">-180.0</cart:west_bounding_coordinate>
      <cart:east_bounding_coordinate
       unit="deg">180.0</cart:east_bounding_coordinate>
      <cart:north_bounding_coordinate
       unit="deg">90.0</cart:north_bounding_coordinate>
      <cart:south_bounding_coordinate
       unit="deg">-90.0</cart:south_bounding_coordinate>
     </cart:Bounding_Coordinates>
    </cart:Spatial_Domain>
    <cart:Spatial_Reference_Information>
     <cart:Horizontal_Coordinate_System_Definition>
      <cart:Planar>
       <cart:Map_Projection>
        <cart:map_projection_name>Equirectangular</cart:map_projection_name>
        <cart:Equirectangular>
         <cart:standard_parallel_1
          unit="deg">0</cart:standard_parallel_1>
         <cart:longitude_of_central_meridian
          unit="deg">0.0</cart:longitude_of_central_meridian>
         <cart:latitude_of_projection_origin
          unit="deg">0.0</cart:latitude_of_projection_origin>
        </cart:Equirectangular>
       </cart:Map_Projection>
       <cart:Planar_Coordinate_Information>
        <cart:planar_coordinate_encoding_method>Coordinate Pair</cart:planar_coordinate_encoding_method>
        <cart:Coordinate_Representation>
         <cart:pixel_resolution_x unit="m/pixel">21290.398880453</cart:pixel_resolution_x>
         <cart:pixel_resolution_y unit="m/pixel">21290.398880453</cart:pixel_resolution_y>
         <cart:pixel_scale_x unit="pixel/deg">2.0</cart:pixel_scale_x>
         <cart:pixel_scale_y unit="pixel/deg">2.0</cart:pixel_scale_y>
        </cart:Coordinate_Representation>
       </cart:Planar_Coordinate_Information>
       <cart:Geo_Transformation>
        <cart:upperleft_corner_x unit="m">-7675188.7964032</cart:upperleft_corner_x>
        <cart:upperleft_corner_y unit="m">3842916.9979217</cart:upperleft_corner_y>
       </cart:Geo_Transformation>
      </cart:Planar>
      <cart:Geodetic_Model>
       <cart:latitude_type>planetocentric</cart:latitude_type>
       <cart:semi_major_radius unit="m">2439700.0</cart:semi_major_radius>
       <cart:semi_minor_radius unit="m">2439700.0</cart:semi_minor_radius>
       <cart:polar_radius unit="m">2439700.0</cart:polar_radius>
       <cart:longitude_direction>Positive East</cart:longitude_direction>
      </cart:Geodetic_Model>
     </cart:Horizontal_Coordinate_System_Definition>
    </cart:Spatial_Reference_Information>
   </cart:Cartography>
  </Discipline_Area>
 </Observation_Area>
 <Reference_List>
  <Internal_Reference>
   <lid_reference>urn:nasa:pds:trang2017_mercury_space_weathering:document:mercury_spaceweathering_map_document</lid_reference>
   <reference_type>data_to_document</reference_type>
   <comment>Description of the space weathering maps and the map derivation.</comment>
  </Internal_Reference>
  <External_Reference>
   <doi>10.1016/j.icarus.2017.04.026</doi>
   <reference_text>Trang, D., P. G. Lucey, and N. R. Izenberg (2017), Radiative transfer modeling of MESSENGER VIRS spectra: Detection and mapping of submicroscopic iron and carbon, Icarus, 293, 206-217.</reference_text>
  </External_Reference>
 </Reference_List>
 <File_Area_Observational>
  <File>
   <file_name>mess_virs_derived_npc_err.img</file_name>
   <comment>This product shows the L1 scale of the median (error) of the global nanophase amorphous carbon abundance in wt% of Mercury </comment>
  </File>
  <Array_2D_Map>
   <local_identifier>NPC_Error</local_identifier>
   <offset unit="byte">0</offset>
   <axes>2</axes>
   <axis_index_order>Last Index Fastest</axis_index_order>
   <Element_Array>
    <data_type>IEEE754LSBSingle</data_type>
    <scaling_factor>1.0</scaling_factor>
    <value_offset>0.0</value_offset>
   </Element_Array>
   <Axis_Array>
    <axis_name>Line</axis_name>
    <elements>360</elements>
    <sequence_number>1</sequence_number>
   </Axis_Array>
   <Axis_Array>
    <axis_name>Sample</axis_name>
    <elements>720</elements>
    <sequence_number>2</sequence_number>
   </Axis_Array>
  </Array_2D_Map>
 </File_Area_Observational>
 <File_Area_Observational_Supplemental>
  <File>
   <file_name>mess_virs_derived_npc_err.hdr</file_name>
   <comment>Supplemental information used to display image with ENVI commercial software.</comment>
  </File>
  <Stream_Text>
   <offset unit="byte">0</offset>
   <parsing_standard_id>7-Bit ASCII Text</parsing_standard_id>
   <record_delimiter>Carriage-Return Line-Feed</record_delimiter>
  </Stream_Text>
 </File_Area_Observational_Supplemental>
</Product_Observational>
