<?xml version="1.0" encoding="UTF-8" standalone="no"?>
<?xml-model href="https://pds.nasa.gov/pds4/pds/v1/PDS4_PDS_1I00.sch" schematypens="http://purl.oclc.org/dsdl/schematron"?>
<?xml-model href="https://pds.nasa.gov/pds4/disp/v1/PDS4_DISP_1I00_1510.sch" schematypens="http://purl.oclc.org/dsdl/schematron"?>
<?xml-model href="https://pds.nasa.gov/pds4/cart/v1/PDS4_CART_1I00_1960.sch" schematypens="http://purl.oclc.org/dsdl/schematron"?>
<Product_Observational xmlns="http://pds.nasa.gov/pds4/pds/v1" 
    xmlns:cart="http://pds.nasa.gov/pds4/cart/v1" 
    xmlns:disp="http://pds.nasa.gov/pds4/disp/v1" 
    xmlns:xsi="http://www.w3.org/2001/XMLSchema-instance" 
    xsi:schemaLocation="http://pds.nasa.gov/pds4/pds/v1 https://pds.nasa.gov/pds4/pds/v1/PDS4_PDS_1I00.xsd   http://pds.nasa.gov/pds4/disp/v1 https://pds.nasa.gov/pds4/disp/v1/PDS4_DISP_1I00_1510.xsd   http://pds.nasa.gov/pds4/cart/v1 https://pds.nasa.gov/pds4/cart/v1/PDS4_CART_1I00_1960.xsd">
  <Identification_Area>
    <logical_identifier>urn:nasa:pds:grail_gravity_derived:data_rsdmap:jggrx_0660b_anom_l320</logical_identifier>
    <version_id>1.0</version_id>
    <title>GRAIL Gravity Image: jggrx_0660b_anom_l320</title>
    <information_model_version>1.18.0.0</information_model_version>
    <product_class>Product_Observational</product_class>
    <Modification_History>
      <Modification_Detail>
        <modification_date>2022-08-10</modification_date>
        <version_id>1.0</version_id>
        <description>PDS4 migrated product.</description>
      </Modification_Detail>
    </Modification_History>
  </Identification_Area>
  <Observation_Area>
    <Time_Coordinates>
      <start_date_time>2012-03-01T16:28:00.000Z</start_date_time>
      <stop_date_time>2012-05-29T16:36:00.000Z</stop_date_time>
    </Time_Coordinates>
    <Investigation_Area>
      <name>Gravity Recovery and Interior Laboratory</name>
      <type>Mission</type>
      <Internal_Reference>
        <lid_reference>urn:nasa:pds:context:investigation:mission.gravity_recovery_and_interior_laboratory</lid_reference>
        <reference_type>data_to_investigation</reference_type>
      </Internal_Reference>
    </Investigation_Area>
    <Observing_System>
      <Observing_System_Component>
        <name>Gravity Recovery and Interior Laboratory A</name>
        <type>Host</type>
        <Internal_Reference>
          <lid_reference>urn:nasa:pds:context:instrument_host:spacecraft.grail-a</lid_reference>
          <reference_type>is_instrument_host</reference_type>
        </Internal_Reference>
      </Observing_System_Component>
      <Observing_System_Component>
        <name>Gravity Recovery and Interior Laboratory B</name>
        <type>Host</type>
        <Internal_Reference>
          <lid_reference>urn:nasa:pds:context:instrument_host:spacecraft.grail-b</lid_reference>
          <reference_type>is_instrument_host</reference_type>
        </Internal_Reference>
      </Observing_System_Component>
      <Observing_System_Component>
        <name>Lunar Gravity Ranging System A for GRAIL-A</name>
        <type>Instrument</type>
        <Internal_Reference>
          <lid_reference>urn:nasa:pds:context:instrument:grail-a.lgrs-a</lid_reference>
          <reference_type>is_instrument</reference_type>
        </Internal_Reference>
      </Observing_System_Component>
      <Observing_System_Component>
        <name>Lunar Gravity Ranging System B for GRAIL-B</name>
        <type>Instrument</type>
        <Internal_Reference>
          <lid_reference>urn:nasa:pds:context:instrument:grail-b.lgrs-b</lid_reference>
          <reference_type>is_instrument</reference_type>
        </Internal_Reference>
      </Observing_System_Component>
    </Observing_System>
    <Target_Identification>
      <name>Moon</name>
      <type>Satellite</type>
      <Internal_Reference>
        <lid_reference>urn:nasa:pds:context:target:satellite.earth.moon</lid_reference>
        <reference_type>data_to_target</reference_type>
      </Internal_Reference>
    </Target_Identification>
    <Discipline_Area>
      <disp:Display_Settings>
        <Local_Internal_Reference>
          <local_identifier_reference>map_object</local_identifier_reference>
          <local_reference_type>display_settings_to_array</local_reference_type>
        </Local_Internal_Reference>
        <disp:Display_Direction>
          <disp:horizontal_display_axis>Sample</disp:horizontal_display_axis>
          <disp:horizontal_display_direction>Left to Right</disp:horizontal_display_direction>
          <disp:vertical_display_axis>Line</disp:vertical_display_axis>
          <disp:vertical_display_direction>Top to Bottom</disp:vertical_display_direction>
        </disp:Display_Direction>
      </disp:Display_Settings>
      <cart:Cartography>
        <Local_Internal_Reference>
          <local_identifier_reference>map_object</local_identifier_reference>
          <local_reference_type>cartography_parameters_to_image_object</local_reference_type>
        </Local_Internal_Reference>
        <cart:Spatial_Domain>
          <cart:Bounding_Coordinates>
            <cart:west_bounding_coordinate unit="deg">-180.0</cart:west_bounding_coordinate>
            <cart:east_bounding_coordinate unit="deg">180.0</cart:east_bounding_coordinate>
            <cart:north_bounding_coordinate unit="deg">90.0</cart:north_bounding_coordinate>
            <cart:south_bounding_coordinate unit="deg">-90.0</cart:south_bounding_coordinate>
          </cart:Bounding_Coordinates>
        </cart:Spatial_Domain>
        <cart:Spatial_Reference_Information>
          <cart:Horizontal_Coordinate_System_Definition>
            <cart:Planar>
              <cart:Map_Projection>
                <cart:map_projection_name>Equirectangular</cart:map_projection_name>
                <cart:Equirectangular>
                  <cart:latitude_of_projection_origin unit="deg">0.0</cart:latitude_of_projection_origin>
                  <cart:standard_parallel_1 unit="deg">0.0</cart:standard_parallel_1>
                  <cart:longitude_of_central_meridian unit="deg">0.0</cart:longitude_of_central_meridian>
                </cart:Equirectangular>
              </cart:Map_Projection>
              <cart:Planar_Coordinate_Information>
                <cart:planar_coordinate_encoding_method>Coordinate Pair</cart:planar_coordinate_encoding_method>
                <cart:Coordinate_Representation>
                  <cart:pixel_resolution_x unit="m/pixel">7583.4556</cart:pixel_resolution_x>
                  <cart:pixel_resolution_y unit="m/pixel">7583.4556</cart:pixel_resolution_y>
                  <cart:pixel_scale_x unit="pixel/deg">4.0</cart:pixel_scale_x>
                  <cart:pixel_scale_y unit="pixel/deg">4.0</cart:pixel_scale_y>
                </cart:Coordinate_Representation>
              </cart:Planar_Coordinate_Information>
              <cart:Geo_Transformation>
                <cart:upperleft_corner_x unit="m">2730044.02</cart:upperleft_corner_x>
                <cart:upperleft_corner_y unit="m">-5460088.03</cart:upperleft_corner_y>
              </cart:Geo_Transformation>
            </cart:Planar>
            <cart:Geodetic_Model>
              <cart:latitude_type>Planetocentric</cart:latitude_type>
              <cart:a_axis_radius unit="km">1738.0</cart:a_axis_radius>
              <cart:b_axis_radius unit="km">1738.0</cart:b_axis_radius>
              <cart:c_axis_radius unit="km">1738.0</cart:c_axis_radius>
              <cart:longitude_direction>Positive East</cart:longitude_direction>
              <cart:coordinate_system_type>Body-fixed Rotating</cart:coordinate_system_type>
            </cart:Geodetic_Model>
          </cart:Horizontal_Coordinate_System_Definition>
        </cart:Spatial_Reference_Information>
      </cart:Cartography>
    </Discipline_Area>
  </Observation_Area>
  <File_Area_Observational>
    <File>
      <file_name>jggrx_0660b_anom_l320.img</file_name>
      <creation_date_time>2013-02-05T00:00:00.000</creation_date_time>
      <comment>This file contains a digital map of the gravity anomaly derived from
 the JPL GL0660B model of the Moon's gravity field. Each point gives the
 Lunar gravity anomaly in milligals, which is the difference of the model
 gravity on the geoid from the gravity on a reference sphere
 with semi-major-axis = 1738.0 km, GM = 4902.8003055554 km**3/s**2,
 and zero rotation rate.
 
 The JGGRX_0660B_ANOM_320 gravity anomaly is computed from a truncated
 GL0660B solution (from degree 2 up to degree 320).
 
 The reference for the GL0660B gravity field is KONOPLIVETAL2013, 
 published in the Journal of Geophysical Research with the DOI number
 0.1002/jgre.20097.
      </comment>
    </File>
    <Array_2D_Image>
      <local_identifier>map_object</local_identifier>
      <offset unit="byte">0</offset>
      <axes>2</axes>
      <axis_index_order>Last Index Fastest</axis_index_order>
      <description>The Digital Map contains
   values of the gravity anomaly. The values can be obtained
   by multiplying the sample in the map by SCALING_FACTOR
   and then adding OFFSET. One milligal equals 0.01 mm/s/s.
      </description>
      <Element_Array>
        <data_type>IEEE754LSBSingle</data_type>
        <unit>MILLIGALS</unit>
        <scaling_factor>1.0</scaling_factor>
        <value_offset>0.0</value_offset>
      </Element_Array>
      <Axis_Array>
        <axis_name>Line</axis_name>
        <elements>721</elements>
        <sequence_number>1</sequence_number>
      </Axis_Array>
      <Axis_Array>
        <axis_name>Sample</axis_name>
        <elements>1440</elements>
        <sequence_number>2</sequence_number>
      </Axis_Array>
    </Array_2D_Image>
  </File_Area_Observational>
  <File_Area_Observational_Supplemental>
    <File>
      <file_name>jggrx_0660b_anom_l320.lbl</file_name>
    </File>
    <Stream_Text>
      <offset unit="byte">0</offset>
      <parsing_standard_id>PDS3</parsing_standard_id>
      <description>Original PDS3 label</description>
      <record_delimiter>Carriage-Return Line-Feed</record_delimiter>
    </Stream_Text>
  </File_Area_Observational_Supplemental>
</Product_Observational>
