<?xml version="1.0" encoding="utf-8"?>
<?xml-model href="https://pds.nasa.gov/pds4/pds/v1/PDS4_PDS_1J00.sch" schematypens="http://purl.oclc.org/dsdl/schematron"?>
<?xml-model href="https://pds.nasa.gov/pds4/disp/v1/PDS4_DISP_1J00_1510.sch" schematypens="http://purl.oclc.org/dsdl/schematron"?>
<?xml-model href="https://pds.nasa.gov/pds4/cart/v1/PDS4_CART_1J00_1970.sch" schematypens="http://purl.oclc.org/dsdl/schematron"?>
<?xml-model href="https://pds.nasa.gov/pds4/mission/lro/v1/PDS4_LRO_1J00_1020.sch" schematypens="http://purl.oclc.org/dsdl/schematron"?>
<Product_Observational xmlns="http://pds.nasa.gov/pds4/pds/v1"
                       xmlns:disp="http://pds.nasa.gov/pds4/disp/v1"
                       xmlns:cart="http://pds.nasa.gov/pds4/cart/v1"
                       xmlns:lro="http://pds.nasa.gov/pds4/mission/lro/v1"
                       xmlns:xsi="http://www.w3.org/2001/XMLSchema-instance" xsi:schemaLocation="http://pds.nasa.gov/pds4/pds/v1 https://pds.nasa.gov/pds4/pds/v1/PDS4_PDS_1J00.xsd
          http://pds.nasa.gov/pds4/mission/lro/v1 https://pds.nasa.gov/pds4/mission/lro/v1/PDS4_LRO_1J00_1020.xsd
          http://pds.nasa.gov/pds4/cart/v1 https://pds.nasa.gov/pds4/cart/v1/PDS4_CART_1J00_1970.xsd
          http://pds.nasa.gov/pds4/disp/v1 https://pds.nasa.gov/pds4/disp/v1/PDS4_DISP_1J00_1510.xsd">
    <Identification_Area>
        <logical_identifier>urn:nasa:pds:lro_minirf_globalmosaic:data_globalmosaic:global_s2_128ppd_simp_0c</logical_identifier>
        <version_id>1.0</version_id>
        <title>Lunar Reconnaissance Orbiter Mini-RF Global Mosaic second Stokes Parameter (S2), global_s2_128ppd_simp_0c</title>
        <information_model_version>1.19.0.0</information_model_version>
        <product_class>Product_Observational</product_class>
        <Modification_History>
            <Modification_Detail>
                <modification_date>2024-07-19</modification_date>
                <version_id>1.0</version_id>
                <description>Initial PDS4 Version</description>
            </Modification_Detail>
        </Modification_History>
    </Identification_Area>
    <Observation_Area>
        <Time_Coordinates>
            <start_date_time>2009-07-19T12:27:42.785399Z</start_date_time>
            <stop_date_time>2010-12-26T09:17:27.6068Z</stop_date_time>
        </Time_Coordinates>
        <Investigation_Area>
            <name>Lunar Reconnaissance Orbiter</name>
            <type>Mission</type>
            <Internal_Reference>
                <lid_reference>urn:nasa:pds:context:investigation:mission.lunar_reconnaissance_orbiter</lid_reference>
                <reference_type>data_to_investigation</reference_type>
            </Internal_Reference>
        </Investigation_Area>
        <Observing_System>
            <Observing_System_Component>
                <name>Lunar Reconnaissance Orbiter</name>
                <type>Host</type>
                <description>Lunar Reconnaissance Orbiter Spacecraft</description>
                <Internal_Reference>
                    <lid_reference>urn:nasa:pds:context:instrument_host:spacecraft.lro</lid_reference>
                    <reference_type>is_instrument_host</reference_type>
                </Internal_Reference>
            </Observing_System_Component>
            <Observing_System_Component>
                <name>Mini-RF LRO</name>
                <type>Instrument</type>
                <description>Mini-RF is a hybrid dual-polarimetric side-looking synthetic aperture radar (SAR)
                    instrument.
                </description>
                <Internal_Reference>
                    <lid_reference>urn:nasa:pds:context:instrument:lro.mrflro</lid_reference>
                    <reference_type>is_instrument</reference_type>
                </Internal_Reference>
            </Observing_System_Component>
        </Observing_System>
        <Target_Identification>
            <name>Moon</name>
            <type>Satellite</type>
        </Target_Identification>
        <Mission_Area>
            <lro:LRO_Parameters>
                <lro:product_type>DDR</lro:product_type>
                <lro:producer_institution_name>Johns Hopkins University Applied Physics Laboratory
                </lro:producer_institution_name>
            </lro:LRO_Parameters>
        </Mission_Area>
        <Discipline_Area>
            <disp:Display_Settings>
                <Local_Internal_Reference>
                    <local_identifier_reference>global_s2_128ppd_simp_0c</local_identifier_reference>
                    <local_reference_type>display_settings_to_array</local_reference_type>
                </Local_Internal_Reference>
                <disp:Display_Direction>
                    <disp:horizontal_display_axis>Sample</disp:horizontal_display_axis>
                    <disp:horizontal_display_direction>Left to Right</disp:horizontal_display_direction>
                    <disp:vertical_display_axis>Line</disp:vertical_display_axis>
                    <disp:vertical_display_direction>Top to Bottom</disp:vertical_display_direction>
                </disp:Display_Direction>
            </disp:Display_Settings>
            <cart:Cartography>
                <Local_Internal_Reference>
                    <local_identifier_reference>global_s2_128ppd_simp_0c</local_identifier_reference>
                    <local_reference_type>cartography_parameters_to_image_object</local_reference_type>
                </Local_Internal_Reference>
                <cart:Spatial_Domain>
                    <cart:Bounding_Coordinates>
                        <cart:west_bounding_coordinate unit="deg">-180.0</cart:west_bounding_coordinate>
                        <cart:east_bounding_coordinate unit="deg">180.0</cart:east_bounding_coordinate>
                        <cart:north_bounding_coordinate unit="deg">90.0</cart:north_bounding_coordinate>
                        <cart:south_bounding_coordinate unit="deg">-90.0</cart:south_bounding_coordinate>
                    </cart:Bounding_Coordinates>
                </cart:Spatial_Domain>
                <cart:Spatial_Reference_Information>
                    <cart:Horizontal_Coordinate_System_Definition>
                        <cart:Planar>
                            <cart:Map_Projection>
                                <cart:map_projection_name>Equirectangular</cart:map_projection_name>
                                <cart:Equirectangular>
                                    <cart:latitude_of_projection_origin unit="deg">0.0
                                    </cart:latitude_of_projection_origin>
                                    <cart:standard_parallel_1 unit="deg">0.0</cart:standard_parallel_1>
                                    <cart:longitude_of_central_meridian unit="deg">0.0
                                    </cart:longitude_of_central_meridian>
                                </cart:Equirectangular>
                            </cart:Map_Projection>
                            <cart:Planar_Coordinate_Information>
                                <cart:planar_coordinate_encoding_method>Coordinate Pair</cart:planar_coordinate_encoding_method>
                                <cart:Coordinate_Representation>
                                    <cart:pixel_resolution_x unit="m/pixel">236.90117518866998</cart:pixel_resolution_x>
                                    <cart:pixel_resolution_y unit="m/pixel">236.90117518866998</cart:pixel_resolution_y>
                                    <cart:pixel_scale_x unit="pixel/deg">128.0</cart:pixel_scale_x>
                                    <cart:pixel_scale_y unit="pixel/deg">128.0</cart:pixel_scale_y>
                                </cart:Coordinate_Representation>
                            </cart:Planar_Coordinate_Information>
                            <cart:Geo_Transformation>
                                <cart:upperleft_corner_x unit="m">-5458203.076346956</cart:upperleft_corner_x>
                                <cart:upperleft_corner_y unit="m">2729101.538173478</cart:upperleft_corner_y>
                            </cart:Geo_Transformation>
                        </cart:Planar>
                        <cart:Geodetic_Model>
                            <cart:latitude_type>Planetocentric</cart:latitude_type>
                            <cart:spheroid_name>MOON</cart:spheroid_name>
                            <cart:a_axis_radius unit="km">1737.4</cart:a_axis_radius>
                            <cart:b_axis_radius unit="km">1737.4</cart:b_axis_radius>
                            <cart:c_axis_radius unit="km">1737.4</cart:c_axis_radius>
                            <cart:longitude_direction>Positive East</cart:longitude_direction>
                        </cart:Geodetic_Model>
                    </cart:Horizontal_Coordinate_System_Definition>
                </cart:Spatial_Reference_Information>
            </cart:Cartography>
        </Discipline_Area>
    </Observation_Area>
    <Reference_List>
        <Internal_Reference>
            <lid_reference>urn:nasa:pds:lro_minirf_globalmosaic:browse:global_s2_simp_0c_br</lid_reference>
            <reference_type>data_to_browse</reference_type>
            <comment>browse product; reduced size version of the global mosaic in PNG format for
                quick-look viewing.
            </comment>
        </Internal_Reference>
        <Internal_Reference>
            <lidvid_reference>urn:nasa:pds:lro_minirf_globalmosaic:document:userguide::1.0</lidvid_reference>
            <reference_type>data_to_document</reference_type>
            <comment>User guide providing an overview of the Mini-RF Global Mosaic datasets, the
                file naming convention, data products, and parameter descriptions.
            </comment>
        </Internal_Reference>
        <Internal_Reference>
            <lidvid_reference>urn:nasa:pds:lro_minirf_globalmosaic:document:parameters_summary::1.0</lidvid_reference>
            <reference_type>data_to_document</reference_type>
            <comment>This document provides a summary of the Stokes parameters and their relationship to a
                given Mini-RF Global Mosaic data product. The parameter is determined by the file naming convention
                as described in the user guide.
            </comment>
        </Internal_Reference>
    </Reference_List>
    <File_Area_Observational>
        <File>
            <file_name>global_s2_128ppd_simp_0c.img</file_name>
            <comment>Binary file containing Global Mosaic second Stokes Parameter (S2) data at 128.0 pixels per degree resolution.</comment>
        </File>
        <Array_2D_Image>
            <local_identifier>global_s2_128ppd_simp_0c</local_identifier>
            <offset unit="byte">0</offset>
            <axes>2</axes>
            <axis_index_order>Last Index Fastest</axis_index_order>
            <description>
                Global Mosaic image containing
                The second Stokes parameter (S2); represents the difference 
                between horizontally polarized intensity and the
                vertically polarized intensity.
                S2 = H * H_con - V * V_con where H and V are the
                horizontal and vertical components of the polarized portion 
                of the received EM field, H_con is the complex conjugate of H
                and V_con is the complex conjugate of V.
            </description>
            <Element_Array>
                <data_type>IEEE754LSBSingle</data_type>
            </Element_Array>
            <Axis_Array>
                <axis_name>Line</axis_name>
                <elements>23040</elements>
                <sequence_number>1</sequence_number>
            </Axis_Array>
            <Axis_Array>
                <axis_name>Sample</axis_name>
                <elements>46080</elements>
                <sequence_number>2</sequence_number>
            </Axis_Array>
            <Special_Constants>
                <missing_constant>-1.7976931E+308</missing_constant>
            </Special_Constants>
        </Array_2D_Image>
    </File_Area_Observational>
    <File_Area_Observational_Supplemental>
        <File>
            <file_name>global_s2_128ppd_simp_0c.lbl</file_name>
        </File>
        <Stream_Text>
            <offset unit="byte">0</offset>
            <parsing_standard_id>PDS3</parsing_standard_id>
            <description>PDS3 label</description>
            <record_delimiter>Carriage-Return Line-Feed</record_delimiter>
        </Stream_Text>
    </File_Area_Observational_Supplemental>
</Product_Observational>