PDS_VERSION_ID = "PDS3"
RECORD_TYPE = FIXED_LENGTH
RECORD_BYTES = 46080
FILE_RECORDS = 5760
INSTRUMENT_HOST_NAME = "LUNAR RECONNAISSANCE ORBITER"
INSTRUMENT_HOST_ID = "LRO"
INSTRUMENT_NAME = "MINI-RF LRO"
INSTRUMENT_ID = "MRFLRO"
TARGET_NAME = "MOON"
DATA_SET_ID = "LRO-L-MRFLRO-5-GLOBAL-MOSAIC-V1.0"
PRODUCT_ID = "GLOBAL_ML_32PPD_SIMP_0C.IMG"
PRODUCT_VERSION_ID = "V1.0"
PRODUCT_CREATION_TIME = 2011-10-20T00:00:00
PRODUCER_ID = "JCAHILL"
PRODUCER_FULL_NAME = "JOSHUA T. CAHILL"
PRODUCER_INSTITUTION_NAME = "JOHNS HOPKINS UNIVERSITY APPLIED PHYSICS LABORATORY"
START_TIME = 2009-07-19T12:27:42.785399
STOP_TIME = 2010-12-26T09:17:27.6068
SPACECRAFT_CLOCK_START_COUNT = "N/A"
SPACECRAFT_CLOCK_STOP_COUNT = "N/A"
CENTER_FREQUENCY = 2380000439.72767878
INSTRUMENT_MODE_ID = "ZOOM_S"
INSTRUMENT_MODE_DESC = "SAR"
SOFTWARE_NAME = "ISIS"
SOFTWARE_VERSION_ID = "3.3.0.3646"
SOFTWARE_RELEASE_DATE = 2011-09-19
DESCRIPTION = "Degree of linear polarization parameter product, defined as ML = [(S2^2 + S3^2)^0.5]/[M*S1] where M is the Degree of Polarization, defined as M = [(S2^2 + S3^2 + S4^2)^0.5]/S1. The Level 3 products are Derived Data Records (DDRs) generated from multiple Level 2 CDRs. They are mosaics that are produced by ingesting the Level 2 Stokes 1 parameter into the ISIS software. The mosaics are produced for the entire lunar globe (i.e., regions between -180 and 180 longitude and -90 to 90 latitude). Unlike the lower-level products, these are composed of data sets collected during multiple acquisitions and are produced manually using the ISIS software provided by the Astrogeology branch of the USGS."
^IMAGE = "GLOBAL_ML_32PPD_SIMP_0C.IMG"
OBJECT = IMAGE
  LINES = 5760
  LINE_SAMPLES = 11520
  BANDS = 1
  BAND_STORAGE_TYPE = BAND_SEQUENTIAL
  OFFSET = 0.0
  SCALING_FACTOR = 1.0
  SAMPLE_BITS = 32
  SAMPLE_TYPE = PC_REAL
  MISSING_CONSTANT = -1.7976931E+308
END_OBJECT = IMAGE
OBJECT = IMAGE_MAP_PROJECTION
  ^DATA_SET_MAP_PROJECTION = "DSMAP.CAT"
  COORDINATE_SYSTEM_TYPE = "BODY-FIXED ROTATING"
  MAP_PROJECTION_TYPE = "SIMPLE CYLINDRICAL"
  A_AXIS_RADIUS = 1737.4
  B_AXIS_RADIUS = 1737.4
  C_AXIS_RADIUS = 1737.4
  COORDINATE_SYSTEM_NAME = PLANETOCENTRIC
  POSITIVE_LONGITUDE_DIRECTION = "EAST"
  KEYWORD_LATITUDE_TYPE = "PLANETOCENTRIC"
  CENTER_LATITUDE = 0.0
  CENTER_LONGITUDE = 0.0
  LINE_FIRST_PIXEL = 1
  LINE_LAST_PIXEL = 5760
  SAMPLE_FIRST_PIXEL = 1
  SAMPLE_LAST_PIXEL = 11520
  MAP_PROJECTION_ROTATION = 0.0
  MAP_RESOLUTION = 32.0
  MAP_SCALE = 0.94760470075467
  MAXIMUM_LATITUDE = 90.0
  MINIMUM_LATITUDE = -90.0
  EASTERNMOST_LONGITUDE = 180.0
  WESTERNMOST_LONGITUDE = -180.0
  LINE_PROJECTION_OFFSET = 2880.5
  SAMPLE_PROJECTION_OFFSET = 5760.5
END_OBJECT = IMAGE_MAP_PROJECTION
END
