<?xml version="1.0" encoding="utf-8"?>
<?xml-model href="https://pds.nasa.gov/pds4/pds/v1/PDS4_PDS_1J00.sch" schematypens="http://purl.oclc.org/dsdl/schematron"?>
<?xml-model href="https://pds.nasa.gov/pds4/disp/v1/PDS4_DISP_1J00_1510.sch" schematypens="http://purl.oclc.org/dsdl/schematron"?>
<?xml-model href="https://pds.nasa.gov/pds4/cart/v1/PDS4_CART_1J00_1970.sch" schematypens="http://purl.oclc.org/dsdl/schematron"?>
<?xml-model href="https://pds.nasa.gov/pds4/geom/v1/PDS4_GEOM_1J00_1960.sch" schematypens="http://purl.oclc.org/dsdl/schematron"?>
<?xml-model href="https://pds.nasa.gov/pds4/mission/lro/v1/PDS4_LRO_1J00_1040.sch" schematypens="http://purl.oclc.org/dsdl/schematron"?>
<Product_Observational xmlns="http://pds.nasa.gov/pds4/pds/v1"
  xmlns:disp="http://pds.nasa.gov/pds4/disp/v1"
  xmlns:cart="http://pds.nasa.gov/pds4/cart/v1"
  xmlns:geom="http://pds.nasa.gov/pds4/geom/v1"
  xmlns:lro="http://pds.nasa.gov/pds4/mission/lro/v1"
  xmlns:xsi="http://www.w3.org/2001/XMLSchema-instance" xsi:schemaLocation="http://pds.nasa.gov/pds4/pds/v1 https://pds.nasa.gov/pds4/pds/v1/PDS4_PDS_1J00.xsd
          http://pds.nasa.gov/pds4/mission/lro/v1 https://pds.nasa.gov/pds4/mission/lro/v1/PDS4_LRO_1J00_1040.xsd
          http://pds.nasa.gov/pds4/cart/v1 https://pds.nasa.gov/pds4/cart/v1/PDS4_CART_1J00_1970.xsd
          http://pds.nasa.gov/pds4/geom/v1 https://pds.nasa.gov/pds4/geom/v1/PDS4_GEOM_1J00_1960.xsd
          http://pds.nasa.gov/pds4/disp/v1 https://pds.nasa.gov/pds4/disp/v1/PDS4_DISP_1J00_1510.xsd">
  <Identification_Area>
    <logical_identifier>urn:nasa:pds:lro_minirf_bistatic:data_calibrated:lxt_2025093015213_sciph_84s059</logical_identifier>
    <version_id>1.0</version_id>
    <title>Lunar Reconnaissance Orbiter Mini-RF Bistatic Calibrated data, lxt_2025093015213_sciph_84s059</title>
    <information_model_version>1.19.0.0</information_model_version>
    <product_class>Product_Observational</product_class>
    <Modification_History>
      <Modification_Detail>
        <modification_date>2025-08-19</modification_date>
        <version_id>1.0</version_id>
        <description>Initial Version</description>
      </Modification_Detail>
    </Modification_History>
  </Identification_Area>
  <Observation_Area>
    <Time_Coordinates>
      <start_date_time>2025-04-03T01:52:13.717Z</start_date_time>
      <stop_date_time>2025-04-03T02:02:13.544Z</stop_date_time>
    </Time_Coordinates>
    <Investigation_Area>
      <name>Lunar Reconnaissance Orbiter</name>
      <type>Mission</type>
      <Internal_Reference>
        <lid_reference>urn:nasa:pds:context:investigation:mission.lunar_reconnaissance_orbiter</lid_reference>
        <reference_type>data_to_investigation</reference_type>
      </Internal_Reference>
    </Investigation_Area>
    <Observing_System>
      <Observing_System_Component>
        <name>Lunar Reconnaissance Orbiter</name>
        <type>Host</type>
        <description>Lunar Reconnaissance Orbiter Spacecraft</description>
        <Internal_Reference>
          <lid_reference>urn:nasa:pds:context:instrument_host:spacecraft.lro</lid_reference>
          <reference_type>is_instrument_host</reference_type>
        </Internal_Reference>
      </Observing_System_Component>
      <Observing_System_Component>
        <name>Mini-RF LRO</name>
        <type>Instrument</type>
        <description>Mini-RF is a hybrid dual-polarimetric side-looking synthetic aperture radar (SAR) instrument.</description>
        <Internal_Reference>
          <lid_reference>urn:nasa:pds:context:instrument:lro.mrflro</lid_reference>
          <reference_type>is_instrument</reference_type>
        </Internal_Reference>
      </Observing_System_Component>
    </Observing_System>
    <Target_Identification>
      <name>Moon</name>
      <type>Satellite</type>
      <Internal_Reference>
          <lid_reference>urn:nasa:pds:context:target:satellite.earth.moon</lid_reference>
          <reference_type>data_to_target</reference_type>
      </Internal_Reference>
    </Target_Identification>
    <Mission_Area>
      <lro:LRO_Parameters>
        <lro:product_type>CDR</lro:product_type>
        <lro:orbit_number>70977</lro:orbit_number>
        <lro:mission_phase_name>FIFTH EXTENDED SCIENCE MISSION</lro:mission_phase_name>
        <lro:spacecraft_clock_start_count>1/765337933:46053</lro:spacecraft_clock_start_count>
        <lro:spacecraft_clock_stop_count>1/765338533:34742</lro:spacecraft_clock_stop_count>
        <lro:producer_institution_name>Johns Hopkins University Applied Physics Laboratory</lro:producer_institution_name>
        <lro:MiniRF_Parameters>
          <lro:experiment_id>0</lro:experiment_id>
          <lro:pulse_repetition_interval unit="microseconds">1150.0</lro:pulse_repetition_interval>
          <lro:chirp_pulse_width unit="microseconds">400.0</lro:chirp_pulse_width>
          <lro:chirp_rate>4000000000.0</lro:chirp_rate>
          <lro:chirp_start_frequency unit="Hz">7146200000.0</lro:chirp_start_frequency>
          <lro:chirp_up>true</lro:chirp_up>
          <lro:chirp_bandwidth unit="Hz">1600000.0</lro:chirp_bandwidth>
          <lro:chirp_center_frequency unit="Hz">7147000000.0</lro:chirp_center_frequency>
          <lro:receiver_frequency unit="Hz">7147000000.0</lro:receiver_frequency>
          <lro:attenuator>5</lro:attenuator>
          <lro:band_frequency>X</lro:band_frequency>
          <lro:sar_channel>H</lro:sar_channel>
          <lro:sampling_frequency unit="Hz">2083333.3333333333</lro:sampling_frequency>
          <lro:baq_sample_size>3</lro:baq_sample_size>
          <lro:sclk0>765337727:15137</lro:sclk0>
          <lro:transmitter>DSS-13</lro:transmitter>
          <lro:sar_instrument_mode_id>BISTATIC</lro:sar_instrument_mode_id>
          <lro:transmitter_eirp>145.59</lro:transmitter_eirp>
          <lro:transmitter_range unit="km">363814.825</lro:transmitter_range>
          <lro:azimuth_beamwidth unit="deg">2.68326</lro:azimuth_beamwidth>
          <lro:range_beamwidth unit="deg">8.05147</lro:range_beamwidth>
        </lro:MiniRF_Parameters>
      </lro:LRO_Parameters>
    </Mission_Area>
    <Discipline_Area>
      <disp:Display_Settings>
        <Local_Internal_Reference>
          <local_identifier_reference>lxt_2025093015213_sciph_84s059_v1</local_identifier_reference>
          <local_reference_type>display_settings_to_array</local_reference_type>
        </Local_Internal_Reference>
        <disp:Display_Direction>
          <disp:horizontal_display_axis>Sample</disp:horizontal_display_axis>
          <disp:horizontal_display_direction>Left to Right</disp:horizontal_display_direction>
          <disp:vertical_display_axis>Line</disp:vertical_display_axis>
          <disp:vertical_display_direction>Top to Bottom</disp:vertical_display_direction>
        </disp:Display_Direction>
      </disp:Display_Settings>
    <cart:Cartography>
        <Local_Internal_Reference>
            <local_identifier_reference>lxt_2025093015213_sciph_84s059_v1</local_identifier_reference>
            <local_reference_type>cartography_parameters_to_image_object</local_reference_type>
        </Local_Internal_Reference>
        <cart:Spatial_Domain>
            <cart:Bounding_Coordinates>
                <cart:west_bounding_coordinate unit="deg">23.354015163551924</cart:west_bounding_coordinate>
                <cart:east_bounding_coordinate unit="deg">179.1985073175774</cart:east_bounding_coordinate>
                <cart:north_bounding_coordinate unit="deg">-68.51129922112584</cart:north_bounding_coordinate>
                <cart:south_bounding_coordinate unit="deg">-86.40231238608618</cart:south_bounding_coordinate>
            </cart:Bounding_Coordinates>
        </cart:Spatial_Domain>
        <cart:Spatial_Reference_Information>
            <cart:Horizontal_Coordinate_System_Definition>
                <cart:Planar>
                    <cart:Map_Projection>
                        <cart:map_projection_name>Oblique Cylindrical</cart:map_projection_name>
                        <cart:Oblique_Cylindrical>
                            <!-- center latitude -->
                            <cart:latitude_of_projection_origin unit="deg">0.0</cart:latitude_of_projection_origin>
                            <!-- center longitude -->
                            <cart:longitude_of_central_meridian unit="deg">0.0</cart:longitude_of_central_meridian>
                            <cart:reference_latitude unit="deg">-83.82800136352947</cart:reference_latitude>
                            <cart:reference_longitude unit="deg">58.5072968997073</cart:reference_longitude>
                            <cart:map_projection_rotation unit="deg">0.0</cart:map_projection_rotation>
                            <cart:oblique_proj_pole_latitude unit="deg">4.320892658644163</cart:oblique_proj_pole_latitude>
                            <cart:oblique_proj_pole_longitude unit="deg">104.18489730458987</cart:oblique_proj_pole_longitude>
                            <cart:oblique_proj_pole_rotation unit="deg">355.5886085733183</cart:oblique_proj_pole_rotation>
                            <cart:oblique_proj_x_axis_vector>0.05616396666474274,0.09167746932602733,-0.9942036262589555</cart:oblique_proj_x_axis_vector>
                            <cart:oblique_proj_y_axis_vector>-0.968057890313876,-0.23870743563623997,-0.07669863866469566</cart:oblique_proj_y_axis_vector>
                            <cart:oblique_proj_z_axis_vector>-0.24435533521805675,0.966754364763845,0.0753423410873691</cart:oblique_proj_z_axis_vector>
                        </cart:Oblique_Cylindrical>
                    </cart:Map_Projection>
                    <cart:Planar_Coordinate_Information>
                        <cart:planar_coordinate_encoding_method>Coordinate Pair</cart:planar_coordinate_encoding_method>
                        <cart:Coordinate_Representation>
                            <cart:pixel_resolution_x unit="m/pixel">2.0</cart:pixel_resolution_x>
                            <cart:pixel_resolution_y unit="m/pixel">20.0</cart:pixel_resolution_y>
                            <cart:pixel_scale_x unit="pixel/deg">15161.675212074742</cart:pixel_scale_x>
                            <cart:pixel_scale_y unit="pixel/deg">1516.1675212074742</cart:pixel_scale_y>
                        </cart:Coordinate_Representation>
                    </cart:Planar_Coordinate_Information>
		              <cart:Geo_Transformation>
		                <cart:upperleft_corner_x unit="m">-502107.0</cart:upperleft_corner_x>
		                <cart:upperleft_corner_y unit="m">13750.0</cart:upperleft_corner_y>
		              </cart:Geo_Transformation>
                </cart:Planar>
                <cart:Geodetic_Model>
                    <cart:latitude_type>Planetocentric</cart:latitude_type>
                    <cart:spheroid_name>MOON</cart:spheroid_name>
                    <cart:a_axis_radius unit="km">1737.4</cart:a_axis_radius>
                    <cart:b_axis_radius unit="km">1737.4</cart:b_axis_radius>
                    <cart:c_axis_radius unit="km">1737.4</cart:c_axis_radius>
                    <cart:longitude_direction>Positive East</cart:longitude_direction>
                </cart:Geodetic_Model>
            </cart:Horizontal_Coordinate_System_Definition>
        </cart:Spatial_Reference_Information>
      </cart:Cartography>
      <geom:Geometry>
        <geom:SPICE_Kernel_Files>
          <geom:SPICE_Kernel_Identification>
            <geom:kernel_type>SPK</geom:kernel_type>
            <geom:spice_kernel_file_name>arecibo.bsp</geom:spice_kernel_file_name>
            <geom:kernel_provenance>Provenance Not Applicable</geom:kernel_provenance>
          </geom:SPICE_Kernel_Identification>
          <geom:SPICE_Kernel_Identification>
            <geom:kernel_type>FK</geom:kernel_type>
            <geom:spice_kernel_file_name>arecibo.tf</geom:spice_kernel_file_name>
            <geom:kernel_provenance>Provenance Not Applicable</geom:kernel_provenance>
          </geom:SPICE_Kernel_Identification>
          <geom:SPICE_Kernel_Identification>
            <geom:kernel_type>IK</geom:kernel_type>
            <geom:spice_kernel_file_name>arecibo.ti</geom:spice_kernel_file_name>
            <geom:kernel_provenance>Provenance Not Applicable</geom:kernel_provenance>
          </geom:SPICE_Kernel_Identification>
          <geom:SPICE_Kernel_Identification>
            <geom:kernel_type>SPK</geom:kernel_type>
            <geom:spice_kernel_file_name>earthstns_itrf93_050714.bsp</geom:spice_kernel_file_name>
            <geom:kernel_provenance>Provenance Not Applicable</geom:kernel_provenance>
          </geom:SPICE_Kernel_Identification>
          <geom:SPICE_Kernel_Identification>
            <geom:kernel_type>FK</geom:kernel_type>
            <geom:spice_kernel_file_name>earth_topo_050714.tf</geom:spice_kernel_file_name>
            <geom:kernel_provenance>Provenance Not Applicable</geom:kernel_provenance>
          </geom:SPICE_Kernel_Identification>
          <geom:SPICE_Kernel_Identification>
            <geom:kernel_type>IK</geom:kernel_type>
            <geom:spice_kernel_file_name>dss13.ti</geom:spice_kernel_file_name>
            <geom:kernel_provenance>Provenance Not Applicable</geom:kernel_provenance>
          </geom:SPICE_Kernel_Identification>
          <geom:SPICE_Kernel_Identification>
            <geom:kernel_type>PCK</geom:kernel_type>
            <geom:spice_kernel_file_name>moon_pa_de421_1900-2050.bpc</geom:spice_kernel_file_name>
            <geom:kernel_provenance>Provenance Not Applicable</geom:kernel_provenance>
          </geom:SPICE_Kernel_Identification>
          <geom:SPICE_Kernel_Identification>
            <geom:kernel_type>PCK</geom:kernel_type>
            <geom:spice_kernel_file_name>pck00010.tpc</geom:spice_kernel_file_name>
            <geom:kernel_provenance>Provenance Not Applicable</geom:kernel_provenance>
          </geom:SPICE_Kernel_Identification>
          <geom:SPICE_Kernel_Identification>
            <geom:kernel_type>FK</geom:kernel_type>
            <geom:spice_kernel_file_name>moon_080317.tf</geom:spice_kernel_file_name>
            <geom:kernel_provenance>Provenance Not Applicable</geom:kernel_provenance>
          </geom:SPICE_Kernel_Identification>
          <geom:SPICE_Kernel_Identification>
            <geom:kernel_type>FK</geom:kernel_type>
            <geom:spice_kernel_file_name>moon_assoc_me.tf</geom:spice_kernel_file_name>
            <geom:kernel_provenance>Provenance Not Applicable</geom:kernel_provenance>
          </geom:SPICE_Kernel_Identification>
          <geom:SPICE_Kernel_Identification>
            <geom:kernel_type>FK</geom:kernel_type>
            <geom:spice_kernel_file_name>earth_assoc_itrf93.tf</geom:spice_kernel_file_name>
            <geom:kernel_provenance>Provenance Not Applicable</geom:kernel_provenance>
          </geom:SPICE_Kernel_Identification>
          <geom:SPICE_Kernel_Identification>
            <geom:kernel_type>SPK</geom:kernel_type>
            <geom:spice_kernel_file_name>de421.bsp</geom:spice_kernel_file_name>
            <geom:kernel_provenance>Provenance Not Applicable</geom:kernel_provenance>
          </geom:SPICE_Kernel_Identification>
          <geom:SPICE_Kernel_Identification>
            <geom:kernel_type>LSK</geom:kernel_type>
            <geom:spice_kernel_file_name>naif0012.tls</geom:spice_kernel_file_name>
            <geom:kernel_provenance>Provenance Not Applicable</geom:kernel_provenance>
          </geom:SPICE_Kernel_Identification>
          <geom:SPICE_Kernel_Identification>
            <geom:kernel_type>FK</geom:kernel_type>
            <geom:spice_kernel_file_name>lro_frames_2010214_v01.tf</geom:spice_kernel_file_name>
            <geom:kernel_provenance>Provenance Not Applicable</geom:kernel_provenance>
          </geom:SPICE_Kernel_Identification>
          <geom:SPICE_Kernel_Identification>
            <geom:kernel_type>FK</geom:kernel_type>
            <geom:spice_kernel_file_name>lro_sandia.tf</geom:spice_kernel_file_name>
            <geom:kernel_provenance>Provenance Not Applicable</geom:kernel_provenance>
          </geom:SPICE_Kernel_Identification>
          <geom:SPICE_Kernel_Identification>
            <geom:kernel_type>PCK</geom:kernel_type>
            <geom:spice_kernel_file_name>earth_000101_250702_250405.bpc</geom:spice_kernel_file_name>
            <geom:kernel_provenance>Provenance Not Applicable</geom:kernel_provenance>
          </geom:SPICE_Kernel_Identification>
          <geom:SPICE_Kernel_Identification>
            <geom:kernel_type>SCLK</geom:kernel_type>
            <geom:spice_kernel_file_name>current.tsc</geom:spice_kernel_file_name>
            <geom:kernel_provenance>Mixed</geom:kernel_provenance>
          </geom:SPICE_Kernel_Identification>
          <geom:SPICE_Kernel_Identification>
            <geom:kernel_type>SPK</geom:kernel_type>
            <geom:spice_kernel_file_name>LRO_DEF_20250403_00.BSP</geom:spice_kernel_file_name>
            <geom:kernel_provenance>Mixed</geom:kernel_provenance>
          </geom:SPICE_Kernel_Identification>
          <geom:SPICE_Kernel_Identification>
            <geom:kernel_type>CK</geom:kernel_type>
            <geom:spice_kernel_file_name>LRO_DEF_20250403_00.BC</geom:spice_kernel_file_name>
            <geom:kernel_provenance>Mixed</geom:kernel_provenance>
          </geom:SPICE_Kernel_Identification>
        </geom:SPICE_Kernel_Files>
      </geom:Geometry>
    </Discipline_Area>
  </Observation_Area>
  <File_Area_Observational>
    <File>
      <file_name>lxt_2025093015213_sciph_84s059_v1.img</file_name>
      <comment>File containing Calibrated bistatic data consisting of the horizontal polarized
        backscattered signal. 
      </comment>
    </File>
    <Array_3D_Image>
      <local_identifier>lxt_2025093015213_sciph_84s059_v1</local_identifier>
      <offset unit="byte">0</offset>
      <axes>3</axes>
      <axis_index_order>Last Index Fastest</axis_index_order>
      <description>
        Calibrated horizontal polarized backscattered signal stored as a data cube where
        the data values are sample interleaved.
        The data values consist of the real and imaginary components of the commplex number representing the signal.
        The first 4-byte element of the array is the real component of the first sample. The next element is the imaginary
        component of the first sample. This is followed by the real component of the second sample, then the 
        imaginary component of the second sample, and so on. 
      </description>
      <Element_Array>
        <data_type>IEEE754LSBSingle</data_type>
      </Element_Array>
      <Axis_Array>
        <axis_name>Line</axis_name>
        <elements>1784</elements>
        <sequence_number>1</sequence_number>
      </Axis_Array>
      <Axis_Array>
        <axis_name>Sample</axis_name>
        <elements>516935</elements>
        <sequence_number>2</sequence_number>
      </Axis_Array>
      <Axis_Array>
        <axis_name>Band</axis_name>
        <elements>2</elements>
        <sequence_number>3</sequence_number>
      </Axis_Array>
      <Special_Constants>
        <not_applicable_constant>-1e32</not_applicable_constant>
      </Special_Constants>
    </Array_3D_Image>
  </File_Area_Observational>
</Product_Observational>