<?xml version="1.0" encoding="utf-8"?>
<?xml-model href="https://pds.nasa.gov/pds4/pds/v1/PDS4_PDS_1J00.sch" schematypens="http://purl.oclc.org/dsdl/schematron"?>
<?xml-model href="https://pds.nasa.gov/pds4/disp/v1/PDS4_DISP_1J00_1510.sch" schematypens="http://purl.oclc.org/dsdl/schematron"?>
<?xml-model href="https://pds.nasa.gov/pds4/cart/v1/PDS4_CART_1J00_1970.sch" schematypens="http://purl.oclc.org/dsdl/schematron"?>
<?xml-model href="https://pds.nasa.gov/pds4/geom/v1/PDS4_GEOM_1J00_1960.sch" schematypens="http://purl.oclc.org/dsdl/schematron"?>
<?xml-model href="https://pds.nasa.gov/pds4/mission/lro/v1/PDS4_LRO_1J00_1050.sch" schematypens="http://purl.oclc.org/dsdl/schematron"?>
<Product_Observational xmlns="http://pds.nasa.gov/pds4/pds/v1"
  xmlns:disp="http://pds.nasa.gov/pds4/disp/v1"
  xmlns:cart="http://pds.nasa.gov/pds4/cart/v1"
  xmlns:geom="http://pds.nasa.gov/pds4/geom/v1"
  xmlns:lro="http://pds.nasa.gov/pds4/mission/lro/v1"
  xmlns:xsi="http://www.w3.org/2001/XMLSchema-instance" xsi:schemaLocation="http://pds.nasa.gov/pds4/pds/v1 https://pds.nasa.gov/pds4/pds/v1/PDS4_PDS_1J00.xsd
          http://pds.nasa.gov/pds4/mission/lro/v1 https://pds.nasa.gov/pds4/mission/lro/v1/PDS4_LRO_1J00_1050.xsd
          http://pds.nasa.gov/pds4/cart/v1 https://pds.nasa.gov/pds4/cart/v1/PDS4_CART_1J00_1970.xsd
          http://pds.nasa.gov/pds4/geom/v1 https://pds.nasa.gov/pds4/geom/v1/PDS4_GEOM_1J00_1960.xsd
          http://pds.nasa.gov/pds4/disp/v1 https://pds.nasa.gov/pds4/disp/v1/PDS4_DISP_1J00_1510.xsd">
  <Identification_Area>
    <logical_identifier>urn:nasa:pds:lro_minirf_bistatic:data_derived:lxt_2022209171431_s1_21s058</logical_identifier>
    <version_id>1.0</version_id>
    <title>Lunar Reconnaissance Orbiter Mini-RF first Stokes Parameter (S1) data, lxt_2022209171431_s1_21s058</title>
    <information_model_version>1.19.0.0</information_model_version>
    <product_class>Product_Observational</product_class>
    <Modification_History>
      <Modification_Detail>
        <modification_date>2026-05-27</modification_date>
        <version_id>1.0</version_id>
        <description>Initial PDS4 version</description>
      </Modification_Detail>
    </Modification_History>
  </Identification_Area>
  <Observation_Area>
    <Time_Coordinates>
      <start_date_time>2022-07-28T17:14:31.156Z</start_date_time>
      <stop_date_time>2022-07-28T17:24:30.984Z</stop_date_time>
    </Time_Coordinates>
    <Investigation_Area>
      <name>Lunar Reconnaissance Orbiter</name>
      <type>Mission</type>
      <Internal_Reference>
        <lid_reference>urn:nasa:pds:context:investigation:mission.lunar_reconnaissance_orbiter</lid_reference>
        <reference_type>data_to_investigation</reference_type>
      </Internal_Reference>
    </Investigation_Area>
    <Observing_System>
      <Observing_System_Component>
        <name>Lunar Reconnaissance Orbiter</name>
        <type>Host</type>
        <description>Lunar Reconnaissance Orbiter Spacecraft</description>
        <Internal_Reference>
          <lid_reference>urn:nasa:pds:context:instrument_host:spacecraft.lro</lid_reference>
          <reference_type>is_instrument_host</reference_type>
        </Internal_Reference>
      </Observing_System_Component>
      <Observing_System_Component>
        <name>Mini-RF LRO</name>
        <type>Instrument</type>
        <description>Mini-RF is a hybrid dual-polarimetric side-looking synthetic aperture radar (SAR) instrument.</description>
        <Internal_Reference>
          <lid_reference>urn:nasa:pds:context:instrument:lro.mrflro</lid_reference>
          <reference_type>is_instrument</reference_type>
        </Internal_Reference>
      </Observing_System_Component>
    </Observing_System>
    <Target_Identification>
      <name>Moon</name>
      <type>Satellite</type>
      <Internal_Reference>
          <lid_reference>urn:nasa:pds:context:target:satellite.earth.moon</lid_reference>
          <reference_type>data_to_target</reference_type>
      </Internal_Reference>
    </Target_Identification>
    <Mission_Area>
      <lro:LRO_Parameters>
        <lro:product_type>RDR</lro:product_type>
        <lro:orbit_number>58919</lro:orbit_number>
        <lro:mission_phase_name>FOURTH EXTENDED SCIENCE MISSION</lro:mission_phase_name>
        <lro:spacecraft_clock_start_count>1/680721271:9219</lro:spacecraft_clock_start_count>
        <lro:spacecraft_clock_stop_count>1/680721870:63445</lro:spacecraft_clock_stop_count>
        <lro:producer_institution_name>Johns Hopkins University Applied Physics Laboratory</lro:producer_institution_name>
        <lro:MiniRF_Parameters>
          <lro:experiment_id>0</lro:experiment_id>
          <lro:pulse_repetition_interval unit="microseconds">480.0</lro:pulse_repetition_interval>
          <lro:chirp_pulse_width unit="microseconds">400.0</lro:chirp_pulse_width>
          <lro:chirp_rate>4000000000.0</lro:chirp_rate>
          <lro:chirp_start_frequency unit="Hz">7146200000.0</lro:chirp_start_frequency>
          <lro:chirp_up>true</lro:chirp_up>
          <lro:chirp_bandwidth unit="Hz">1600000.0</lro:chirp_bandwidth>
          <lro:chirp_center_frequency unit="Hz">7147000000.0</lro:chirp_center_frequency>
          <lro:receiver_frequency unit="Hz">7147000000.0</lro:receiver_frequency>
          <lro:attenuator>5</lro:attenuator>
          <lro:band_frequency>X</lro:band_frequency>
          <lro:sar_channel>H</lro:sar_channel>
          <lro:sampling_frequency unit="Hz">2083333.3333333333</lro:sampling_frequency>
          <lro:baq_sample_size>3</lro:baq_sample_size>
          <lro:sclk0>680721064:44486</lro:sclk0>
          <lro:transmitter>DSS-13</lro:transmitter>
          <lro:sar_instrument_mode_id>BISTATIC</lro:sar_instrument_mode_id>
          <lro:transmitter_eirp>145.59</lro:transmitter_eirp>
          <lro:transmitter_range unit="km">398370.575</lro:transmitter_range>
          <lro:look_azimuth_angle unit="deg">95.04897767074155</lro:look_azimuth_angle>
          <lro:sar_incidence_angle unit="deg">61.882</lro:sar_incidence_angle>
          <lro:sar_emission_angle unit="deg">61.746</lro:sar_emission_angle>
          <lro:sar_phase_angle unit="deg">0.146</lro:sar_phase_angle>
          <lro:azimuth_beamwidth unit="deg">2.68326</lro:azimuth_beamwidth>
          <lro:range_beamwidth unit="deg">8.05147</lro:range_beamwidth>
        </lro:MiniRF_Parameters>
      </lro:LRO_Parameters>
    </Mission_Area>
    <Discipline_Area>
      <disp:Display_Settings>
        <Local_Internal_Reference>
          <local_identifier_reference>lxt_2022209171431_s1_21s058_v1</local_identifier_reference>
          <local_reference_type>display_settings_to_array</local_reference_type>
        </Local_Internal_Reference>
        <disp:Display_Direction>
          <disp:horizontal_display_axis>Sample</disp:horizontal_display_axis>
          <disp:horizontal_display_direction>Left to Right</disp:horizontal_display_direction>
          <disp:vertical_display_axis>Line</disp:vertical_display_axis>
          <disp:vertical_display_direction>Top to Bottom</disp:vertical_display_direction>
        </disp:Display_Direction>
      </disp:Display_Settings>
      <cart:Cartography>
        <Local_Internal_Reference>
          <local_identifier_reference>lxt_2022209171431_s1_21s058_v1</local_identifier_reference>
          <local_reference_type>cartography_parameters_to_image_object</local_reference_type>
        </Local_Internal_Reference>
        <cart:Spatial_Domain>
            <cart:Bounding_Coordinates>
              <cart:west_bounding_coordinate unit="deg">55.288090669537105</cart:west_bounding_coordinate>
              <cart:east_bounding_coordinate unit="deg">60.883345811231194</cart:east_bounding_coordinate>
              <cart:north_bounding_coordinate unit="deg">-5.2850671453685045</cart:north_bounding_coordinate>
              <cart:south_bounding_coordinate unit="deg">-35.97248604782218</cart:south_bounding_coordinate>
            </cart:Bounding_Coordinates>
          </cart:Spatial_Domain>
          <cart:Spatial_Reference_Information>
            <cart:Horizontal_Coordinate_System_Definition>
              <cart:Planar>
                <cart:Map_Projection>
                  <cart:map_projection_name>Oblique Cylindrical</cart:map_projection_name>
                  <cart:Oblique_Cylindrical>
                      <!-- center latitude -->
                      <cart:latitude_of_projection_origin unit="deg">0.0</cart:latitude_of_projection_origin>
                      <!-- center longitude -->
                      <cart:longitude_of_central_meridian unit="deg">0.0</cart:longitude_of_central_meridian>
                    <cart:reference_latitude unit="deg">-20.612956717552787</cart:reference_latitude>
                    <cart:reference_longitude unit="deg">57.65910843319755</cart:reference_longitude>
                    <cart:map_projection_rotation unit="deg">0.0</cart:map_projection_rotation>
                    <cart:oblique_proj_pole_latitude unit="deg">6.7426602953979184</cart:oblique_proj_pole_latitude>
                    <cart:oblique_proj_pole_longitude unit="deg">145.11035533978534</cart:oblique_proj_pole_longitude>
                    <cart:oblique_proj_pole_rotation unit="deg">290.76312541367594</cart:oblique_proj_pole_rotation>
                    <cart:oblique_proj_x_axis_vector>0.5007075928403929,0.7907909762624231,-0.3520533174590225</cart:oblique_proj_x_axis_vector>
                    <cart:oblique_proj_y_axis_vector>-0.2928277776340488,-0.2279881179301662,-0.9285867276289086</cart:oblique_proj_y_axis_vector>
                    <cart:oblique_proj_z_axis_vector>-0.8145819781445472,0.5680414156948282,0.11741018242696008</cart:oblique_proj_z_axis_vector>
                  </cart:Oblique_Cylindrical>
                </cart:Map_Projection>
                <cart:Planar_Coordinate_Information>
                  <cart:planar_coordinate_encoding_method>Coordinate Pair</cart:planar_coordinate_encoding_method>
                  <cart:Coordinate_Representation>
                    <cart:pixel_resolution_x unit="m/pixel">100.0</cart:pixel_resolution_x>
                    <cart:pixel_resolution_y unit="m/pixel">100.0</cart:pixel_resolution_y>
                    <cart:pixel_scale_x unit="pixel/deg">303.2335042414948</cart:pixel_scale_x>
                    <cart:pixel_scale_y unit="pixel/deg">303.2335042414948</cart:pixel_scale_y>
                  </cart:Coordinate_Representation>
                </cart:Planar_Coordinate_Information>
                <cart:Geo_Transformation>
                  <cart:upperleft_corner_x unit="m">-465671.0</cart:upperleft_corner_x>
                  <cart:upperleft_corner_y unit="m">21430.0</cart:upperleft_corner_y>
                </cart:Geo_Transformation>
              </cart:Planar>
              <cart:Geodetic_Model>
                <cart:latitude_type>Planetocentric</cart:latitude_type>
                <cart:spheroid_name>MOON</cart:spheroid_name>
                <cart:a_axis_radius unit="km">1737.4</cart:a_axis_radius>
                <cart:b_axis_radius unit="km">1737.4</cart:b_axis_radius>
                <cart:c_axis_radius unit="km">1737.4</cart:c_axis_radius>
                <cart:longitude_direction>Positive East</cart:longitude_direction>
              </cart:Geodetic_Model>
            </cart:Horizontal_Coordinate_System_Definition>
          </cart:Spatial_Reference_Information>
      </cart:Cartography>
      <geom:Geometry>
        <geom:SPICE_Kernel_Files>
          <geom:SPICE_Kernel_Identification>
            <geom:kernel_type>SPK</geom:kernel_type>
            <geom:spice_kernel_file_name>arecibo.bsp</geom:spice_kernel_file_name>
            <geom:kernel_provenance>Provenance Not Applicable</geom:kernel_provenance>
          </geom:SPICE_Kernel_Identification>
          <geom:SPICE_Kernel_Identification>
            <geom:kernel_type>FK</geom:kernel_type>
            <geom:spice_kernel_file_name>arecibo.tf</geom:spice_kernel_file_name>
            <geom:kernel_provenance>Provenance Not Applicable</geom:kernel_provenance>
          </geom:SPICE_Kernel_Identification>
          <geom:SPICE_Kernel_Identification>
            <geom:kernel_type>IK</geom:kernel_type>
            <geom:spice_kernel_file_name>arecibo.ti</geom:spice_kernel_file_name>
            <geom:kernel_provenance>Provenance Not Applicable</geom:kernel_provenance>
          </geom:SPICE_Kernel_Identification>
          <geom:SPICE_Kernel_Identification>
            <geom:kernel_type>SPK</geom:kernel_type>
            <geom:spice_kernel_file_name>earthstns_itrf93_050714.bsp</geom:spice_kernel_file_name>
            <geom:kernel_provenance>Provenance Not Applicable</geom:kernel_provenance>
          </geom:SPICE_Kernel_Identification>
          <geom:SPICE_Kernel_Identification>
            <geom:kernel_type>FK</geom:kernel_type>
            <geom:spice_kernel_file_name>earth_topo_050714.tf</geom:spice_kernel_file_name>
            <geom:kernel_provenance>Provenance Not Applicable</geom:kernel_provenance>
          </geom:SPICE_Kernel_Identification>
          <geom:SPICE_Kernel_Identification>
            <geom:kernel_type>IK</geom:kernel_type>
            <geom:spice_kernel_file_name>dss13.ti</geom:spice_kernel_file_name>
            <geom:kernel_provenance>Provenance Not Applicable</geom:kernel_provenance>
          </geom:SPICE_Kernel_Identification>
          <geom:SPICE_Kernel_Identification>
            <geom:kernel_type>PCK</geom:kernel_type>
            <geom:spice_kernel_file_name>moon_pa_de421_1900-2050.bpc</geom:spice_kernel_file_name>
            <geom:kernel_provenance>Provenance Not Applicable</geom:kernel_provenance>
          </geom:SPICE_Kernel_Identification>
          <geom:SPICE_Kernel_Identification>
            <geom:kernel_type>PCK</geom:kernel_type>
            <geom:spice_kernel_file_name>pck00010.tpc</geom:spice_kernel_file_name>
            <geom:kernel_provenance>Provenance Not Applicable</geom:kernel_provenance>
          </geom:SPICE_Kernel_Identification>
          <geom:SPICE_Kernel_Identification>
            <geom:kernel_type>FK</geom:kernel_type>
            <geom:spice_kernel_file_name>moon_080317.tf</geom:spice_kernel_file_name>
            <geom:kernel_provenance>Provenance Not Applicable</geom:kernel_provenance>
          </geom:SPICE_Kernel_Identification>
          <geom:SPICE_Kernel_Identification>
            <geom:kernel_type>FK</geom:kernel_type>
            <geom:spice_kernel_file_name>moon_assoc_me.tf</geom:spice_kernel_file_name>
            <geom:kernel_provenance>Provenance Not Applicable</geom:kernel_provenance>
          </geom:SPICE_Kernel_Identification>
          <geom:SPICE_Kernel_Identification>
            <geom:kernel_type>FK</geom:kernel_type>
            <geom:spice_kernel_file_name>earth_assoc_itrf93.tf</geom:spice_kernel_file_name>
            <geom:kernel_provenance>Provenance Not Applicable</geom:kernel_provenance>
          </geom:SPICE_Kernel_Identification>
          <geom:SPICE_Kernel_Identification>
            <geom:kernel_type>SPK</geom:kernel_type>
            <geom:spice_kernel_file_name>de421.bsp</geom:spice_kernel_file_name>
            <geom:kernel_provenance>Provenance Not Applicable</geom:kernel_provenance>
          </geom:SPICE_Kernel_Identification>
          <geom:SPICE_Kernel_Identification>
            <geom:kernel_type>LSK</geom:kernel_type>
            <geom:spice_kernel_file_name>naif0012.tls</geom:spice_kernel_file_name>
            <geom:kernel_provenance>Provenance Not Applicable</geom:kernel_provenance>
          </geom:SPICE_Kernel_Identification>
          <geom:SPICE_Kernel_Identification>
            <geom:kernel_type>FK</geom:kernel_type>
            <geom:spice_kernel_file_name>lro_frames_2010214_v01.tf</geom:spice_kernel_file_name>
            <geom:kernel_provenance>Provenance Not Applicable</geom:kernel_provenance>
          </geom:SPICE_Kernel_Identification>
          <geom:SPICE_Kernel_Identification>
            <geom:kernel_type>FK</geom:kernel_type>
            <geom:spice_kernel_file_name>lro_sandia.tf</geom:spice_kernel_file_name>
            <geom:kernel_provenance>Provenance Not Applicable</geom:kernel_provenance>
          </geom:SPICE_Kernel_Identification>
          <geom:SPICE_Kernel_Identification>
            <geom:kernel_type>PCK</geom:kernel_type>
            <geom:spice_kernel_file_name>earth_000101_221020_220727.bpc</geom:spice_kernel_file_name>
            <geom:kernel_provenance>Provenance Not Applicable</geom:kernel_provenance>
          </geom:SPICE_Kernel_Identification>
          <geom:SPICE_Kernel_Identification>
            <geom:kernel_type>SCLK</geom:kernel_type>
            <geom:spice_kernel_file_name>current.tsc</geom:spice_kernel_file_name>
            <geom:kernel_provenance>Mixed</geom:kernel_provenance>
          </geom:SPICE_Kernel_Identification>
          <geom:SPICE_Kernel_Identification>
            <geom:kernel_type>SPK</geom:kernel_type>
            <geom:spice_kernel_file_name>LRO_DEF_20220728_00.BSP</geom:spice_kernel_file_name>
            <geom:kernel_provenance>Mixed</geom:kernel_provenance>
          </geom:SPICE_Kernel_Identification>
          <geom:SPICE_Kernel_Identification>
            <geom:kernel_type>CK</geom:kernel_type>
            <geom:spice_kernel_file_name>LRO_DEF_20220728_00.BC</geom:spice_kernel_file_name>
            <geom:kernel_provenance>Mixed</geom:kernel_provenance>
          </geom:SPICE_Kernel_Identification>
        </geom:SPICE_Kernel_Files>
      </geom:Geometry>
    </Discipline_Area>
  </Observation_Area>
  <Reference_List>
    <Internal_Reference>
      <lid_reference>urn:nasa:pds:lro_minirf_bistatic:browse:lxt_2022209171431_s1_21s058_browse</lid_reference>
      <reference_type>data_to_browse</reference_type>
      <comment>Browse JPEG for this product.</comment>
    </Internal_Reference>
  </Reference_List>
  <File_Area_Observational>
    <File>
      <file_name>lxt_2022209171431_s1_21s058_v1.img</file_name>
      <comment>File containing first Stokes Parameter (S1) data.
      </comment>
    </File>
    <Array_2D_Image>
      <local_identifier>lxt_2022209171431_s1_21s058_v1</local_identifier>
      <offset unit="byte">0</offset>
      <axes>2</axes>
      <axis_index_order>Last Index Fastest</axis_index_order>
      <description>
        The first Stokes Parameter (S1); represents the total power or
        total intensity of the received field.
        S1 = H * H_con + V * V_con where H and V are the
        horizontal and vertical components of the polarized portion 
        of the received EM field, H_con is the complex conjugate of H
        and V_con is the complex conjugate of V.
      </description>
      <Element_Array>
        <data_type>IEEE754LSBSingle</data_type>
      </Element_Array>
      <Axis_Array>
        <axis_name>Line</axis_name>
        <elements>353</elements>
        <sequence_number>1</sequence_number>
      </Axis_Array>
      <Axis_Array>
        <axis_name>Sample</axis_name>
        <elements>9336</elements>
        <sequence_number>2</sequence_number>
      </Axis_Array>
      <Special_Constants>
        <not_applicable_constant>-1.0E32</not_applicable_constant>
      </Special_Constants>
      <Object_Statistics>
        <maximum>35702584.0</maximum>
        <minimum>209208.0</minimum>
        <description>Minimum, maximum data values; not counting special constants.</description>
      </Object_Statistics>
    </Array_2D_Image>
  </File_Area_Observational>
</Product_Observational>