PDS_VERSION_ID = PDS3
/* File characteristics */
RECORD_TYPE = FIXED_LENGTH
RECORD_BYTES = 29916
FILE_RECORDS = 7001
/* Pointers to objects in file */
^IMAGE = "SBAND_32N349_CPR.IMG"
/* Identification keywords */
DATA_SET_ID = "ARCB/NRAO-L-RTLS/GBT-5-12.6CM-V1.0"
PRODUCT_ID = "SBAND_32N349_CPR"
INSTRUMENT_HOST_NAME = {"ARECIBO OBSERVATORY","NATIONAL RADIO ASTRONOMY OBSERVATORY"}
INSTRUMENT_NAME = {"RADIO TELESCOPE","ROBERT C. BYRD GREEN BANK TELESCOPE"}
TARGET_NAME = "MOON"
LATITUDE = 32.0 /* latitude of center of radar beam */
LONGITUDE = -11.0 /* longitude of center of radar beam */
START_TIME = 2009-09-11T12:09:00
STOP_TIME = 2009-09-11T12:37:38
PRODUCT_CREATION_TIME = 2015-10-20T12:00:00
PRODUCER_FULL_NAME = "BRUCE CAMPBELL"
PRODUCER_INSTITUTION_NAME = "SMITHSONIAN INSTITUTION"
TRANSMITTED_POLARIZATION_TYPE = "N/A"
RECEIVED_POLARIZATION_TYPE = "N/A"
CENTER_FREQUENCY = 2380
/* Image descriptive information */
OBJECT = IMAGE
  LINES = 7001
  LINE_SAMPLES = 7479
  SAMPLE_TYPE = PC_REAL
  SAMPLE_BITS = 32
  DESCRIPTION = "Circular polarization ratio image. Pixel values are dimensionless."
END_OBJECT
OBJECT = IMAGE_MAP_PROJECTION
  ^DATA_SET_MAP_PROJECTION = "DSMAP.CAT"
  MAP_PROJECTION_TYPE = "SIMPLE CYLINDRICAL"
  MAP_RESOLUTION = 379.173
  MAP_SCALE = 80.000
  COORDINATE_SYSTEM_NAME = "PLANETOCENTRIC"
  COORDINATE_SYSTEM_TYPE = "BODY-FIXED ROTATING"
  POSITIVE_LONGITUDE_DIRECTION = EAST
  MAXIMUM_LATITUDE = 42.4009
  MINIMUM_LATITUDE = 23.9331
  EASTERNMOST_LONGITUDE = -1.9439
  WESTERNMOST_LONGITUDE = -21.6727
  A_AXIS_RADIUS = 1738.0
  B_AXIS_RADIUS = 1738.0
  C_AXIS_RADIUS = 1738.0
  SAMPLE_FIRST_PIXEL = 1
  SAMPLE_LAST_PIXEL = 7479
  SAMPLE_PROJECTION_OFFSET = 8217.704327
  LINE_FIRST_PIXEL = 1
  LINE_LAST_PIXEL = 7001
  LINE_PROJECTION_OFFSET = 16077.28064
  FIRST_STANDARD_PARALLEL = "N/A"
  SECOND_STANDARD_PARALLEL = "N/A"
  CENTER_LATITUDE = 0.0
  CENTER_LONGITUDE = 0.0
  REFERENCE_LATITUDE = "N/A"
  REFERENCE_LONGITUDE = "N/A"
  MAP_PROJECTION_ROTATION = 0.0
END_OBJECT
END
