<?xml version="1.0" encoding="UTF-8"?>
<?xml-model href="https://pds.nasa.gov/pds4/pds/v1/PDS4_PDS_1L00.sch" schematypens="http://purl.oclc.org/dsdl/schematron" ?>
<?xml-model href="https://pds.nasa.gov/pds4/cart/v1/PDS4_CART_1L00_1970.sch" schematypens="http://purl.oclc.org/dsdl/schematron" ?>
<?xml-model href="https://pds.nasa.gov/pds4/disp/v1/PDS4_DISP_1L00_1510.sch" schematypens="http://purl.oclc.org/dsdl/schematron" ?>
<Product_Observational
   xmlns="http://pds.nasa.gov/pds4/pds/v1"
   xmlns:cart="http://pds.nasa.gov/pds4/cart/v1"
   xmlns:disp="http://pds.nasa.gov/pds4/disp/v1"
   xmlns:xsi="http://www.w3.org/2001/XMLSchema-instance"
   xsi:schemaLocation=
      "http://pds.nasa.gov/pds4/pds/v1 https://pds.nasa.gov/pds4/pds/v1/PDS4_PDS_1L00.xsd
      http://pds.nasa.gov/pds4/cart/v1 https://pds.nasa.gov/pds4/cart/v1/PDS4_CART_1L00_1970.xsd
      http://pds.nasa.gov/pds4/disp/v1 https://pds.nasa.gov/pds4/disp/v1/PDS4_DISP_1L00_1510.xsd"
>
 <Identification_Area>
  <logical_identifier>urn:nasa:pds:chang_e_microwave_processed:miscellaneous:hpar_global_128ppd</logical_identifier>
  <version_id>1.0</version_id>
  <title>Global Lunar H-Parameter Map</title>
  <information_model_version>1.21.0.0</information_model_version>
  <product_class>Product_Observational</product_class>
  <Citation_Information>
   <author_list>
    Hayne, P.O.; Bandfield, J.L.; Siegler, M.A.; Vasavada, A.R.; Ghent, R.R.;
    Williams, J.P.; Greenhagen, B.T.; Aharonson, O.; Elder, C.M.; Lucey, P.G.;
    Paige, D.A.
   </author_list>
   <editor_list>St. Clair, Michael; Ward, Jennifer</editor_list>
   <publication_year>2024</publication_year>
   <description>
    This is a map of the lunar "H-parameter" from -70 to 70 latitude and -180 to
    180 longitude, presented in equirectangular projection at 128 pix/deg. The
    H-parameter is a measure of increase in density (and therefore thermal
    conductivity) with depth. It is defined as the term "H" in the density model

        rho(z) = rho_d - (rho_d - rho_s) ** exp(-z / H)

    where z is depth, rho(z) is density at depth z, rho_s is density at the
    surface, and rho_d is density for z-values >> H. The values in this map are
    based on best fits to data from LRO Diviner channel 7 (25-41 um).

    The data used to create this file were originally released in ENVI-style
    .bin files as a supplement to Hayne et al. 2017. This version presents
    those data in FITS format with slight data type changes and truncated
    backplanes for standards compliance and storage efficiency; no precision
    is lost.

    The temperature modeling pipeline used to produce some derived data in
    this bundle uses this map as an input.
   </description>
  </Citation_Information>
  <Modification_History>
   <Modification_Detail>
    <modification_date>2024-05-27</modification_date>
    <version_id>1.0</version_id>
    <description>Initial archive version.</description>
   </Modification_Detail>
  </Modification_History>
 </Identification_Area>
 <Observation_Area>
  <Time_Coordinates>
   <start_date_time xsi:nil="true" nilReason="inapplicable"/>
   <stop_date_time xsi:nil="true" nilReason="inapplicable"/>
  </Time_Coordinates>
  <Primary_Result_Summary>
   <purpose>Science</purpose>
   <processing_level>Derived</processing_level>
  </Primary_Result_Summary>
  <Investigation_Area>
   <name>LUNAR RECONNAISSANCE ORBITER</name>
   <type>Mission</type>
   <Internal_Reference>
    <lidvid_reference>urn:nasa:pds:context:investigation:mission.lunar_reconnaissance_orbiter::1.1</lidvid_reference>
    <reference_type>data_to_investigation</reference_type>
   </Internal_Reference>
  </Investigation_Area>
  <Observing_System>
   <Observing_System_Component>
    <name>LUNAR RECONNAISSANCE ORBITER</name>
    <type>Host</type>
    <Internal_Reference>
     <lidvid_reference>urn:nasa:pds:context:instrument_host:spacecraft.lro::1.2</lidvid_reference>
     <reference_type>is_instrument_host</reference_type>
    </Internal_Reference>
   </Observing_System_Component>
   <Observing_System_Component>
    <name>DIVINER LUNAR RADIOMETER EXPERIMENT</name>
    <type>Instrument</type>
    <Internal_Reference>
     <lidvid_reference>urn:nasa:pds:context:instrument:lro.dlre::1.0</lidvid_reference>
     <reference_type>is_instrument</reference_type>
    </Internal_Reference>
   </Observing_System_Component>
  </Observing_System>
  <Target_Identification>
   <name>Moon</name>
   <type>Satellite</type>
   <Internal_Reference>
    <lidvid_reference>urn:nasa:pds:context:target:satellite.earth.moon::1.1</lidvid_reference>
    <reference_type>data_to_target</reference_type>
   </Internal_Reference>
  </Target_Identification>
  <Discipline_Area>
   <disp:Display_Settings>
    <Local_Internal_Reference>
     <local_identifier_reference>HPARAM</local_identifier_reference>
     <local_reference_type>display_settings_to_array</local_reference_type>
    </Local_Internal_Reference>
    <disp:Display_Direction>
     <disp:horizontal_display_axis>Sample</disp:horizontal_display_axis>
     <disp:horizontal_display_direction>Left to Right</disp:horizontal_display_direction>
     <disp:vertical_display_axis>Line</disp:vertical_display_axis>
     <disp:vertical_display_direction>Top to Bottom</disp:vertical_display_direction>
    </disp:Display_Direction>
   </disp:Display_Settings>
   <cart:Cartography>
    <Local_Internal_Reference>
     <local_identifier_reference>HPARAM</local_identifier_reference>
     <local_reference_type>cartography_parameters_to_image_object</local_reference_type>
    </Local_Internal_Reference>
    <cart:Spatial_Domain>
     <cart:Bounding_Coordinates>
      <cart:west_bounding_coordinate unit="deg">-180</cart:west_bounding_coordinate>
      <cart:east_bounding_coordinate unit="deg">180</cart:east_bounding_coordinate>
      <cart:north_bounding_coordinate unit="deg">70</cart:north_bounding_coordinate>
      <cart:south_bounding_coordinate unit="deg">-70</cart:south_bounding_coordinate>
     </cart:Bounding_Coordinates>
    </cart:Spatial_Domain>
    <cart:Spatial_Reference_Information>
     <cart:Horizontal_Coordinate_System_Definition>
      <cart:Planar>
       <cart:Map_Projection>
        <cart:map_projection_name>Equirectangular</cart:map_projection_name>
        <cart:Equirectangular>
         <cart:latitude_of_projection_origin unit="deg">0</cart:latitude_of_projection_origin>
         <cart:standard_parallel_1 unit="deg">0</cart:standard_parallel_1>
         <cart:longitude_of_central_meridian unit="deg">0</cart:longitude_of_central_meridian>
        </cart:Equirectangular>
       </cart:Map_Projection>
       <cart:Planar_Coordinate_Information>
        <cart:planar_coordinate_encoding_method>Coordinate Pair</cart:planar_coordinate_encoding_method>
        <cart:Coordinate_Representation>
         <cart:pixel_resolution_x unit="m/pixel">236.901</cart:pixel_resolution_x>
         <cart:pixel_resolution_y unit="m/pixel">236.901</cart:pixel_resolution_y>
         <cart:pixel_scale_x unit="pixel/deg">128</cart:pixel_scale_x>
         <cart:pixel_scale_y unit="pixel/deg">128</cart:pixel_scale_y>
        </cart:Coordinate_Representation>
       </cart:Planar_Coordinate_Information>
       <cart:Geo_Transformation>
        <cart:upperleft_corner_x unit="m">-5458199.04</cart:upperleft_corner_x>
        <cart:upperleft_corner_y unit="m">2122632.96</cart:upperleft_corner_y>
       </cart:Geo_Transformation>
      </cart:Planar>
      <cart:Geodetic_Model>
       <cart:latitude_type>Planetographic</cart:latitude_type>
       <cart:a_axis_radius unit="m">1737400</cart:a_axis_radius>
       <cart:b_axis_radius unit="m">1737400</cart:b_axis_radius>
       <cart:c_axis_radius unit="m">1737400</cart:c_axis_radius>
       <cart:longitude_direction>Positive East</cart:longitude_direction>
       <cart:coordinate_system_type>Body-fixed Rotating</cart:coordinate_system_type>
       <cart:coordinate_system_name>MOON_ME</cart:coordinate_system_name>
      </cart:Geodetic_Model>
     </cart:Horizontal_Coordinate_System_Definition>
    </cart:Spatial_Reference_Information>
   </cart:Cartography>
  </Discipline_Area>
 </Observation_Area>
 <Reference_List>
  <Internal_Reference>
   <lidvid_reference>urn:nasa:pds:lro_diviner_calibrated::1.0</lidvid_reference>
   <reference_type>data_to_calibrated_product</reference_type>
   <comment>
    Bundle containing calibrated Diviner data used to derive H-parameter values.
   </comment>
  </Internal_Reference>
  <External_Reference>
   <doi>10.1002/2017JE005387</doi>
   <reference_text>
    Hayne, P. O., Bandfield, J. L., Siegler, M. A., Vasavada, A.R., Ghent,
    R. R., Williams, J.-P., Greenhagen, B.T., Aharonson, O., Elder, C.M.,
    Lucey, P.G., Paige, D.A. (2017). Global regolith thermophysical properties
    of the Moon from the Diviner Lunar Radiometer Experiment. Journal of
    Geophysical Research: Planets, 122, 2371–2400.
   </reference_text>
   <description>
    Article describing process used to derive these data as well as useful
    theoretical context.
   </description>
  </External_Reference>
 </Reference_List>
 <File_Area_Observational>
  <File>
   <file_name>hpar_global_128ppd.fits</file_name>
   <creation_date_time>2024-01-12T15:31:22Z</creation_date_time>
   <file_size unit="byte">1651907520</file_size>
  </File>
  <Header>
   <local_identifier>PRIMARY_HEADER</local_identifier>
   <offset unit="byte">0</offset>
   <object_length unit="byte">2880</object_length>
   <parsing_standard_id>FITS 3.0</parsing_standard_id>
  </Header>
  <Header>
   <local_identifier>HPARAM_HEADER</local_identifier>
   <offset unit="byte">2880</offset>
   <object_length unit="byte">2880</object_length>
   <parsing_standard_id>FITS 3.0</parsing_standard_id>
  </Header>
  <Array_2D_Image>
   <local_identifier>HPARAM</local_identifier>
   <offset unit="byte">5760</offset>
   <axes>2</axes>
   <axis_index_order>Last Index Fastest</axis_index_order>
   <description>
    H-parameter (density increase with depth) values based on Diviner data.
   </description>
   <Element_Array>
    <data_type>SignedMSB2</data_type>
    <scaling_factor>1.52592238142350E-05</scaling_factor>
    <value_offset>0.4999989867210388</value_offset>
   </Element_Array>
   <Axis_Array>
    <axis_name>Line</axis_name>
    <elements>17921</elements>
    <sequence_number>1</sequence_number>
   </Axis_Array>
   <Axis_Array>
    <axis_name>Sample</axis_name>
    <elements>46081</elements>
    <sequence_number>2</sequence_number>
   </Axis_Array>
   <Special_Constants>
    <missing_constant>-32768</missing_constant>
   </Special_Constants>
  </Array_2D_Image>
  <Header>
   <local_identifier>LATITUDE_HEADER</local_identifier>
   <offset unit="byte">1651642560</offset>
   <object_length unit="byte">2880</object_length>
   <parsing_standard_id>FITS 3.0</parsing_standard_id>
  </Header>
  <Array_1D>
   <local_identifier>LATITUDE</local_identifier>
   <offset unit="byte">1651645440</offset>
   <axes>1</axes>
   <axis_index_order>Last Index Fastest</axis_index_order>
   <description>
    Latitude values corresponding to the y (Line) axis of the HPARAM
    array. As that array is in equirectangular projection, the values of this
    array can simply be repeated across the entire x axis to generate a
    traditional 'backplane'.
   </description>
   <Element_Array>
    <data_type>IEEE754MSBSingle</data_type>
   </Element_Array>
   <Axis_Array>
    <axis_name>Sample</axis_name>
    <elements>17921</elements>
    <sequence_number>1</sequence_number>
   </Axis_Array>
  </Array_1D>
  <Header>
   <local_identifier>LONGITUDE_HEADER</local_identifier>
   <offset unit="byte">1651717440</offset>
   <object_length unit="byte">2880</object_length>
   <parsing_standard_id>FITS 3.0</parsing_standard_id>
  </Header>
  <Array_1D>
   <offset unit="byte">1651720320</offset>
   <axes>1</axes>
   <axis_index_order>Last Index Fastest</axis_index_order>
   <description>
    Longitude values corresponding to the x (Sample) axis of the HPARAM
    array. As that array is in equirectangular projection, the values of this
    array can simply be repeated across the entire y axis to generate a
    traditional 'backplane'.
   </description>
   <Element_Array>
    <data_type>IEEE754MSBSingle</data_type>
   </Element_Array>
   <Axis_Array>
    <axis_name>Sample</axis_name>
    <elements>46081</elements>
    <sequence_number>1</sequence_number>
   </Axis_Array>
  </Array_1D>
 </File_Area_Observational>
</Product_Observational>
