<?xml-model href="https://pds.nasa.gov/pds4/disp/v1/PDS4_DISP_1L00_1510.sch" schematypens="http://purl.oclc.org/dsdl/schematron" ?>
<?xml-model href="https://pds.nasa.gov/pds4/cart/v1/PDS4_CART_1L00_1970.sch" schematypens="http://purl.oclc.org/dsdl/schematron" ?>
<?xml-model href="https://pds.nasa.gov/pds4/pds/v1/PDS4_PDS_1L00.sch" schematypens="http://purl.oclc.org/dsdl/schematron" ?>
<Product_Observational
   xmlns="http://pds.nasa.gov/pds4/pds/v1"
   xmlns:cart="http://pds.nasa.gov/pds4/cart/v1"
   xmlns:disp="http://pds.nasa.gov/pds4/disp/v1"
   xmlns:xsi="http://www.w3.org/2001/XMLSchema-instance"
   xsi:schemaLocation=
      "http://pds.nasa.gov/pds4/pds/v1 https://pds.nasa.gov/pds4/pds/v1/PDS4_PDS_1L00.xsd
      http://pds.nasa.gov/pds4/cart/v1 https://pds.nasa.gov/pds4/cart/v1/PDS4_CART_1L00_1970.xsd
      http://pds.nasa.gov/pds4/disp/v1 https://pds.nasa.gov/pds4/disp/v1/PDS4_DISP_1L00_1510.xsd"
>
 <Identification_Area>
  <logical_identifier>urn:nasa:pds:chang_e_microwave_processed:miscellaneous:t2_tbmod_32ppd</logical_identifier>
  <version_id>1.0</version_id>
  <title>Time-Binned Modeled Lunar Brightness Temperature Maps at 7.8 GHz</title>
  <information_model_version>1.21.0.0</information_model_version>
  <product_class>Product_Observational</product_class>
  <Citation_Information>
   <author_list>
    St. Clair, Michael; Brown, Sierra; Feng, Jianqing; Million, Chase;
    Siegler, Matthew
   </author_list>
   <editor_list>Ward, Jennifer</editor_list>
   <publication_year>2024</publication_year>
   <description>
    This product contains modeled time-binned lunar brightness temperatures at
    7.8 GHz. It was created by interpolating observational data from
    Kaguya/SELENE LISM and LRO Diviner, LOLA, and LROC within the parameter
    space of a physical heatflow model. These values are presented in
    equirectangular projection at 32 pixels per degree and organized into
    separate HDUs of a FITS file, one HDU per 2-hour local time bin.
   </description>
  </Citation_Information>
  <Modification_History>
   <Modification_Detail>
    <modification_date>2024-10-10</modification_date>
    <version_id>1.0</version_id>
    <description>Initial version.</description>
   </Modification_Detail>
  </Modification_History>
 </Identification_Area>
 <Observation_Area>
  <Time_Coordinates>
   <start_date_time xsi:nil="true" nilReason="inapplicable"/>
   <stop_date_time xsi:nil="true" nilReason="inapplicable"/>
  </Time_Coordinates>
  <Primary_Result_Summary>
   <purpose>Science</purpose>
   <processing_level>Derived</processing_level>
  </Primary_Result_Summary>
  <Investigation_Area>
   <name>LUNAR RECONNAISSANCE ORBITER</name>
   <type>Mission</type>
   <Internal_Reference>
    <lidvid_reference>urn:nasa:pds:context:investigation:mission.lunar_reconnaissance_orbiter::1.1</lidvid_reference>
    <reference_type>data_to_investigation</reference_type>
   </Internal_Reference>
  </Investigation_Area>
  <Investigation_Area>
   <name>Kaguya</name>
   <type>Mission</type>
   <Internal_Reference>
    <lidvid_reference>urn:nasa:pds:context:investigation:mission.kaguya::1.0</lidvid_reference>
    <reference_type>data_to_investigation</reference_type>
   </Internal_Reference>
  </Investigation_Area>
  <Observing_System>
   <Observing_System_Component>
    <name>LUNAR RECONNAISSANCE ORBITER</name>
    <type>Host</type>
    <Internal_Reference>
     <lidvid_reference>urn:nasa:pds:context:instrument_host:spacecraft.lro::1.2</lidvid_reference>
     <reference_type>is_instrument_host</reference_type>
    </Internal_Reference>
   </Observing_System_Component>
   <Observing_System_Component>
    <name>LUNAR RECONNAISSANCE ORBITER CAMERA</name>
    <type>Instrument</type>
    <Internal_Reference>
     <lidvid_reference>urn:nasa:pds:context:instrument:lro.lroc::1.0</lidvid_reference>
     <reference_type>is_instrument</reference_type>
    </Internal_Reference>
   </Observing_System_Component>
   <Observing_System_Component>
    <name>DIVINER LUNAR RADIOMETER EXPERIMENT</name>
    <type>Instrument</type>
    <Internal_Reference>
     <lidvid_reference>urn:nasa:pds:context:instrument:lro.dlre::1.0</lidvid_reference>
     <reference_type>is_instrument</reference_type>
    </Internal_Reference>
   </Observing_System_Component>
   <Observing_System_Component>
    <name>LUNAR ORBITER LASER ALTIMETER</name>
    <type>Instrument</type>
    <Internal_Reference>
     <lidvid_reference>urn:nasa:pds:context:instrument:lro.lola::1.0</lidvid_reference>
     <reference_type>is_instrument</reference_type>
    </Internal_Reference>
   </Observing_System_Component>
   <Observing_System_Component>
    <name>Kaguya</name>
    <type>Host</type>
    <Internal_Reference>
     <lidvid_reference>urn:nasa:pds:context:instrument_host:spacecraft.kaguya::1.0</lidvid_reference>
     <reference_type>is_instrument_host</reference_type>
    </Internal_Reference>
   </Observing_System_Component>
   <Observing_System_Component>
    <name>LISM</name>
    <type>Instrument</type>
    <Internal_Reference>
     <lidvid_reference>urn:nasa:pds:context:instrument:kaguya.lism::1.0</lidvid_reference>
     <reference_type>is_instrument</reference_type>
    </Internal_Reference>
   </Observing_System_Component>
  </Observing_System>
  <Target_Identification>
   <name>Moon</name>
   <type>Satellite</type>
   <Internal_Reference>
    <lidvid_reference>urn:nasa:pds:context:target:satellite.earth.moon::1.1</lidvid_reference>
    <reference_type>data_to_target</reference_type>
   </Internal_Reference>
  </Target_Identification>
  <Discipline_Area>
   <disp:Display_Settings>
    <Local_Internal_Reference>
     <local_identifier_reference>TBMOD_0_2</local_identifier_reference>
     <local_reference_type>display_settings_to_array</local_reference_type>
    </Local_Internal_Reference>
    <disp:Display_Direction>
     <disp:horizontal_display_axis>Sample</disp:horizontal_display_axis>
     <disp:horizontal_display_direction>Left to Right</disp:horizontal_display_direction>
     <disp:vertical_display_axis>Line</disp:vertical_display_axis>
     <disp:vertical_display_direction>Top to Bottom</disp:vertical_display_direction>
    </disp:Display_Direction>
   </disp:Display_Settings>
   <disp:Display_Settings>
    <Local_Internal_Reference>
     <local_identifier_reference>TBMOD_2_4</local_identifier_reference>
     <local_reference_type>display_settings_to_array</local_reference_type>
    </Local_Internal_Reference>
    <disp:Display_Direction>
     <disp:horizontal_display_axis>Sample</disp:horizontal_display_axis>
     <disp:horizontal_display_direction>Left to Right</disp:horizontal_display_direction>
     <disp:vertical_display_axis>Line</disp:vertical_display_axis>
     <disp:vertical_display_direction>Top to Bottom</disp:vertical_display_direction>
    </disp:Display_Direction>
   </disp:Display_Settings>
   <disp:Display_Settings>
    <Local_Internal_Reference>
     <local_identifier_reference>TBMOD_4_6</local_identifier_reference>
     <local_reference_type>display_settings_to_array</local_reference_type>
    </Local_Internal_Reference>
    <disp:Display_Direction>
     <disp:horizontal_display_axis>Sample</disp:horizontal_display_axis>
     <disp:horizontal_display_direction>Left to Right</disp:horizontal_display_direction>
     <disp:vertical_display_axis>Line</disp:vertical_display_axis>
     <disp:vertical_display_direction>Top to Bottom</disp:vertical_display_direction>
    </disp:Display_Direction>
   </disp:Display_Settings>
   <disp:Display_Settings>
    <Local_Internal_Reference>
     <local_identifier_reference>TBMOD_6_8</local_identifier_reference>
     <local_reference_type>display_settings_to_array</local_reference_type>
    </Local_Internal_Reference>
    <disp:Display_Direction>
     <disp:horizontal_display_axis>Sample</disp:horizontal_display_axis>
     <disp:horizontal_display_direction>Left to Right</disp:horizontal_display_direction>
     <disp:vertical_display_axis>Line</disp:vertical_display_axis>
     <disp:vertical_display_direction>Top to Bottom</disp:vertical_display_direction>
    </disp:Display_Direction>
   </disp:Display_Settings>
   <disp:Display_Settings>
    <Local_Internal_Reference>
     <local_identifier_reference>TBMOD_8_10</local_identifier_reference>
     <local_reference_type>display_settings_to_array</local_reference_type>
    </Local_Internal_Reference>
    <disp:Display_Direction>
     <disp:horizontal_display_axis>Sample</disp:horizontal_display_axis>
     <disp:horizontal_display_direction>Left to Right</disp:horizontal_display_direction>
     <disp:vertical_display_axis>Line</disp:vertical_display_axis>
     <disp:vertical_display_direction>Top to Bottom</disp:vertical_display_direction>
    </disp:Display_Direction>
   </disp:Display_Settings>
   <disp:Display_Settings>
    <Local_Internal_Reference>
     <local_identifier_reference>TBMOD_10_12</local_identifier_reference>
     <local_reference_type>display_settings_to_array</local_reference_type>
    </Local_Internal_Reference>
    <disp:Display_Direction>
     <disp:horizontal_display_axis>Sample</disp:horizontal_display_axis>
     <disp:horizontal_display_direction>Left to Right</disp:horizontal_display_direction>
     <disp:vertical_display_axis>Line</disp:vertical_display_axis>
     <disp:vertical_display_direction>Top to Bottom</disp:vertical_display_direction>
    </disp:Display_Direction>
   </disp:Display_Settings>
   <disp:Display_Settings>
    <Local_Internal_Reference>
     <local_identifier_reference>TBMOD_12_14</local_identifier_reference>
     <local_reference_type>display_settings_to_array</local_reference_type>
    </Local_Internal_Reference>
    <disp:Display_Direction>
     <disp:horizontal_display_axis>Sample</disp:horizontal_display_axis>
     <disp:horizontal_display_direction>Left to Right</disp:horizontal_display_direction>
     <disp:vertical_display_axis>Line</disp:vertical_display_axis>
     <disp:vertical_display_direction>Top to Bottom</disp:vertical_display_direction>
    </disp:Display_Direction>
   </disp:Display_Settings>
   <disp:Display_Settings>
    <Local_Internal_Reference>
     <local_identifier_reference>TBMOD_14_16</local_identifier_reference>
     <local_reference_type>display_settings_to_array</local_reference_type>
    </Local_Internal_Reference>
    <disp:Display_Direction>
     <disp:horizontal_display_axis>Sample</disp:horizontal_display_axis>
     <disp:horizontal_display_direction>Left to Right</disp:horizontal_display_direction>
     <disp:vertical_display_axis>Line</disp:vertical_display_axis>
     <disp:vertical_display_direction>Top to Bottom</disp:vertical_display_direction>
    </disp:Display_Direction>
   </disp:Display_Settings>
   <disp:Display_Settings>
    <Local_Internal_Reference>
     <local_identifier_reference>TBMOD_16_18</local_identifier_reference>
     <local_reference_type>display_settings_to_array</local_reference_type>
    </Local_Internal_Reference>
    <disp:Display_Direction>
     <disp:horizontal_display_axis>Sample</disp:horizontal_display_axis>
     <disp:horizontal_display_direction>Left to Right</disp:horizontal_display_direction>
     <disp:vertical_display_axis>Line</disp:vertical_display_axis>
     <disp:vertical_display_direction>Top to Bottom</disp:vertical_display_direction>
    </disp:Display_Direction>
   </disp:Display_Settings>
   <disp:Display_Settings>
    <Local_Internal_Reference>
     <local_identifier_reference>TBMOD_18_20</local_identifier_reference>
     <local_reference_type>display_settings_to_array</local_reference_type>
    </Local_Internal_Reference>
    <disp:Display_Direction>
     <disp:horizontal_display_axis>Sample</disp:horizontal_display_axis>
     <disp:horizontal_display_direction>Left to Right</disp:horizontal_display_direction>
     <disp:vertical_display_axis>Line</disp:vertical_display_axis>
     <disp:vertical_display_direction>Top to Bottom</disp:vertical_display_direction>
    </disp:Display_Direction>
   </disp:Display_Settings>
   <disp:Display_Settings>
    <Local_Internal_Reference>
     <local_identifier_reference>TBMOD_20_22</local_identifier_reference>
     <local_reference_type>display_settings_to_array</local_reference_type>
    </Local_Internal_Reference>
    <disp:Display_Direction>
     <disp:horizontal_display_axis>Sample</disp:horizontal_display_axis>
     <disp:horizontal_display_direction>Left to Right</disp:horizontal_display_direction>
     <disp:vertical_display_axis>Line</disp:vertical_display_axis>
     <disp:vertical_display_direction>Top to Bottom</disp:vertical_display_direction>
    </disp:Display_Direction>
   </disp:Display_Settings>
   <disp:Display_Settings>
    <Local_Internal_Reference>
     <local_identifier_reference>TBMOD_22_24</local_identifier_reference>
     <local_reference_type>display_settings_to_array</local_reference_type>
    </Local_Internal_Reference>
    <disp:Display_Direction>
     <disp:horizontal_display_axis>Sample</disp:horizontal_display_axis>
     <disp:horizontal_display_direction>Left to Right</disp:horizontal_display_direction>
     <disp:vertical_display_axis>Line</disp:vertical_display_axis>
     <disp:vertical_display_direction>Top to Bottom</disp:vertical_display_direction>
    </disp:Display_Direction>
   </disp:Display_Settings>
   <cart:Cartography>
    <Local_Internal_Reference>
     <local_identifier_reference>TBMOD_0_2</local_identifier_reference>
     <local_reference_type>cartography_parameters_to_image_object</local_reference_type>
    </Local_Internal_Reference>
    <Local_Internal_Reference>
     <local_identifier_reference>TBMOD_2_4</local_identifier_reference>
     <local_reference_type>cartography_parameters_to_image_object</local_reference_type>
    </Local_Internal_Reference>
    <Local_Internal_Reference>
     <local_identifier_reference>TBMOD_4_6</local_identifier_reference>
     <local_reference_type>cartography_parameters_to_image_object</local_reference_type>
    </Local_Internal_Reference>
    <Local_Internal_Reference>
     <local_identifier_reference>TBMOD_6_8</local_identifier_reference>
     <local_reference_type>cartography_parameters_to_image_object</local_reference_type>
    </Local_Internal_Reference>
    <Local_Internal_Reference>
     <local_identifier_reference>TBMOD_8_10</local_identifier_reference>
     <local_reference_type>cartography_parameters_to_image_object</local_reference_type>
    </Local_Internal_Reference>
    <Local_Internal_Reference>
     <local_identifier_reference>TBMOD_10_12</local_identifier_reference>
     <local_reference_type>cartography_parameters_to_image_object</local_reference_type>
    </Local_Internal_Reference>
    <Local_Internal_Reference>
     <local_identifier_reference>TBMOD_12_14</local_identifier_reference>
     <local_reference_type>cartography_parameters_to_image_object</local_reference_type>
    </Local_Internal_Reference>
    <Local_Internal_Reference>
     <local_identifier_reference>TBMOD_14_16</local_identifier_reference>
     <local_reference_type>cartography_parameters_to_image_object</local_reference_type>
    </Local_Internal_Reference>
    <Local_Internal_Reference>
     <local_identifier_reference>TBMOD_16_18</local_identifier_reference>
     <local_reference_type>cartography_parameters_to_image_object</local_reference_type>
    </Local_Internal_Reference>
    <Local_Internal_Reference>
     <local_identifier_reference>TBMOD_18_20</local_identifier_reference>
     <local_reference_type>cartography_parameters_to_image_object</local_reference_type>
    </Local_Internal_Reference>
    <Local_Internal_Reference>
     <local_identifier_reference>TBMOD_20_22</local_identifier_reference>
     <local_reference_type>cartography_parameters_to_image_object</local_reference_type>
    </Local_Internal_Reference>
    <Local_Internal_Reference>
     <local_identifier_reference>TBMOD_22_24</local_identifier_reference>
     <local_reference_type>cartography_parameters_to_image_object</local_reference_type>
    </Local_Internal_Reference>
    <cart:Spatial_Domain>
     <cart:Bounding_Coordinates>
      <cart:west_bounding_coordinate unit="deg">-180</cart:west_bounding_coordinate>
      <cart:east_bounding_coordinate unit="deg">180</cart:east_bounding_coordinate>
      <cart:north_bounding_coordinate unit="deg">69.96875</cart:north_bounding_coordinate>
      <cart:south_bounding_coordinate unit="deg">-69.96875</cart:south_bounding_coordinate>
     </cart:Bounding_Coordinates>
    </cart:Spatial_Domain>
    <cart:Spatial_Reference_Information>
     <cart:Horizontal_Coordinate_System_Definition>
      <cart:Planar>
       <cart:Map_Projection>
        <cart:map_projection_name>Equirectangular</cart:map_projection_name>
        <cart:Equirectangular>
         <cart:latitude_of_projection_origin unit="deg">0</cart:latitude_of_projection_origin>
         <cart:standard_parallel_1 unit="deg">0</cart:standard_parallel_1>
         <cart:longitude_of_central_meridian unit="deg">0</cart:longitude_of_central_meridian>
        </cart:Equirectangular>
       </cart:Map_Projection>
       <cart:Planar_Coordinate_Information>
        <cart:planar_coordinate_encoding_method>Coordinate Pair</cart:planar_coordinate_encoding_method>
        <cart:Coordinate_Representation>
         <cart:pixel_resolution_x unit="m/pixel">947.6047140704768</cart:pixel_resolution_x>
         <cart:pixel_resolution_y unit="m/pixel">947.6047140704768</cart:pixel_resolution_y>
         <cart:pixel_scale_x unit="pixel/deg">32</cart:pixel_scale_x>
         <cart:pixel_scale_y unit="pixel/deg">32</cart:pixel_scale_y>
        </cart:Coordinate_Representation>
       </cart:Planar_Coordinate_Information>
       <cart:Geo_Transformation>
        <cart:upperleft_corner_x unit="m">-5458203.153045947</cart:upperleft_corner_x>
        <cart:upperleft_corner_y unit="m">2122634.559517868</cart:upperleft_corner_y>
       </cart:Geo_Transformation>
      </cart:Planar>
      <cart:Geodetic_Model>
       <cart:latitude_type>Planetographic</cart:latitude_type>
       <cart:a_axis_radius unit="m">1737400</cart:a_axis_radius>
       <cart:b_axis_radius unit="m">1737400</cart:b_axis_radius>
       <cart:c_axis_radius unit="m">1737400</cart:c_axis_radius>
       <cart:longitude_direction>Positive East</cart:longitude_direction>
       <cart:coordinate_system_type>Body-fixed Rotating</cart:coordinate_system_type>
       <cart:coordinate_system_name>MOON_ME</cart:coordinate_system_name>
      </cart:Geodetic_Model>
     </cart:Horizontal_Coordinate_System_Definition>
    </cart:Spatial_Reference_Information>
   </cart:Cartography>
  </Discipline_Area>
 </Observation_Area>
 <Reference_List>
  <Source_Product_Internal>
   <lidvid_reference>urn:nasa:pds:chang_e_microwave_processed:miscellaneous:wac_hapke_604nm_70n70s_64ppd::1.0</lidvid_reference>
   <reference_type>data_to_derived_source_product</reference_type>
   <comment>LROC WAC Hapke parameter map used as albedo in model.</comment>
  </Source_Product_Internal>
  <Source_Product_Internal>
   <lidvid_reference>urn:nasa:pds:chang_e_microwave_processed:miscellaneous:hpar_global_128ppd::1.0</lidvid_reference>
   <reference_type>data_to_derived_source_product</reference_type>
   <comment>Diviner H-parameter map used as density/thermal conductivity gradient in model.</comment>
  </Source_Product_Internal>
  <Source_Product_External>
   <external_source_product_identifier>SLDEM2015_64_AZ_90S_90N_000_360</external_source_product_identifier>
   <reference_type>data_to_derived_source_product</reference_type>
   <curating_facility>PDS LOLA Node</curating_facility>
   <description>LOLA- and Kaguya/SELENE-derived azimuth map used as input to model.</description>
  </Source_Product_External>
  <Source_Product_External>
   <external_source_product_identifier>SLDEM2015_64_SL_90S_90N_000_360</external_source_product_identifier>
   <reference_type>data_to_derived_source_product</reference_type>
   <curating_facility>PDS LOLA Node</curating_facility>
   <description>LOLA- and Kaguya/SELENE-derived slope map used as input to model.</description>
  </Source_Product_External>
 </Reference_List>
 <File_Area_Observational>
  <File>
   <file_name>t2_tbmod_32ppd.fits</file_name>
   <creation_date_time>2024-10-10T15:55:19Z</creation_date_time>
   <file_size unit="byte">1238739840</file_size>
  </File>
  <Header>
   <local_identifier>PRIMARY_HEADER</local_identifier>
   <offset unit="byte">0</offset>
   <object_length unit="byte">2880</object_length>
   <parsing_standard_id>FITS 3.0</parsing_standard_id>
  </Header>
  <Header>
   <local_identifier>TBMOD_0_2_HEADER</local_identifier>
   <offset unit="byte">2880</offset>
   <object_length unit="byte">2880</object_length>
   <parsing_standard_id>FITS 3.0</parsing_standard_id>
  </Header>
  <Array_2D_Image>
   <local_identifier>TBMOD_0_2</local_identifier>
   <offset unit="byte">5760</offset>
   <axes>2</axes>
   <axis_index_order>Last Index Fastest</axis_index_order>
   <description>Modeled lunar brightness temperatures in the 00:00-02:00 local time window.</description>
   <Element_Array>
    <data_type>SignedMSB2</data_type>
    <scaling_factor>0.00149511917686573</scaling_factor>
    <value_offset>212.95867919921875</value_offset>
   </Element_Array>
   <Axis_Array>
    <axis_name>Line</axis_name>
    <elements>4480</elements>
    <sequence_number>1</sequence_number>
   </Axis_Array>
   <Axis_Array>
    <axis_name>Sample</axis_name>
    <elements>11520</elements>
    <sequence_number>2</sequence_number>
   </Axis_Array>
  </Array_2D_Image>
  <Header>
   <local_identifier>TBMOD_2_4_HEADER</local_identifier>
   <offset unit="byte">103224960</offset>
   <object_length unit="byte">2880</object_length>
   <parsing_standard_id>FITS 3.0</parsing_standard_id>
  </Header>
  <Array_2D_Image>
   <local_identifier>TBMOD_2_4</local_identifier>
   <offset unit="byte">103227840</offset>
   <axes>2</axes>
   <axis_index_order>Last Index Fastest</axis_index_order>
   <description>Modeled lunar brightness temperatures in the 02:00-04:00 local time window.</description>
   <Element_Array>
    <data_type>SignedMSB2</data_type>
    <scaling_factor>0.001489085885105918</scaling_factor>
    <value_offset>212.40814208984375</value_offset>
   </Element_Array>
   <Axis_Array>
    <axis_name>Line</axis_name>
    <elements>4480</elements>
    <sequence_number>1</sequence_number>
   </Axis_Array>
   <Axis_Array>
    <axis_name>Sample</axis_name>
    <elements>11520</elements>
    <sequence_number>2</sequence_number>
   </Axis_Array>
  </Array_2D_Image>
  <Header>
   <local_identifier>TBMOD_4_6_HEADER</local_identifier>
   <offset unit="byte">206447040</offset>
   <object_length unit="byte">2880</object_length>
   <parsing_standard_id>FITS 3.0</parsing_standard_id>
  </Header>
  <Array_2D_Image>
   <local_identifier>TBMOD_4_6</local_identifier>
   <offset unit="byte">206449920</offset>
   <axes>2</axes>
   <axis_index_order>Last Index Fastest</axis_index_order>
   <description>Modeled lunar brightness temperatures in the 04:00-06:00 local time window.</description>
   <Element_Array>
    <data_type>SignedMSB2</data_type>
    <scaling_factor>0.001483762748481465</scaling_factor>
    <value_offset>211.9158477783203</value_offset>
   </Element_Array>
   <Axis_Array>
    <axis_name>Line</axis_name>
    <elements>4480</elements>
    <sequence_number>1</sequence_number>
   </Axis_Array>
   <Axis_Array>
    <axis_name>Sample</axis_name>
    <elements>11520</elements>
    <sequence_number>2</sequence_number>
   </Axis_Array>
  </Array_2D_Image>
  <Header>
   <local_identifier>TBMOD_6_8_HEADER</local_identifier>
   <offset unit="byte">309669120</offset>
   <object_length unit="byte">2880</object_length>
   <parsing_standard_id>FITS 3.0</parsing_standard_id>
  </Header>
  <Array_2D_Image>
   <local_identifier>TBMOD_6_8</local_identifier>
   <offset unit="byte">309672000</offset>
   <axes>2</axes>
   <axis_index_order>Last Index Fastest</axis_index_order>
