<?xml version="1.0" encoding="UTF-8"?>
<?xml-model href="https://pds.nasa.gov/pds4/pds/v1/PDS4_PDS_1L00.sch" schematypens="http://purl.oclc.org/dsdl/schematron" ?>
<?xml-model href="https://pds.nasa.gov/pds4/cart/v1/PDS4_CART_1L00_1970.sch" schematypens="http://purl.oclc.org/dsdl/schematron" ?>
<?xml-model href="https://pds.nasa.gov/pds4/disp/v1/PDS4_DISP_1L00_1510.sch" schematypens="http://purl.oclc.org/dsdl/schematron" ?>
<Product_Observational
   xmlns="http://pds.nasa.gov/pds4/pds/v1"
   xmlns:cart="http://pds.nasa.gov/pds4/cart/v1"
   xmlns:disp="http://pds.nasa.gov/pds4/disp/v1"
   xmlns:xsi="http://www.w3.org/2001/XMLSchema-instance"
   xsi:schemaLocation=
      "http://pds.nasa.gov/pds4/pds/v1 https://pds.nasa.gov/pds4/pds/v1/PDS4_PDS_1L00.xsd
      http://pds.nasa.gov/pds4/cart/v1 https://pds.nasa.gov/pds4/cart/v1/PDS4_CART_1L00_1970.xsd
      http://pds.nasa.gov/pds4/disp/v1 https://pds.nasa.gov/pds4/disp/v1/PDS4_DISP_1L00_1510.xsd"
>
 <Identification_Area>
  <logical_identifier>urn:nasa:pds:chang_e_microwave_processed:miscellaneous:wac_hapke_604nm_70n70s_64ppd</logical_identifier>
  <version_id>1.0</version_id>
  <title>Global LROC WAC Hapke Parameter Mosaic at 604nm</title>
  <information_model_version>1.21.0.0</information_model_version>
  <product_class>Product_Observational</product_class>
  <Citation_Information>
   <author_list>
    Sato, H., Robinson, M.S., Lawrence, S.J., Denevi, B.W., Hapke, H., Jolliff, B.L.,
    Hiesinger, H., Feng, J.
   </author_list>
   <editor_list>St. Clair, Michael; Ward, Jennifer</editor_list>
   <publication_year>2024</publication_year>
   <description>
    This is a stitched version of the 604-nm Hapke parameter mosaic produced by Sato et al.
    from WAC images presented in a single-HDU FITS file. The temperature modeling pipeline
    used to produce some derived data in this bundle uses this map as an input.
   </description>
  </Citation_Information>
  <Modification_History>
   <Modification_Detail>
    <modification_date>2024-05-20</modification_date>
    <version_id>1.0</version_id>
    <description>Initial archive version.</description>
   </Modification_Detail>
  </Modification_History>
 </Identification_Area>
 <Observation_Area>
  <Time_Coordinates>
   <start_date_time xsi:nil="true" nilReason="inapplicable"/>
   <stop_date_time xsi:nil="true" nilReason="inapplicable"/>
  </Time_Coordinates>
  <Primary_Result_Summary>
   <purpose>Science</purpose>
   <processing_level>Derived</processing_level>
  </Primary_Result_Summary>
  <Investigation_Area>
   <name>LUNAR RECONNAISSANCE ORBITER</name>
   <type>Mission</type>
   <Internal_Reference>
    <lidvid_reference>urn:nasa:pds:context:investigation:mission.lunar_reconnaissance_orbiter::1.1</lidvid_reference>
    <reference_type>data_to_investigation</reference_type>
   </Internal_Reference>
  </Investigation_Area>
  <Observing_System>
   <Observing_System_Component>
    <name>LUNAR RECONNAISSANCE ORBITER</name>
    <type>Host</type>
    <Internal_Reference>
     <lidvid_reference>urn:nasa:pds:context:instrument_host:spacecraft.lro::1.2</lidvid_reference>
     <reference_type>is_instrument_host</reference_type>
    </Internal_Reference>
   </Observing_System_Component>
   <Observing_System_Component>
    <name>LUNAR RECONNAISSANCE ORBITER CAMERA</name>
    <type>Instrument</type>
    <Internal_Reference>
     <lidvid_reference>urn:nasa:pds:context:instrument:lro.lroc::1.0</lidvid_reference>
     <reference_type>is_instrument</reference_type>
    </Internal_Reference>
   </Observing_System_Component>
  </Observing_System>
  <Target_Identification>
   <name>Moon</name>
   <type>Satellite</type>
   <Internal_Reference>
    <lidvid_reference>urn:nasa:pds:context:target:satellite.earth.moon::1.1</lidvid_reference>
    <reference_type>data_to_target</reference_type>
   </Internal_Reference>
  </Target_Identification>
  <Discipline_Area>
   <disp:Display_Settings>
    <Local_Internal_Reference>
     <local_identifier_reference>PRIMARY</local_identifier_reference>
     <local_reference_type>display_settings_to_array</local_reference_type>
    </Local_Internal_Reference>
    <disp:Display_Direction>
     <disp:horizontal_display_axis>Sample</disp:horizontal_display_axis>
     <disp:horizontal_display_direction>Left to Right</disp:horizontal_display_direction>
     <disp:vertical_display_axis>Line</disp:vertical_display_axis>
     <disp:vertical_display_direction>Top to Bottom</disp:vertical_display_direction>
    </disp:Display_Direction>
   </disp:Display_Settings>
   <cart:Cartography>
    <Local_Internal_Reference>
     <local_identifier_reference>PRIMARY</local_identifier_reference>
     <local_reference_type>cartography_parameters_to_image_object</local_reference_type>
    </Local_Internal_Reference>
    <cart:Spatial_Domain>
     <cart:Bounding_Coordinates>
      <cart:west_bounding_coordinate unit="deg">-180</cart:west_bounding_coordinate>
      <cart:east_bounding_coordinate unit="deg">180</cart:east_bounding_coordinate>
      <cart:north_bounding_coordinate unit="deg">70</cart:north_bounding_coordinate>
      <cart:south_bounding_coordinate unit="deg">-70</cart:south_bounding_coordinate>
     </cart:Bounding_Coordinates>
    </cart:Spatial_Domain>
    <cart:Spatial_Reference_Information>
     <cart:Horizontal_Coordinate_System_Definition>
      <cart:Planar>
       <cart:Map_Projection>
        <cart:map_projection_name>Equirectangular</cart:map_projection_name>
        <cart:Equirectangular>
         <cart:latitude_of_projection_origin unit="deg">0</cart:latitude_of_projection_origin>
         <cart:standard_parallel_1 unit="deg">0</cart:standard_parallel_1>
         <cart:longitude_of_central_meridian unit="deg">0</cart:longitude_of_central_meridian>
        </cart:Equirectangular>
       </cart:Map_Projection>
       <cart:Planar_Coordinate_Information>
        <cart:planar_coordinate_encoding_method>Coordinate Pair</cart:planar_coordinate_encoding_method>
        <cart:Coordinate_Representation>
         <cart:pixel_resolution_x unit="m/pixel">473.802</cart:pixel_resolution_x>
         <cart:pixel_resolution_y unit="m/pixel">473.802</cart:pixel_resolution_y>
         <cart:pixel_scale_x unit="pixel/deg">64</cart:pixel_scale_x>
         <cart:pixel_scale_y unit="pixel/deg">64</cart:pixel_scale_y>
        </cart:Coordinate_Representation>
       </cart:Planar_Coordinate_Information>
       <cart:Geo_Transformation>
        <cart:upperleft_corner_x unit="m">-5457962.139</cart:upperleft_corner_x>
        <cart:upperleft_corner_y unit="m">2122396.059</cart:upperleft_corner_y>
       </cart:Geo_Transformation>
      </cart:Planar>
      <cart:Geodetic_Model>
       <cart:latitude_type>Planetographic</cart:latitude_type>
       <cart:a_axis_radius unit="m">1737400</cart:a_axis_radius>
       <cart:b_axis_radius unit="m">1737400</cart:b_axis_radius>
       <cart:c_axis_radius unit="m">1737400</cart:c_axis_radius>
       <cart:longitude_direction>Positive East</cart:longitude_direction>
       <cart:coordinate_system_type>Body-fixed Rotating</cart:coordinate_system_type>
       <cart:coordinate_system_name>MOON_ME</cart:coordinate_system_name>
      </cart:Geodetic_Model>
     </cart:Horizontal_Coordinate_System_Definition>
    </cart:Spatial_Reference_Information>
   </cart:Cartography>
  </Discipline_Area>
 </Observation_Area>
 <Reference_List>
  <Source_Product_Internal>
   <lidvid_reference>urn:nasa:pds:lro-l-lroc-5-rdr:lrolrc_2001_data:mdr.wac_hapke.wac_hapke_604nm_e350n0450::1.0</lidvid_reference>
   <reference_type>data_to_derived_source_product</reference_type>
   <comment>Individual tile of original LROC WAC Hapke parameter mosaic.</comment>
  </Source_Product_Internal>
  <Source_Product_Internal>
   <lidvid_reference>urn:nasa:pds:lro-l-lroc-5-rdr:lrolrc_2001_data:mdr.wac_hapke.wac_hapke_604nm_e350n1350::1.0</lidvid_reference>
   <reference_type>data_to_derived_source_product</reference_type>
   <comment>Individual tile of original LROC WAC Hapke parameter mosaic.</comment>
  </Source_Product_Internal>
  <Source_Product_Internal>
   <lidvid_reference>urn:nasa:pds:lro-l-lroc-5-rdr:lrolrc_2001_data:mdr.wac_hapke.wac_hapke_604nm_e350n2250::1.0</lidvid_reference>
   <reference_type>data_to_derived_source_product</reference_type>
   <comment>Individual tile of original LROC WAC Hapke parameter mosaic.</comment>
  </Source_Product_Internal>
  <Source_Product_Internal>
   <lidvid_reference>urn:nasa:pds:lro-l-lroc-5-rdr:lrolrc_2001_data:mdr.wac_hapke.wac_hapke_604nm_e350n3150::1.0</lidvid_reference>
   <reference_type>data_to_derived_source_product</reference_type>
   <comment>Individual tile of original LROC WAC Hapke parameter mosaic.</comment>
  </Source_Product_Internal>
  <Source_Product_Internal>
   <lidvid_reference>urn:nasa:pds:lro-l-lroc-5-rdr:lrolrc_2001_data:mdr.wac_hapke.wac_hapke_604nm_e350s0450::1.0</lidvid_reference>
   <reference_type>data_to_derived_source_product</reference_type>
   <comment>Individual tile of original LROC WAC Hapke parameter mosaic.</comment>
  </Source_Product_Internal>
  <Source_Product_Internal>
   <lidvid_reference>urn:nasa:pds:lro-l-lroc-5-rdr:lrolrc_2001_data:mdr.wac_hapke.wac_hapke_604nm_e350s1350::1.0</lidvid_reference>
   <reference_type>data_to_derived_source_product</reference_type>
   <comment>Individual tile of original LROC WAC Hapke parameter mosaic.</comment>
  </Source_Product_Internal>
  <Source_Product_Internal>
   <lidvid_reference>urn:nasa:pds:lro-l-lroc-5-rdr:lrolrc_2001_data:mdr.wac_hapke.wac_hapke_604nm_e350s2250::1.0</lidvid_reference>
   <reference_type>data_to_derived_source_product</reference_type>
   <comment>Individual tile of original LROC WAC Hapke parameter mosaic.</comment>
  </Source_Product_Internal>
  <Source_Product_Internal>
   <lidvid_reference>urn:nasa:pds:lro-l-lroc-5-rdr:lrolrc_2001_data:mdr.wac_hapke.wac_hapke_604nm_e350s3150::1.0</lidvid_reference>
   <reference_type>data_to_derived_source_product</reference_type>
   <comment>Individual tile of original LROC WAC Hapke parameter mosaic.</comment>
  </Source_Product_Internal>
 </Reference_List>
 <File_Area_Observational>
  <File>
   <file_name>wac_hapke_604nm_70N70S_64ppd.fits</file_name>
   <creation_date_time>2024-01-12T15:31:22Z</creation_date_time>
   <file_size unit="byte">1651510080</file_size>
  </File>
  <Header>
   <local_identifier>PRIMARY_HEADER</local_identifier>
   <offset unit="byte">0</offset>
   <object_length unit="byte">2880</object_length>
   <parsing_standard_id>FITS 3.0</parsing_standard_id>
  </Header>
  <Array_2D_Image>
   <local_identifier>PRIMARY</local_identifier>
   <offset unit="byte">2880</offset>
   <axes>2</axes>
   <axis_index_order>Last Index Fastest</axis_index_order>
   <Element_Array>
    <data_type>IEEE754MSBDouble</data_type>
   </Element_Array>
   <Axis_Array>
    <axis_name>Line</axis_name>
    <elements>8960</elements>
    <sequence_number>1</sequence_number>
   </Axis_Array>
   <Axis_Array>
    <axis_name>Sample</axis_name>
    <elements>23040</elements>
    <sequence_number>2</sequence_number>
   </Axis_Array>
  </Array_2D_Image>
 </File_Area_Observational>
</Product_Observational>
