<?xml version="1.0" encoding="UTF-8"?>
<?xml-model href="https://pds.nasa.gov/pds4/pds/v1/PDS4_PDS_1E00.sch" schematypens="http://purl.oclc.org/dsdl/schematron"?>
<?xml-model href="https://pds.nasa.gov/pds4/cart/v1/PDS4_CART_1D00_1933.sch" schematypens="http://purl.oclc.org/dsdl/schematron"?>
<?xml-model href="https://pds.nasa.gov/pds4/disp/v1/PDS4_DISP_1B00.sch" schematypens="http://purl.oclc.org/dsdl/schematron"?>
<Product_Observational
    xmlns="http://pds.nasa.gov/pds4/pds/v1"
    xmlns:disp="http://pds.nasa.gov/pds4/disp/v1"
    xmlns:cart="http://pds.nasa.gov/pds4/cart/v1"
    xmlns:xsi="http://www.w3.org/2001/XMLSchema-instance"
    xsi:schemaLocation="http://pds.nasa.gov/pds4/pds/v1 https://pds.nasa.gov/pds4/pds/v1/PDS4_PDS_1E00.xsd
    http://pds.nasa.gov/pds4/disp/v1 https://pds.nasa.gov/pds4/disp/v1/PDS4_DISP_1B00.xsd
    http://pds.nasa.gov/pds4/cart/v1 https://pds.nasa.gov/pds4/cart/v1/PDS4_CART_1D00_1933.xsd">
    <Identification_Area>
        <logical_identifier>urn:nasa:pds:trang2020_moon_space_weathering:data:30ppd_mpfe</logical_identifier>
        <version_id>1.0</version_id>
        <title>Lunar Space Weathering Map: Microphase Iron Abundance Map</title>
        <information_model_version>1.14.0.0</information_model_version>
        <product_class>Product_Observational</product_class>
        <Modification_History>
            <Modification_Detail>
                <modification_date>2020-07-21</modification_date>
                <version_id>1.0</version_id>
                <description>Draft by D. Trang</description>
            </Modification_Detail>
        </Modification_History>
    </Identification_Area>
    <Observation_Area>
        <Time_Coordinates>
            <start_date_time>2008-03-14Z</start_date_time>
            <stop_date_time>2009-05-09Z</stop_date_time>
        </Time_Coordinates>
        <Primary_Result_Summary>
            <purpose>Science</purpose>
            <processing_level>Derived</processing_level>
            <description>This map, which is one of three space weathering maps of the Moon, displays the microphase native iron abundance at 30 ppd. The map was derived using the Hapke radiative transfer model. </description>
        </Primary_Result_Summary>
        <Investigation_Area>
            <name>KAGUYA</name>
            <type>Mission</type>
            <Internal_Reference>
                <lid_reference>urn:nasa:pds:context:investigation:mission.kaguya</lid_reference>
                <reference_type>data_to_investigation</reference_type>
            </Internal_Reference>
        </Investigation_Area>
        <Observing_System>
            <name>KAGUYA MI</name>
            <Observing_System_Component>
                <name>KAGUYA</name>
                <type>Host</type>
                <Internal_Reference>
                    <lid_reference>urn:nasa:pds:context:instrument_host:spacecraft.kaguya</lid_reference>
                    <reference_type>is_instrument_host</reference_type>
                </Internal_Reference>
            </Observing_System_Component>
            <Observing_System_Component>
                <name>LISM</name>
                <type>Instrument</type>
                <Internal_Reference>
                    <lid_reference>urn:nasa:pds:context:instrument:kaguya.lism</lid_reference>
                    <reference_type>is_instrument</reference_type>
                </Internal_Reference>
            </Observing_System_Component>
        </Observing_System>
        <Target_Identification>
            <name>Moon</name>
            <type>Satellite</type>
            <Internal_Reference>
                <lid_reference>urn:nasa:pds:context:target:satellite.earth.moon</lid_reference>
                <reference_type>data_to_target</reference_type>
            </Internal_Reference>
        </Target_Identification>
        <Discipline_Area>
            <disp:Display_Settings>
                <Local_Internal_Reference>
                    <local_identifier_reference>mpFe</local_identifier_reference>
                    <local_reference_type>display_settings_to_array</local_reference_type>
                </Local_Internal_Reference>
                <disp:Display_Direction>
                    <disp:horizontal_display_axis>Sample</disp:horizontal_display_axis>
                    <disp:horizontal_display_direction>Left to Right</disp:horizontal_display_direction>
                    <disp:vertical_display_axis>Line</disp:vertical_display_axis>
                    <disp:vertical_display_direction>Top to Bottom</disp:vertical_display_direction>
                </disp:Display_Direction>
            </disp:Display_Settings>
            <cart:Cartography>
                <Local_Internal_Reference>
                    <local_identifier_reference>mpFe</local_identifier_reference>
                    <local_reference_type>cartography_parameters_to_image_object</local_reference_type>
                </Local_Internal_Reference>
                <cart:Spatial_Domain>
                    <cart:Bounding_Coordinates>
                        <cart:west_bounding_coordinate
                            unit="deg">180.0</cart:west_bounding_coordinate>
                        <cart:east_bounding_coordinate
                            unit="deg">-180.0</cart:east_bounding_coordinate>
                        <cart:north_bounding_coordinate
                            unit="deg">60.0</cart:north_bounding_coordinate>
                        <cart:south_bounding_coordinate
                            unit="deg">-60.0</cart:south_bounding_coordinate>
                    </cart:Bounding_Coordinates>
                </cart:Spatial_Domain>
                <cart:Spatial_Reference_Information>
                    <cart:Horizontal_Coordinate_System_Definition>
                        <cart:Planar>
                            <cart:Map_Projection>
                                <cart:map_projection_name>Equirectangular</cart:map_projection_name>
                                <cart:Equirectangular>
                                    <cart:latitude_of_projection_origin
                                        unit="deg">0.0</cart:latitude_of_projection_origin>
                                    <cart:standard_parallel_1
                                        unit="deg">0</cart:standard_parallel_1>
                                    <cart:longitude_of_central_meridian
                                        unit="deg">0.0</cart:longitude_of_central_meridian>  
                                </cart:Equirectangular>
                            </cart:Map_Projection>
                            <cart:Planar_Coordinate_Information>
                                <cart:planar_coordinate_encoding_method>Coordinate Pair</cart:planar_coordinate_encoding_method>
                                <cart:Coordinate_Representation>
                                    <cart:pixel_resolution_x unit="m/pixel">1010.7783474716</cart:pixel_resolution_x>
                                    <cart:pixel_resolution_y unit="m/pixel">1010.7783474716</cart:pixel_resolution_y>
                                    <cart:pixel_scale_x unit="pixel/deg">30.0</cart:pixel_scale_x>
                                    <cart:pixel_scale_y unit="pixel/deg">30.0</cart:pixel_scale_y>
                                </cart:Coordinate_Representation>
                            </cart:Planar_Coordinate_Information>
                            <cart:Geo_Transformation>
                                <cart:upperleft_corner_x unit="m">-5458203.0763469</cart:upperleft_corner_x>
                                <cart:upperleft_corner_y unit="m">1819401.025449</cart:upperleft_corner_y>
                            </cart:Geo_Transformation>
                        </cart:Planar>
                        <cart:Geodetic_Model>
                            <cart:latitude_type>Planetocentric</cart:latitude_type>
                            <cart:a_axis_radius unit="m">1737400.0</cart:a_axis_radius>
                            <cart:b_axis_radius unit="m">1737400.0</cart:b_axis_radius>
                            <cart:c_axis_radius unit="m">1737400.0</cart:c_axis_radius>
                            <cart:longitude_direction>Positive East</cart:longitude_direction>
                        </cart:Geodetic_Model>
                    </cart:Horizontal_Coordinate_System_Definition>
                </cart:Spatial_Reference_Information>
            </cart:Cartography>
        </Discipline_Area>
    </Observation_Area>
    <Reference_List>
        <Internal_Reference>
            <lid_reference>urn:nasa:pds:trang2020_moon_space_weathering:document:moon_spaceweathering_map_document</lid_reference>
            <reference_type>data_to_document</reference_type>
            <comment>Description of the space weathering maps and the map derivation.</comment>
        </Internal_Reference>
        <External_Reference>
            <doi>10.1016/j.icarus.2017.04.026</doi>
            <reference_text>Trang, D., and P. G. Lucey (2019), Improved Space Weathering Maps of the Lunar Surface Through Radiative Transfer Modeling of Kaguya Multiband Imager Data, Icarus, 321, 307-323.</reference_text>
        </External_Reference>
    </Reference_List>
    <File_Area_Observational>
        <File>
            <file_name>kaguya_mi_derived_30ppd_mpfe.img</file_name>
            <comment>This product shows the global microphase iron abundance in wt% of the Moon </comment>
        </File>
        <Array_2D_Map>
            <local_identifier>mpFe</local_identifier>
            <offset unit="byte">0</offset>
            <axes>2</axes>
            <axis_index_order>Last Index Fastest</axis_index_order>
            <Element_Array>
                <data_type>IEEE754LSBSingle</data_type>
                <scaling_factor>1.0</scaling_factor>
                <value_offset>0.0</value_offset>
            </Element_Array>
            <Axis_Array>
                <axis_name>Line</axis_name>
                <elements>3600</elements>
                <sequence_number>1</sequence_number>
            </Axis_Array>
            <Axis_Array>
                <axis_name>Sample</axis_name>
                <elements>10800</elements>
                <sequence_number>2</sequence_number>
            </Axis_Array>
        </Array_2D_Map>
    </File_Area_Observational>
</Product_Observational>
