PDS_VERSION_ID = PDS3
/* FILE DATA ELEMENTS */
RECORD_TYPE = UNDEFINED
/* POINTERS TO DATA OBJECTS */
^IMAGE = ("H2419_0000_RE4.TIF")
/* IDENTIFICATION DATA ELEMENTS */
DATA_SET_ID = "MEX-M-HRSC-4-REFDR-MAPPROJECT-EXT1-V4.0"
DATA_SET_NAME = "MARS EXPRESS HRSC MAP PROJECTED REFDR EXTENSION1 V4.0"
DETECTOR_ID = MEX_HRSC_RED
EVENT_TYPE = "MARS-REGIONAL-COLOR-Gl-La"
INSTRUMENT_HOST_ID = MEX
INSTRUMENT_HOST_NAME = "MARS EXPRESS"
INSTRUMENT_ID = HRSC
INSTRUMENT_NAME = "HIGH RESOLUTION STEREO CAMERA"
MISSION_NAME = "MARS EXPRESS"
MISSION_PHASE_NAME = ME_Phase_1
PROCESSING_LEVEL_ID = 4
PRODUCT_CREATION_TIME = 2023-02-08T07:05:14.000Z
PRODUCT_ID = "H2419_0000_RE4.TIF"
RELEASE_ID = 0001
REVISION_ID = 0000
/* QUALITY DATA ELEMENTS */
DATA_QUALITY_ID = 1
DATA_QUALITY_DESC = "Data calculated based on original SPICE kernels"
/* TIME DATA ELEMENTS */
SPACECRAFT_CLOCK_START_COUNT = "1/0081479328.57968"
SPACECRAFT_CLOCK_STOP_COUNT = "1/0081479464.40297"
START_TIME = 2005-12-01T01:09:57.532Z
STOP_TIME = 2005-12-01T01:11:04.670Z
/* ORBITAL DATA ELEMENTS */
ASCENDING_NODE_LONGITUDE = 177.48
MAXIMUM_RESOLUTION = 0.0261
FOOTPRINT_POINT_LATITUDE = (-85.264,-85.3948,-85.5319,-85.7083, -85.8231,-85.8876,-85.9514,-86.0143, -86.1071,-86.1147,-86.2014,-86.1316, -86.0521,-85.9804,-85.8723,-85.762, -85.6874,-85.6128,-85.5004,-85.4238, -85.3459,-85.2679,-85.1501,-85.0311, -84.9513,-84.871,-84.7506,-84.6318, -84.5523,-84.4723,-84.3927,-84.2733, -84.118,-84.0369,-83.9547,-83.8311, -83.7489,-83.6665,-83.5838,-83.4593, -83.3759,-83.2929,-83.1311,-83.0094, -82.8457,-82.6833,-82.5607,-82.3966, -82.2731,-82.232,-82.2139,-82.1561, -82.1155,-82.0477,-81.9918,-81.9427, -81.889,-81.8447,-81.7793,-81.7745, -81.7732,-81.9639,-82.0764,-82.1927, -82.2706,-82.4217,-82.5727,-82.7594, -82.8746,-82.9884,-83.1014,-83.1764, -83.2505,-83.3255,-83.4013,-83.545, -83.6174,-83.6894,-83.7609,-83.8673, -83.9375,-84.0417,-84.1473,-84.2171, -84.2867,-84.3541,-84.4221,-84.4895, -84.5869,-84.6522,-84.7488,-84.8431, -84.905,-84.996,-85.085,-85.1425, -85.1996,-85.2548,-85.2822,-85.264)
FOOTPRINT_POINT_LONGITUDE = (349.147,350.405,351.826,353.833, 355.265,356.119,357.001,357.914,359.341 ,359.463,359.141,360.049,360.958, 361.801,363.008,364.153,364.884,365.589 ,366.601,367.249,367.877,368.484, 369.358,370.189,370.722,371.238,371.982 ,372.678,373.12,373.55,373.967,374.571, 375.338,375.707,376.065,376.584,376.919 ,377.246,377.564,378.025,378.323, 378.613,379.155,379.545,380.044,380.522 ,380.866,381.307,381.626,381.73,381.775 ,380.663,379.932,378.709,377.793,377.03 ,376.208,375.526,374.59,374.524,374.498 ,373.803,373.377,372.912,372.589, 371.951,371.279,370.404,369.833,369.25, 368.648,368.235,367.817,367.378,366.918 ,366.028,365.557,365.074,364.58,363.817 ,363.293,362.487,361.63,361.042,360.432 ,359.829,359.193,358.539,357.566, 356.874,355.802,354.697,353.934,352.757 ,351.532,350.7,349.836,348.969,348.52, 349.147)
ORBIT_NUMBER = 2419
ORBITAL_ECCENTRICITY = 0.572
ORBITAL_INCLINATION = 86.62
ORBITAL_SEMIMAJOR_AXIS = 8541.01
PERIAPSIS_ALTITUDE = 273.59
PERIAPSIS_ARGUMENT_ANGLE = 293.03
PERIAPSIS_TIME = 2005-12-01T01:14:37.000Z
SPACECRAFT_ORIENTATION = (0.0,-1.0,0.0)
^MEX_ORIENTATION_DESC = "MEX_ORIENTATION_DESC.TXT"
SPACECRAFT_POINTING_MODE = ACROSSTRACK
^MEX_POINTING_DESC = "MEX_POINTING_DESC.TXT"
RIGHT_ASCENSION = -1e+32
DECLINATION = -1e+32
OFFSET_ANGLE = -0.19
SPACECRAFT_SOLAR_DISTANCE = 2.23039e+08
TARGET_NAME = MARS
/* CAMERA DATA ELEMENTS */
DETECTOR_TEMPERATURE = 18.7783
FOCAL_PLANE_TEMPERATURE = 8.1755
INST_CMPRS_NAME = "DISCRETE COSINE TRANSFORMATION (DCT)"
INST_CMPRS_RATIO = 7.15739
INST_CMPRS_QUALITY = 0
INST_CMPRS_QUANTZ_TBL_ID = 0
INSTRUMENT_TEMPERATURE = 9.3989
LENS_TEMPERATURE = 8.9911
MACROPIXEL_SIZE = 2
MISSING_FRAMES = 0
PIXEL_SUBSAMPLING_FLAG = N
SIGNAL_CHAIN_ID = 3
/* RADIOMETRIC DATA ELEMENTS */
BANDWIDTH = 48.0
CENTER_FILTER_WAVELENGTH = 748.0
RADIANCE_OFFSET = 0.558153
RADIANCE_SCALING_FACTOR = 0.00385652
REFLECTANCE_SCALING_FACTOR = 0.000437802
MEX:REFLECTANCE_OFFSET = 0.0633629
/* IMAGE OBJECT DEFINITIONS */
OBJECT = IMAGE
  INTERCHANGE_FORMAT = BINARY
  LINES = 10533
  LINE_SAMPLES = 8249
  SAMPLE_TYPE = UNSIGNED_INTEGER
  SAMPLE_BITS = 8
  BANDS = 1
  BAND_STORAGE_TYPE = BAND_SEQUENTIAL
  MAXIMUM = 255
  MEAN = 79.1648
  MINIMUM = 1
  STANDARD_DEVIATION = 31.1607
END_OBJECT = IMAGE
/* MAP OBJECT DEFINITIONS */
OBJECT = IMAGE_MAP_PROJECTION
  ^DATA_SET_MAP_PROJECTION_CATALOG= "DSMAP.CAT"
  A_AXIS_RADIUS = 3396.0
  B_AXIS_RADIUS = 3396.0
  C_AXIS_RADIUS = 3396.0
  CENTER_LATITUDE = 0.0
  CENTER_LONGITUDE = 9.0
  COORDINATE_SYSTEM_NAME = PLANETOGRAPHIC
  COORDINATE_SYSTEM_TYPE = "BODY-FIXED ROTATING"
  EASTERNMOST_LONGITUDE = 21.775
  FIRST_STANDARD_PARALLEL = "N/A"
  LINE_FIRST_PIXEL = 1
  LINE_LAST_PIXEL = 10533
  LINE_PROJECTION_OFFSET = -193924.25
  MAP_PROJECTION_ROTATION = 0.0
  MAP_PROJECTION_TYPE = SINUSOIDAL
  MAP_RESOLUTION = 2370.85521546667
  MAP_SCALE = 0.025
  MAXIMUM_LATITUDE = -81.7732
  MINIMUM_LATITUDE = -86.20140000000001
  POSITIVE_LONGITUDE_DIRECTION = EAST
  REFERENCE_LATITUDE = "N/A"
  REFERENCE_LONGITUDE = "N/A"
  SAMPLE_FIRST_PIXEL = 1
  SAMPLE_LAST_PIXEL = 8249
  SAMPLE_PROJECTION_OFFSET = 4154.75
  SECOND_STANDARD_PARALLEL = "N/A"
  WESTERNMOST_LONGITUDE = -11.48
END_OBJECT = IMAGE_MAP_PROJECTION
END
