PDS_VERSION_ID = PDS3
/* FILE DATA ELEMENTS */
RECORD_TYPE = UNDEFINED
/* POINTERS TO DATA OBJECTS */
^IMAGE = ("H2419_0005_SR4.TIF")
/* IDENTIFICATION DATA ELEMENTS */
DATA_SET_ID = "MEX-M-HRSC-4-REFDR-MAPPROJECT-EXT1-V4.0"
DATA_SET_NAME = "MARS EXPRESS HRSC MAP PROJECTED REFDR EXTENSION1 V4.0"
DETECTOR_ID = MEX_HRSC_SRC
EVENT_TYPE = "MARS-REGIONAL-COLOR-Gl-La"
INSTRUMENT_HOST_ID = MEX
INSTRUMENT_HOST_NAME = "MARS EXPRESS"
INSTRUMENT_ID = HRSC
INSTRUMENT_NAME = "HIGH RESOLUTION STEREO CAMERA"
MISSION_NAME = "MARS EXPRESS"
MISSION_PHASE_NAME = ME_Phase_1
PROCESSING_LEVEL_ID = 4
PRODUCT_CREATION_TIME = 2023-02-08T07:05:14.000Z
PRODUCT_ID = "H2419_0005_SR4.TIF"
RELEASE_ID = 0001
REVISION_ID = 0000
/* QUALITY DATA ELEMENTS */
DATA_QUALITY_ID = 1
DATA_QUALITY_DESC = "Data calculated based on original SPICE kernels"
/* TIME DATA ELEMENTS */
SPACECRAFT_CLOCK_START_COUNT = "1/0081479328.57968"
SPACECRAFT_CLOCK_STOP_COUNT = "1/0081479464.40297"
IMAGE_TIME = 2005-12-01T01:09:40.706Z
START_TIME = 2005-12-01T01:09:40.704Z
STOP_TIME = 2005-12-01T01:09:40.709Z
/* ORBITAL DATA ELEMENTS */
ASCENDING_NODE_LONGITUDE = 177.48
MAXIMUM_RESOLUTION = 0.003203
FOOTPRINT_POINT_LATITUDE = (-85.3349,-85.3363,-85.338,-85.3407, -85.3434,-85.346,-85.3485,-85.35, -85.3522,-85.3541,-85.3566,-85.3582, -85.3601,-85.362,-85.3632,-85.3648, -85.366,-85.3679,-85.3695,-85.3718, -85.3733,-85.3752,-85.3752,-85.3752, -85.3729,-85.3715,-85.37,-85.3685, -85.367,-85.3656,-85.3641,-85.3626, -85.3611,-85.3596,-85.3582,-85.3559, -85.3544,-85.353,-85.3515,-85.35, -85.3485,-85.347,-85.3455,-85.344, -85.3426,-85.3411,-85.3396,-85.3381, -85.3377,-85.3375,-85.3356,-85.3343, -85.3326,-85.3308,-85.3289,-85.3261, -85.3242,-85.322,-85.3196,-85.3182, -85.3169,-85.3154,-85.313,-85.311, -85.3092,-85.3079,-85.3054,-85.3039, -85.3015,-85.2998,-85.2976,-85.2976, -85.2976,-85.2991,-85.3006,-85.302, -85.3035,-85.305,-85.3065,-85.3079, -85.309,-85.3105,-85.312,-85.3135, -85.3149,-85.3164,-85.3179,-85.3193, -85.3208,-85.3223,-85.3237,-85.3252, -85.3267,-85.3281,-85.3296,-85.3311, -85.3325,-85.3344,-85.3347,-85.3349)
FOOTPRINT_POINT_LONGITUDE = (359.038,359.022,359.003,358.973, 358.942,358.913,358.885,358.868,358.843 ,358.822,358.793,358.776,358.754, 358.733,358.719,358.7,358.687,358.665, 358.647,358.62,358.603,358.582,358.581, 358.581,358.551,358.531,358.512,358.492 ,358.472,358.452,358.433,358.413, 358.393,358.374,358.354,358.325,358.305 ,358.286,358.266,358.246,358.227, 358.207,358.188,358.168,358.149,358.129 ,358.11,358.09,358.086,358.083,358.104, 358.12,358.139,358.16,358.182,358.214, 358.236,358.262,358.289,358.306,358.32, 358.337,358.365,358.387,358.408,358.422 ,358.451,358.467,358.495,358.515, 358.539,358.54,358.54,358.56,358.579, 358.598,358.618,358.637,358.657,358.676 ,358.691,358.711,358.73,358.75,358.769, 358.789,358.808,358.828,358.848,358.867 ,358.887,358.907,358.926,358.946, 358.966,358.985,359.005,359.03,359.035, 359.038)
ORBIT_NUMBER = 2419
ORBITAL_ECCENTRICITY = 0.572
ORBITAL_INCLINATION = 86.62
ORBITAL_SEMIMAJOR_AXIS = 8541.01
PERIAPSIS_ALTITUDE = 273.59
PERIAPSIS_ARGUMENT_ANGLE = 293.03
PERIAPSIS_TIME = 2005-12-01T01:14:37.000Z
SPACECRAFT_ORIENTATION = (0.0,-1.0,0.0)
^MEX_ORIENTATION_DESC = "MEX_ORIENTATION_DESC.TXT"
SPACECRAFT_POINTING_MODE = ACROSSTRACK
^MEX_POINTING_DESC = "MEX_POINTING_DESC.TXT"
RIGHT_ASCENSION = -1e+32
DECLINATION = -1e+32
OFFSET_ANGLE = -0.19
SPACECRAFT_SOLAR_DISTANCE = 2.23039e+08
TARGET_NAME = MARS
/* CAMERA DATA ELEMENTS */
BUFFER_MODE_ID = BUFFER_8
EXPOSURE_DURATION = 5.04
INST_CMPRS_NAME = NONE
INST_CMPRS_RATIO = 1.0
INST_CMPRS_QUALITY = -2147483648
INST_CMPRS_QUANTZ_TBL_ID = -2147483648
INSTRUMENT_TEMPERATURE = 5.79524
MISSING_FRAMES = 0
START_BIT = 0
/* RADIOMETRIC DATA ELEMENTS */
BANDWIDTH = 250.0
CENTER_FILTER_WAVELENGTH = 600.0
RADIANCE_OFFSET = -9.99e+31
RADIANCE_SCALING_FACTOR = -9.99e+31
REFLECTANCE_SCALING_FACTOR = -9.99e+31
MEX:REFLECTANCE_OFFSET = -9.99e+31
/* IMAGE OBJECT DEFINITIONS */
OBJECT = IMAGE
  INTERCHANGE_FORMAT = BINARY
  LINES = 1996
  LINE_SAMPLES = 1997
  SAMPLE_TYPE = UNSIGNED_INTEGER
  SAMPLE_BITS = 8
  BANDS = 1
  BAND_STORAGE_TYPE = BAND_SEQUENTIAL
  MAXIMUM = 254
  MEAN = 100.539
  MINIMUM = 4
  STANDARD_DEVIATION = 25.2866
END_OBJECT = IMAGE
/* MAP OBJECT DEFINITIONS */
OBJECT = IMAGE_MAP_PROJECTION
  ^DATA_SET_MAP_PROJECTION_CATALOG= "DSMAP.CAT"
  A_AXIS_RADIUS = 3396.19
  B_AXIS_RADIUS = 3396.19
  C_AXIS_RADIUS = 3396.19
  CENTER_LATITUDE = -90.0
  CENTER_LONGITUDE = 0.0
  COORDINATE_SYSTEM_NAME = PLANETOGRAPHIC
  COORDINATE_SYSTEM_TYPE = "BODY-FIXED ROTATING"
  EASTERNMOST_LONGITUDE = 359.038
  FIRST_STANDARD_PARALLEL = "N/A"
  LINE_FIRST_PIXEL = 1
  LINE_LAST_PIXEL = 1996
  LINE_PROJECTION_OFFSET = 111422.0
  MAP_PROJECTION_ROTATION = 0.0
  MAP_PROJECTION_TYPE = STEREOGRAPHIC
  MAP_RESOLUTION = 23709.8786048756
  MAP_SCALE = 0.0025
  MAXIMUM_LATITUDE = -85.2976
  MINIMUM_LATITUDE = -85.37520000000001
  POSITIVE_LONGITUDE_DIRECTION = EAST
  REFERENCE_LATITUDE = "N/A"
  REFERENCE_LONGITUDE = "N/A"
  SAMPLE_FIRST_PIXEL = 1
  SAMPLE_LAST_PIXEL = 1997
  SAMPLE_PROJECTION_OFFSET = 3543.0
  SECOND_STANDARD_PARALLEL = "N/A"
  WESTERNMOST_LONGITUDE = 358.083
END_OBJECT = IMAGE_MAP_PROJECTION
END
