PDS_VERSION_ID = PDS3
/* FILE DATA ELEMENTS */
RECORD_TYPE = UNDEFINED
/* POINTERS TO DATA OBJECTS */
^IMAGE = ("H2419_0009_BL4.TIF")
/* IDENTIFICATION DATA ELEMENTS */
DATA_SET_ID = "MEX-M-HRSC-4-REFDR-MAPPROJECT-EXT1-V4.0"
DATA_SET_NAME = "MARS EXPRESS HRSC MAP PROJECTED REFDR EXTENSION1 V4.0"
DETECTOR_ID = MEX_HRSC_BLUE
EVENT_TYPE = "MARS-REGIONAL-MAPPING-Vo-Gl-Pf"
INSTRUMENT_HOST_ID = MEX
INSTRUMENT_HOST_NAME = "MARS EXPRESS"
INSTRUMENT_ID = HRSC
INSTRUMENT_NAME = "HIGH RESOLUTION STEREO CAMERA"
MISSION_NAME = "MARS EXPRESS"
MISSION_PHASE_NAME = ME_Phase_1
PROCESSING_LEVEL_ID = 4
PRODUCT_CREATION_TIME = 2023-02-08T07:05:14.000Z
PRODUCT_ID = "H2419_0009_BL4.TIF"
RELEASE_ID = 0001
REVISION_ID = 0000
/* QUALITY DATA ELEMENTS */
DATA_QUALITY_ID = 1
DATA_QUALITY_DESC = "Data calculated based on original SPICE kernels"
/* TIME DATA ELEMENTS */
SPACECRAFT_CLOCK_START_COUNT = "1/0081479595.56192"
SPACECRAFT_CLOCK_STOP_COUNT = "1/0081479870.32145"
START_TIME = 2005-12-01T01:13:51.273Z
STOP_TIME = 2005-12-01T01:17:32.666Z
/* ORBITAL DATA ELEMENTS */
ASCENDING_NODE_LONGITUDE = 177.48
MAXIMUM_RESOLUTION = 0.0433
FOOTPRINT_POINT_LATITUDE = (-69.962,-70.0386,-70.0921,-70.0931, -70.1116,-69.669,-69.2268,-68.9319, -68.4898,-68.1952,-67.7545,-67.329, -66.9038,-66.6202,-66.3365,-66.0524, -65.7685,-65.4846,-64.9169,-64.4912, -64.1973,-63.9022,-63.4598,-63.1648, -62.8699,-62.4281,-62.1335,-61.6917, -61.3975,-61.1033,-60.8091,-60.5152, -60.2213,-59.9276,-59.6341,-59.3406, -59.0474,-58.7543,-58.4512,-58.1472, -57.8426,-57.5388,-57.0832,-56.7799, -56.4767,-56.1737,-55.871,-55.559, -55.4021,-55.3703,-55.3462,-55.3252, -55.3022,-55.3014,-55.3019,-55.7708, -56.0727,-56.3748,-56.6773,-56.9799, -57.4342,-57.7371,-58.0403,-58.3437, -58.647,-58.9394,-59.2317,-59.524, -59.8166,-60.1094,-60.4021,-60.6951, -61.1346,-61.4278,-61.7211,-62.0144, -62.3079,-62.6014,-63.0417,-63.3352, -63.6286,-63.9227,-64.2163,-64.5042, -64.9272,-65.3503,-65.9142,-66.337, -66.7599,-67.1823,-67.7485,-68.0416, -68.3347,-68.6276,-68.921,-69.214, -69.5066,-69.799,-69.9451,-69.962)
FOOTPRINT_POINT_LONGITUDE = (30.4088,31.8329,32.9857,33.0104, 33.1165,33.2661,33.4118,33.5054,33.6426 ,33.7314,33.8583,33.9721,34.0823, 34.1533,34.2215,34.2862,34.3503,34.4125 ,34.5324,34.6185,34.6779,34.7361, 34.8213,34.876,34.9291,35.0081,35.0587, 35.1318,35.1796,35.2261,35.2708,35.3153 ,35.3585,35.4006,35.4421,35.4821, 35.5219,35.5605,35.5992,35.6392,35.6753 ,35.713,35.7666,35.8016,35.8357,35.8692 ,35.9018,35.9349,35.9513,35.9546,35.24, 34.6992,34.1621,34.1454,34.1397,34.082, 34.0435,34.0041,33.9632,33.9212,33.8561 ,33.8117,33.7658,33.7186,33.6698, 33.6211,33.5715,33.5209,33.4687,33.4149 ,33.3599,33.3031,33.2157,33.1551, 33.0928,33.0289,32.9629,32.8953,32.7903 ,32.7183,32.6447,32.5669,32.4884, 32.4084,32.2874,32.1614,31.9849,31.8461 ,31.7008,31.5499,31.3371,31.2215, 31.1025,30.9794,30.8506,30.7181,30.5827 ,30.4428,30.3712,30.4088)
ORBIT_NUMBER = 2419
ORBITAL_ECCENTRICITY = 0.572
ORBITAL_INCLINATION = 86.62
ORBITAL_SEMIMAJOR_AXIS = 8541.01
PERIAPSIS_ALTITUDE = 273.59
PERIAPSIS_ARGUMENT_ANGLE = 293.03
PERIAPSIS_TIME = 2005-12-01T01:14:37.000Z
SPACECRAFT_ORIENTATION = (0.0,-1.0,0.0)
^MEX_ORIENTATION_DESC = "MEX_ORIENTATION_DESC.TXT"
SPACECRAFT_POINTING_MODE = ACROSSTRACK
^MEX_POINTING_DESC = "MEX_POINTING_DESC.TXT"
RIGHT_ASCENSION = -1e+32
DECLINATION = -1e+32
OFFSET_ANGLE = -0.19
SPACECRAFT_SOLAR_DISTANCE = 2.23039e+08
TARGET_NAME = MARS
/* CAMERA DATA ELEMENTS */
DETECTOR_TEMPERATURE = 19.1861
FOCAL_PLANE_TEMPERATURE = 8.1755
INST_CMPRS_NAME = "DISCRETE COSINE TRANSFORMATION (DCT)"
INST_CMPRS_RATIO = 7.3112
INST_CMPRS_QUALITY = 0
INST_CMPRS_QUANTZ_TBL_ID = 0
INSTRUMENT_TEMPERATURE = 12.2535
LENS_TEMPERATURE = 8.7872
MACROPIXEL_SIZE = 4
MISSING_FRAMES = 0
PIXEL_SUBSAMPLING_FLAG = N
SIGNAL_CHAIN_ID = 2
/* RADIOMETRIC DATA ELEMENTS */
BANDWIDTH = 76.0
CENTER_FILTER_WAVELENGTH = 444.0
RADIANCE_OFFSET = 0.586689
RADIANCE_SCALING_FACTOR = 0.00122507
REFLECTANCE_SCALING_FACTOR = 6.26147e-05
MEX:REFLECTANCE_OFFSET = 0.0299863
/* IMAGE OBJECT DEFINITIONS */
OBJECT = IMAGE
  INTERCHANGE_FORMAT = BINARY
  LINES = 17558
  LINE_SAMPLES = 2802
  SAMPLE_TYPE = UNSIGNED_INTEGER
  SAMPLE_BITS = 8
  BANDS = 1
  BAND_STORAGE_TYPE = BAND_SEQUENTIAL
  MAXIMUM = 254
  MEAN = 148.082
  MINIMUM = 1
  STANDARD_DEVIATION = 36.2684
END_OBJECT = IMAGE
/* MAP OBJECT DEFINITIONS */
OBJECT = IMAGE_MAP_PROJECTION
  ^DATA_SET_MAP_PROJECTION_CATALOG= "DSMAP.CAT"
  A_AXIS_RADIUS = 3396.0
  B_AXIS_RADIUS = 3396.0
  C_AXIS_RADIUS = 3396.0
  CENTER_LATITUDE = 0.0
  CENTER_LONGITUDE = 34.0
  COORDINATE_SYSTEM_NAME = PLANETOGRAPHIC
  COORDINATE_SYSTEM_TYPE = "BODY-FIXED ROTATING"
  EASTERNMOST_LONGITUDE = 35.9546
  FIRST_STANDARD_PARALLEL = "N/A"
  LINE_FIRST_PIXEL = 1
  LINE_LAST_PIXEL = 17558
  LINE_PROJECTION_OFFSET = -65557.125
  MAP_PROJECTION_ROTATION = 0.0
  MAP_PROJECTION_TYPE = SINUSOIDAL
  MAP_RESOLUTION = 1185.42760773333
  MAP_SCALE = 0.05
  MAXIMUM_LATITUDE = -55.3014
  MINIMUM_LATITUDE = -70.1116
  POSITIVE_LONGITUDE_DIRECTION = EAST
  REFERENCE_LATITUDE = "N/A"
  REFERENCE_LONGITUDE = "N/A"
  SAMPLE_FIRST_PIXEL = 1
  SAMPLE_LAST_PIXEL = 2802
  SAMPLE_PROJECTION_OFFSET = 1479.625
  SECOND_STANDARD_PARALLEL = "N/A"
  WESTERNMOST_LONGITUDE = 30.3712
END_OBJECT = IMAGE_MAP_PROJECTION
END
