PDS_VERSION_ID = PDS3
/* FILE DATA ELEMENTS */
RECORD_TYPE = UNDEFINED
/* POINTERS TO DATA OBJECTS */
^IMAGE = ("H2421_0000_S14.TIF")
/* IDENTIFICATION DATA ELEMENTS */
DATA_SET_ID = "MEX-M-HRSC-4-REFDR-MAPPROJECT-EXT1-V4.0"
DATA_SET_NAME = "MARS EXPRESS HRSC MAP PROJECTED REFDR EXTENSION1 V4.0"
DETECTOR_ID = MEX_HRSC_S1
EVENT_TYPE = "MARS-REGIONAL-MAPPING-Te-Im"
INSTRUMENT_HOST_ID = MEX
INSTRUMENT_HOST_NAME = "MARS EXPRESS"
INSTRUMENT_ID = HRSC
INSTRUMENT_NAME = "HIGH RESOLUTION STEREO CAMERA"
MISSION_NAME = "MARS EXPRESS"
MISSION_PHASE_NAME = ME_Phase_1
PROCESSING_LEVEL_ID = 4
PRODUCT_CREATION_TIME = 2023-02-08T07:05:14.000Z
PRODUCT_ID = "H2421_0000_S14.TIF"
RELEASE_ID = 0001
REVISION_ID = 0000
/* QUALITY DATA ELEMENTS */
DATA_QUALITY_ID = 1
DATA_QUALITY_DESC = "Data calculated based on original SPICE kernels"
/* TIME DATA ELEMENTS */
SPACECRAFT_CLOCK_START_COUNT = "1/0081528244.57940"
SPACECRAFT_CLOCK_STOP_COUNT = "1/0081528639.55613"
START_TIME = 2005-12-01T14:44:11.793Z
STOP_TIME = 2005-12-01T14:48:57.508Z
/* ORBITAL DATA ELEMENTS */
ASCENDING_NODE_LONGITUDE = 177.43
MAXIMUM_RESOLUTION = 0.0265
FOOTPRINT_POINT_LATITUDE = (-50.5898,-50.6161,-50.6345,-50.6347, -50.5749,-49.6908,-49.1421,-48.5918, -48.2252,-47.6622,-47.2856,-46.7203, -46.3389,-45.9488,-45.5564,-45.1675, -44.5869,-44.0032,-43.6164,-43.0355, -42.639,-42.2453,-41.8541,-41.4652, -41.0761,-40.6893,-40.3047,-39.922, -39.5401,-39.1592,-38.5884,-38.0144, -37.452,-37.0717,-36.6933,-36.3125, -35.9352,-35.5545,-35.1737,-34.7951, -34.2283,-33.8446,-33.2792,-32.9021, -32.5255,-32.1508,-31.7762,-31.5901, -31.5755,-31.5765,-31.5717,-31.5657, -31.5656,-31.5659,-32.1233,-32.4975, -32.8754,-33.4344,-33.8101,-34.1971, -34.5736,-34.9505,-35.3282,-35.7062, -36.0847,-36.4649,-36.846,-37.2215, -37.6071,-37.988,-38.5587,-38.9439, -39.3249,-39.8956,-40.2801,-40.8524, -41.4316,-41.8195,-42.3994,-42.784, -43.1712,-43.7513,-44.3328,-44.7231, -45.3043,-45.6936,-46.0823,-46.4707, -46.8502,-47.229,-47.6052,-47.9816, -48.3502,-48.7148,-49.0785,-49.4487, -49.8148,-50.34,-50.5157,-50.5898)
FOOTPRINT_POINT_LONGITUDE = (198.161,198.998,199.809,199.825, 199.871,199.933,199.971,200.01,200.034, 200.07,200.093,200.127,200.147,200.17, 200.193,200.215,200.244,200.275,200.294 ,200.322,200.346,200.368,200.388, 200.406,200.425,200.442,200.458,200.473 ,200.487,200.5,200.519,200.54,200.554, 200.567,200.579,200.592,200.603,200.616 ,200.629,200.641,200.658,200.671, 200.687,200.699,200.709,200.72,200.73, 200.734,200.735,199.758,199.213,198.747 ,198.728,198.721,198.723,198.725, 198.727,198.727,198.727,198.729,198.728 ,198.726,198.725,198.722,198.719, 198.716,198.713,198.708,198.703,198.698 ,198.688,198.681,198.673,198.66,198.651 ,198.636,198.621,198.61,198.592,198.578 ,198.565,198.543,198.519,198.503, 198.476,198.457,198.438,198.417,198.396 ,198.375,198.353,198.329,198.306, 198.281,198.256,198.231,198.204,198.162 ,198.148,198.161)
ORBIT_NUMBER = 2421
ORBITAL_ECCENTRICITY = 0.572
ORBITAL_INCLINATION = 86.63
ORBITAL_SEMIMAJOR_AXIS = 8538.27
PERIAPSIS_ALTITUDE = 273.38
PERIAPSIS_ARGUMENT_ANGLE = 292.68
PERIAPSIS_TIME = 2005-12-01T14:40:30.000Z
SPACECRAFT_ORIENTATION = (0.0,-1.0,0.0)
^MEX_ORIENTATION_DESC = "MEX_ORIENTATION_DESC.TXT"
SPACECRAFT_POINTING_MODE = ACROSSTRACK
^MEX_POINTING_DESC = "MEX_POINTING_DESC.TXT"
RIGHT_ASCENSION = -1e+32
DECLINATION = -1e+32
OFFSET_ANGLE = -0.15
SPACECRAFT_SOLAR_DISTANCE = 2.23147e+08
TARGET_NAME = MARS
/* CAMERA DATA ELEMENTS */
DETECTOR_TEMPERATURE = 16.9432
FOCAL_PLANE_TEMPERATURE = 7.7677
INST_CMPRS_NAME = "DISCRETE COSINE TRANSFORMATION (DCT)"
INST_CMPRS_RATIO = 8.54694
INST_CMPRS_QUALITY = 0
INST_CMPRS_QUANTZ_TBL_ID = 0
INSTRUMENT_TEMPERATURE = 11.0301
LENS_TEMPERATURE = 8.1755
MACROPIXEL_SIZE = 2
PIXEL_SUBSAMPLING_FLAG = N
SIGNAL_CHAIN_ID = 1
/* RADIOMETRIC DATA ELEMENTS */
BANDWIDTH = 180.0
CENTER_FILTER_WAVELENGTH = 677.0
RADIANCE_OFFSET = 4.80326
RADIANCE_SCALING_FACTOR = 0.0162202
REFLECTANCE_SCALING_FACTOR = 0.000421386
MEX:REFLECTANCE_OFFSET = 0.124785
/* IMAGE OBJECT DEFINITIONS */
OBJECT = IMAGE
  INTERCHANGE_FORMAT = BINARY
  LINES = 45064
  LINE_SAMPLES = 4471
  SAMPLE_TYPE = UNSIGNED_INTEGER
  SAMPLE_BITS = 8
  BANDS = 1
  BAND_STORAGE_TYPE = BAND_SEQUENTIAL
  MAXIMUM = 255
  MEAN = 134.272
  MINIMUM = 1
  STANDARD_DEVIATION = 30.465
END_OBJECT = IMAGE
/* MAP OBJECT DEFINITIONS */
OBJECT = IMAGE_MAP_PROJECTION
  ^DATA_SET_MAP_PROJECTION_CATALOG= "DSMAP.CAT"
  A_AXIS_RADIUS = 3396.0
  B_AXIS_RADIUS = 3396.0
  C_AXIS_RADIUS = 3396.0
  CENTER_LATITUDE = 0.0
  CENTER_LONGITUDE = 200.0
  COORDINATE_SYSTEM_NAME = PLANETOGRAPHIC
  COORDINATE_SYSTEM_TYPE = "BODY-FIXED ROTATING"
  EASTERNMOST_LONGITUDE = 200.735
  FIRST_STANDARD_PARALLEL = "N/A"
  LINE_FIRST_PIXEL = 1
  LINE_LAST_PIXEL = 45064
  LINE_PROJECTION_OFFSET = -74872.25
  MAP_PROJECTION_ROTATION = 0.0
  MAP_PROJECTION_TYPE = SINUSOIDAL
  MAP_RESOLUTION = 2370.85521546667
  MAP_SCALE = 0.025
  MAXIMUM_LATITUDE = -31.5656
  MINIMUM_LATITUDE = -50.6347
  POSITIVE_LONGITUDE_DIRECTION = EAST
  REFERENCE_LATITUDE = "N/A"
  REFERENCE_LONGITUDE = "N/A"
  SAMPLE_FIRST_PIXEL = 1
  SAMPLE_LAST_PIXEL = 4471
  SAMPLE_PROJECTION_OFFSET = 2845.25
  SECOND_STANDARD_PARALLEL = "N/A"
  WESTERNMOST_LONGITUDE = 198.148
END_OBJECT = IMAGE_MAP_PROJECTION
END
