PDS_VERSION_ID = PDS3
/* FILE DATA ELEMENTS */
RECORD_TYPE = UNDEFINED
/* POINTERS TO DATA OBJECTS */
^IMAGE = ("H2430_0000_P24.TIF")
/* IDENTIFICATION DATA ELEMENTS */
DATA_SET_ID = "MEX-M-HRSC-4-REFDR-MAPPROJECT-EXT1-V4.0"
DATA_SET_NAME = "MARS EXPRESS HRSC MAP PROJECTED REFDR EXTENSION1 V4.0"
DETECTOR_ID = MEX_HRSC_P2
EVENT_TYPE = "MARS-REGIONAL-MAPPING-Gl-Pf-Eo"
INSTRUMENT_HOST_ID = MEX
INSTRUMENT_HOST_NAME = "MARS EXPRESS"
INSTRUMENT_ID = HRSC
INSTRUMENT_NAME = "HIGH RESOLUTION STEREO CAMERA"
MISSION_NAME = "MARS EXPRESS"
MISSION_PHASE_NAME = ME_Phase_1
PROCESSING_LEVEL_ID = 4
PRODUCT_CREATION_TIME = 2023-02-08T07:05:14.000Z
PRODUCT_ID = "H2430_0000_P24.TIF"
RELEASE_ID = 0001
REVISION_ID = 0000
/* QUALITY DATA ELEMENTS */
DATA_QUALITY_ID = 1
DATA_QUALITY_DESC = "Data calculated based on original SPICE kernels"
/* TIME DATA ELEMENTS */
SPACECRAFT_CLOCK_START_COUNT = "1/0081745365.57306"
SPACECRAFT_CLOCK_STOP_COUNT = "1/0081745548.09029"
START_TIME = 2005-12-04T03:03:40.800Z
STOP_TIME = 2005-12-04T03:05:44.785Z
/* ORBITAL DATA ELEMENTS */
ASCENDING_NODE_LONGITUDE = 177.25
MAXIMUM_RESOLUTION = 0.0456
FOOTPRINT_POINT_LATITUDE = (-82.3234,-82.4573,-82.5831,-82.735, -82.7384,-82.8177,-82.5682,-82.3161, -82.0636,-81.8948,-81.7264,-81.557, -81.3874,-81.1418,-80.9776,-80.8136, -80.6495,-80.4844,-80.3196,-80.073, -79.9075,-79.7423,-79.5764,-79.3275, -79.1617,-78.9998,-78.8398,-78.6793, -78.4388,-78.1979,-78.0366,-77.8748, -77.7135,-77.5539,-77.3121,-77.1497, -76.989,-76.8279,-76.5865,-76.3439, -76.1817,-75.9406,-75.786,-75.6307, -75.3978,-75.1654,-75.0098,-74.7764, -74.6986,-74.6343,-74.576,-74.5219, -74.4425,-74.4404,-74.4405,-74.6709, -74.8241,-75.1298,-75.2832,-75.4363, -75.589,-75.7427,-75.9797,-76.1377, -76.2963,-76.4539,-76.6126,-76.8484, -77.0087,-77.1677,-77.4042,-77.5585, -77.7155,-77.8733,-78.1088,-78.2662, -78.4224,-78.5775,-78.7335,-78.9726, -79.1339,-79.2947,-79.5352,-79.7744, -79.9335,-80.0926,-80.2508,-80.4063, -80.5632,-80.7207,-80.8816,-81.0368, -81.1939,-81.3587,-81.6024,-81.7607, -81.9967,-82.2353,-82.3126,-82.3234)
FOOTPRINT_POINT_LONGITUDE = (14.5033,16.553,18.6997,21.6693,21.7421 ,22.012,22.6503,23.242,23.7973,24.148, 24.4864,24.8095,25.118,25.5464,25.8185, 26.0818,26.3365,26.5798,26.8163,27.1588 ,27.3754,27.5858,27.7884,28.0803, 28.2684,28.4457,28.6158,28.78,29.0189, 29.2476,29.3929,29.5333,29.6715,29.8109 ,30.0072,30.1308,30.2561,30.3775, 30.5544,30.7223,30.8299,30.9861,31.0872 ,31.1845,31.3267,31.4658,31.5546, 31.6841,31.7265,31.761,30.5552,29.5424, 28.1914,28.1589,28.1475,27.9625,27.8359 ,27.5749,27.4394,27.3011,27.1599, 27.0143,26.7832,26.6242,26.4606,26.2938 ,26.1215,25.8571,25.6716,25.4823, 25.1912,24.9947,24.7893,24.5769,24.2485 ,24.021,23.7886,23.5509,23.3046,22.9123 ,22.6369,22.3533,21.9114,21.4491, 21.1283,20.7961,20.4541,20.1057,19.7413 ,19.3618,18.9582,18.5545,18.1302, 17.6651,16.9399,16.4433,15.662,14.8156, 14.529,14.5033)
ORBIT_NUMBER = 2430
ORBITAL_ECCENTRICITY = 0.572
ORBITAL_INCLINATION = 86.62
ORBITAL_SEMIMAJOR_AXIS = 8538.84
PERIAPSIS_ALTITUDE = 273.89
PERIAPSIS_ARGUMENT_ANGLE = 291.11
PERIAPSIS_TIME = 2005-12-04T03:06:57.000Z
SPACECRAFT_ORIENTATION = (0.0,-1.0,0.0)
^MEX_ORIENTATION_DESC = "MEX_ORIENTATION_DESC.TXT"
SPACECRAFT_POINTING_MODE = ACROSSTRACK
^MEX_POINTING_DESC = "MEX_POINTING_DESC.TXT"
RIGHT_ASCENSION = -1e+32
DECLINATION = -1e+32
OFFSET_ANGLE = -0.458
SPACECRAFT_SOLAR_DISTANCE = 2.23636e+08
TARGET_NAME = MARS
/* CAMERA DATA ELEMENTS */
DETECTOR_TEMPERATURE = 18.3705
FOCAL_PLANE_TEMPERATURE = 7.9716
INST_CMPRS_NAME = "DISCRETE COSINE TRANSFORMATION (DCT)"
INST_CMPRS_RATIO = 23.7474
INST_CMPRS_QUALITY = 0
INST_CMPRS_QUANTZ_TBL_ID = 0
INSTRUMENT_TEMPERATURE = 11.0301
LENS_TEMPERATURE = 8.3794
MACROPIXEL_SIZE = 4
MISSING_FRAMES = 0
PIXEL_SUBSAMPLING_FLAG = N
SIGNAL_CHAIN_ID = 3
/* RADIOMETRIC DATA ELEMENTS */
BANDWIDTH = 177.0
CENTER_FILTER_WAVELENGTH = 676.5
RADIANCE_OFFSET = 2.6387
RADIANCE_SCALING_FACTOR = 0.00736626
REFLECTANCE_SCALING_FACTOR = 0.000195338
MEX:REFLECTANCE_OFFSET = 0.0699728
/* IMAGE OBJECT DEFINITIONS */
OBJECT = IMAGE
  INTERCHANGE_FORMAT = BINARY
  LINES = 9910
  LINE_SAMPLES = 3680
  SAMPLE_TYPE = UNSIGNED_INTEGER
  SAMPLE_BITS = 8
  BANDS = 1
  BAND_STORAGE_TYPE = BAND_SEQUENTIAL
  MAXIMUM = 255
  MEAN = 136.804
  MINIMUM = 1
  STANDARD_DEVIATION = 30.1899
END_OBJECT = IMAGE
/* MAP OBJECT DEFINITIONS */
OBJECT = IMAGE_MAP_PROJECTION
  ^DATA_SET_MAP_PROJECTION_CATALOG= "DSMAP.CAT"
  A_AXIS_RADIUS = 3396.0
  B_AXIS_RADIUS = 3396.0
  C_AXIS_RADIUS = 3396.0
  CENTER_LATITUDE = 0.0
  CENTER_LONGITUDE = 26.0
  COORDINATE_SYSTEM_NAME = PLANETOGRAPHIC
  COORDINATE_SYSTEM_TYPE = "BODY-FIXED ROTATING"
  EASTERNMOST_LONGITUDE = 31.761
  FIRST_STANDARD_PARALLEL = "N/A"
  LINE_FIRST_PIXEL = 1
  LINE_LAST_PIXEL = 9910
  LINE_PROJECTION_OFFSET = -88277.625
  MAP_PROJECTION_ROTATION = 0.0
  MAP_PROJECTION_TYPE = SINUSOIDAL
  MAP_RESOLUTION = 1185.42760773333
  MAP_SCALE = 0.05
  MAXIMUM_LATITUDE = -74.4404
  MINIMUM_LATITUDE = -82.8177
  POSITIVE_LONGITUDE_DIRECTION = EAST
  REFERENCE_LATITUDE = "N/A"
  REFERENCE_LONGITUDE = "N/A"
  SAMPLE_FIRST_PIXEL = 1
  SAMPLE_LAST_PIXEL = 3680
  SAMPLE_PROJECTION_OFFSET = 1868.375
  SECOND_STANDARD_PARALLEL = "N/A"
  WESTERNMOST_LONGITUDE = 14.5033
END_OBJECT = IMAGE_MAP_PROJECTION
END
