PDS_VERSION_ID = PDS3
/* FILE DATA ELEMENTS */
RECORD_TYPE = UNDEFINED
/* POINTERS TO DATA OBJECTS */
^IMAGE = ("H2430_0001_P24.TIF")
/* IDENTIFICATION DATA ELEMENTS */
DATA_SET_ID = "MEX-M-HRSC-4-REFDR-MAPPROJECT-EXT1-V4.0"
DATA_SET_NAME = "MARS EXPRESS HRSC MAP PROJECTED REFDR EXTENSION1 V4.0"
DETECTOR_ID = MEX_HRSC_P2
EVENT_TYPE = "MARS-REGIONAL-MAPPING-Im-Pf-Eo"
INSTRUMENT_HOST_ID = MEX
INSTRUMENT_HOST_NAME = "MARS EXPRESS"
INSTRUMENT_ID = HRSC
INSTRUMENT_NAME = "HIGH RESOLUTION STEREO CAMERA"
MISSION_NAME = "MARS EXPRESS"
MISSION_PHASE_NAME = ME_Phase_1
PROCESSING_LEVEL_ID = 4
PRODUCT_CREATION_TIME = 2023-02-08T07:05:14.000Z
PRODUCT_ID = "H2430_0001_P24.TIF"
RELEASE_ID = 0001
REVISION_ID = 0000
/* QUALITY DATA ELEMENTS */
DATA_QUALITY_ID = 1
DATA_QUALITY_DESC = "Data calculated based on original SPICE kernels"
/* TIME DATA ELEMENTS */
SPACECRAFT_CLOCK_START_COUNT = "1/0081745770.57146"
SPACECRAFT_CLOCK_STOP_COUNT = "1/0081746064.24020"
START_TIME = 2005-12-04T03:10:21.798Z
STOP_TIME = 2005-12-04T03:14:13.755Z
/* ORBITAL DATA ELEMENTS */
ASCENDING_NODE_LONGITUDE = 177.25
MAXIMUM_RESOLUTION = 0.0505
FOOTPRINT_POINT_LATITUDE = (-56.16,-56.1871,-56.2126,-56.2434, -56.2441,-56.2946,-55.8398,-55.2724, -54.929,-54.5781,-54.3433,-54.1145, -53.8775,-53.5277,-53.2918,-53.0516, -52.6918,-52.3394,-52.1001,-51.8534, -51.6074,-51.3616,-51.1166,-50.8714, -50.627,-50.2609,-50.0172,-49.7737, -49.5305,-49.2878,-49.0455,-48.8037, -48.5622,-48.3208,-47.9068,-47.621, -47.3351,-45.5952,-45.1679,-44.8871, -44.6071,-44.3259,-44.041,-43.7546, -43.4698,-43.1795,-42.8891,-42.5986, -42.1543,-42.0063,-41.9843,-41.9717, -41.9543,-41.9436,-41.9271,-41.9263, -41.9271,-42.2227,-42.5189,-42.9591, -43.2525,-43.6802,-43.9635,-44.2487, -44.522,-44.8024,-45.2238,-45.5052, -47.2435,-47.6736,-47.9608,-48.2323, -48.5944,-48.8362,-49.0769,-49.4415, -49.8068,-50.1673,-50.532,-50.7771, -51.0217,-51.2668,-51.5119,-51.8789, -52.1177,-52.3555,-52.5946,-52.8333, -53.0733,-53.3131,-53.5454,-53.8943, -54.127,-54.4771,-54.7106,-55.0576, -55.5097,-56.0764,-56.1899,-56.16)
FOOTPRINT_POINT_LONGITUDE = (34.0981,34.6459,35.2014,35.943,35.9608 ,36.0365,36.0805,36.1332,36.1642, 36.1955,36.2144,36.2405,36.2551,36.2833 ,36.3024,36.3216,36.3496,36.3853, 36.4027,36.4137,36.4318,36.4496,36.4675 ,36.4846,36.5018,36.5269,36.5432, 36.5591,36.5747,36.59,36.6052,36.6204, 36.6351,36.6495,36.6738,36.6911,36.7076 ,36.8075,36.824,36.8381,36.8521,36.8641 ,36.8779,36.8909,36.9047,36.9181, 36.9323,36.9454,36.9657,36.9723,36.9733 ,36.431,35.7972,35.4354,34.9435,34.9247 ,34.9184,34.9131,34.9075,34.897,34.8898 ,34.8798,34.8729,34.865,34.8585,34.8499 ,34.8364,34.8269,34.76,34.7403,34.7266, 34.7137,34.6952,34.6825,34.6697,34.649, 34.6275,34.6064,34.5836,34.5674,34.551, 34.5342,34.5169,34.4903,34.4722,34.454, 34.4351,34.4159,34.3959,34.3755,34.3553 ,34.3241,34.3027,34.2695,34.2467,34.212 ,34.1649,34.103,34.0901,34.0981)
ORBIT_NUMBER = 2430
ORBITAL_ECCENTRICITY = 0.572
ORBITAL_INCLINATION = 86.62
ORBITAL_SEMIMAJOR_AXIS = 8538.84
PERIAPSIS_ALTITUDE = 273.89
PERIAPSIS_ARGUMENT_ANGLE = 291.11
PERIAPSIS_TIME = 2005-12-04T03:06:57.000Z
SPACECRAFT_ORIENTATION = (0.0,-1.0,0.0)
^MEX_ORIENTATION_DESC = "MEX_ORIENTATION_DESC.TXT"
SPACECRAFT_POINTING_MODE = ACROSSTRACK
^MEX_POINTING_DESC = "MEX_POINTING_DESC.TXT"
RIGHT_ASCENSION = -1e+32
DECLINATION = -1e+32
OFFSET_ANGLE = -0.458
SPACECRAFT_SOLAR_DISTANCE = 2.23636e+08
TARGET_NAME = MARS
/* CAMERA DATA ELEMENTS */
DETECTOR_TEMPERATURE = 21.0212
FOCAL_PLANE_TEMPERATURE = 8.1755
INST_CMPRS_NAME = "DISCRETE COSINE TRANSFORMATION (DCT)"
INST_CMPRS_RATIO = 8.6138
INST_CMPRS_QUALITY = 0
INST_CMPRS_QUANTZ_TBL_ID = 0
INSTRUMENT_TEMPERATURE = 12.4574
LENS_TEMPERATURE = 7.9716
MACROPIXEL_SIZE = 4
PIXEL_SUBSAMPLING_FLAG = N
SIGNAL_CHAIN_ID = 3
/* RADIOMETRIC DATA ELEMENTS */
BANDWIDTH = 177.0
CENTER_FILTER_WAVELENGTH = 676.5
RADIANCE_OFFSET = 3.47406
RADIANCE_SCALING_FACTOR = 0.0190099
REFLECTANCE_SCALING_FACTOR = 0.000504108
MEX:REFLECTANCE_OFFSET = 0.0921258
/* IMAGE OBJECT DEFINITIONS */
OBJECT = IMAGE
  INTERCHANGE_FORMAT = BINARY
  LINES = 17021
  LINE_SAMPLES = 2064
  SAMPLE_TYPE = UNSIGNED_INTEGER
  SAMPLE_BITS = 8
  BANDS = 1
  BAND_STORAGE_TYPE = BAND_SEQUENTIAL
  MAXIMUM = 255
  MEAN = 153.459
  MINIMUM = 1
  STANDARD_DEVIATION = 27.0226
END_OBJECT = IMAGE
/* MAP OBJECT DEFINITIONS */
OBJECT = IMAGE_MAP_PROJECTION
  ^DATA_SET_MAP_PROJECTION_CATALOG= "DSMAP.CAT"
  A_AXIS_RADIUS = 3396.0
  B_AXIS_RADIUS = 3396.0
  C_AXIS_RADIUS = 3396.0
  CENTER_LATITUDE = 0.0
  CENTER_LONGITUDE = 36.0
  COORDINATE_SYSTEM_NAME = PLANETOGRAPHIC
  COORDINATE_SYSTEM_TYPE = "BODY-FIXED ROTATING"
  EASTERNMOST_LONGITUDE = 36.9733
  FIRST_STANDARD_PARALLEL = "N/A"
  LINE_FIRST_PIXEL = 1
  LINE_LAST_PIXEL = 17021
  LINE_PROJECTION_OFFSET = -49716.625
  MAP_PROJECTION_ROTATION = 0.0
  MAP_PROJECTION_TYPE = SINUSOIDAL
  MAP_RESOLUTION = 1185.42760773333
  MAP_SCALE = 0.05
  MAXIMUM_LATITUDE = -41.9263
  MINIMUM_LATITUDE = -56.2946
  POSITIVE_LONGITUDE_DIRECTION = EAST
  REFERENCE_LATITUDE = "N/A"
  REFERENCE_LONGITUDE = "N/A"
  SAMPLE_FIRST_PIXEL = 1
  SAMPLE_LAST_PIXEL = 2064
  SAMPLE_PROJECTION_OFFSET = 1249.375
  SECOND_STANDARD_PARALLEL = "N/A"
  WESTERNMOST_LONGITUDE = 34.0901
END_OBJECT = IMAGE_MAP_PROJECTION
END
