PDS_VERSION_ID = PDS3
/* FILE DATA ELEMENTS */
RECORD_TYPE = UNDEFINED
/* POINTERS TO DATA OBJECTS */
^IMAGE = ("H2432_0001_BL4.TIF")
/* IDENTIFICATION DATA ELEMENTS */
DATA_SET_ID = "MEX-M-HRSC-4-REFDR-MAPPROJECT-EXT1-V4.0"
DATA_SET_NAME = "MARS EXPRESS HRSC MAP PROJECTED REFDR EXTENSION1 V4.0"
DETECTOR_ID = MEX_HRSC_BLUE
EVENT_TYPE = "MARS-REGIONAL-MAPPING-Te-Im"
INSTRUMENT_HOST_ID = MEX
INSTRUMENT_HOST_NAME = "MARS EXPRESS"
INSTRUMENT_ID = HRSC
INSTRUMENT_NAME = "HIGH RESOLUTION STEREO CAMERA"
MISSION_NAME = "MARS EXPRESS"
MISSION_PHASE_NAME = ME_Phase_1
PROCESSING_LEVEL_ID = 4
PRODUCT_CREATION_TIME = 2023-02-08T07:05:14.000Z
PRODUCT_ID = "H2432_0001_BL4.TIF"
RELEASE_ID = 0001
REVISION_ID = 0000
/* QUALITY DATA ELEMENTS */
DATA_QUALITY_ID = 1
DATA_QUALITY_DESC = "Data calculated based on original SPICE kernels"
/* TIME DATA ELEMENTS */
SPACECRAFT_CLOCK_START_COUNT = "1/0081793961.57327"
SPACECRAFT_CLOCK_STOP_COUNT = "1/0081794288.31749"
START_TIME = 2005-12-04T16:33:16.682Z
STOP_TIME = 2005-12-04T16:37:45.912Z
/* ORBITAL DATA ELEMENTS */
ASCENDING_NODE_LONGITUDE = 177.2
MAXIMUM_RESOLUTION = 0.0435
FOOTPRINT_POINT_LATITUDE = (-67.4723,-67.5351,-67.5918,-67.5928, -67.611,-67.1297,-66.4673,-65.9662, -65.6323,-65.1315,-64.7976,-64.4641, -64.1304,-63.7972,-63.4636,-62.9639, -62.6307,-62.2978,-61.965,-61.633, -61.3004,-60.9582,-60.6132,-60.2686, -59.924,-59.581,-59.2369,-58.7199, -58.3764,-58.022,-57.6665,-57.3113, -56.9563,-56.6016,-56.2473,-55.8863, -55.5197,-54.9714,-54.606,-54.2421, -53.8648,-53.4873,-53.1114,-52.7355, -52.3526,-51.9652,-51.5782,-51.1917, -50.5961,-50.1985,-50.0001,-49.9376, -49.9022,-49.8769,-49.8761,-49.8767, -50.2727,-50.6696,-51.0666,-51.6452, -52.0311,-52.6084,-52.9836,-53.3591, -53.735,-54.1111,-54.4763,-54.8405, -55.205,-55.5698,-56.1153,-56.4682, -56.8219,-57.1758,-57.5304,-57.8848, -58.2396,-58.5819,-58.9246,-59.2669, -59.6099,-59.9533,-60.2965,-60.6401, -61.1547,-61.8166,-62.479,-62.8112, -63.4739,-63.8056,-64.1372,-64.635, -64.9673,-65.4657,-65.7976,-66.2946, -66.6263,-67.2732,-67.4323,-67.4723)
FOOTPRINT_POINT_LONGITUDE = (193.738,194.863,196.028,196.049, 196.096,196.245,196.439,196.578,196.668 ,196.797,196.879,196.96,197.039,197.115 ,197.189,197.296,197.365,197.432, 197.497,197.561,197.623,197.685,197.746 ,197.806,197.864,197.924,197.979, 198.056,198.107,198.159,198.211,198.261 ,198.31,198.357,198.403,198.45,198.495, 198.563,198.606,198.649,198.69,198.73, 198.771,198.81,198.849,198.888,198.925, 198.962,199.016,199.051,199.068,199.074 ,197.916,197.236,197.219,197.213,197.18 ,197.145,197.109,197.053,197.017, 196.957,196.915,196.872,196.829,196.786 ,196.74,196.695,196.649,196.602,196.521 ,196.471,196.417,196.362,196.303, 196.246,196.185,196.123,196.059,195.996 ,195.929,195.859,195.788,195.715, 195.601,195.445,195.281,195.189,195.011 ,194.917,194.82,194.668,194.559,194.39, 194.276,194.104,193.981,193.727,193.662 ,193.738)
ORBIT_NUMBER = 2432
ORBITAL_ECCENTRICITY = 0.572
ORBITAL_INCLINATION = 86.63
ORBITAL_SEMIMAJOR_AXIS = 8536.32
PERIAPSIS_ALTITUDE = 273.6
PERIAPSIS_ARGUMENT_ANGLE = 290.76
PERIAPSIS_TIME = 2005-12-04T16:32:51.000Z
SPACECRAFT_ORIENTATION = (0.0,-1.0,0.0)
^MEX_ORIENTATION_DESC = "MEX_ORIENTATION_DESC.TXT"
SPACECRAFT_POINTING_MODE = ACROSSTRACK
^MEX_POINTING_DESC = "MEX_POINTING_DESC.TXT"
RIGHT_ASCENSION = -1e+32
DECLINATION = -1e+32
OFFSET_ANGLE = 0.15
SPACECRAFT_SOLAR_DISTANCE = 2.23745e+08
TARGET_NAME = MARS
/* CAMERA DATA ELEMENTS */
DETECTOR_TEMPERATURE = 17.351
FOCAL_PLANE_TEMPERATURE = 8.5833
INST_CMPRS_NAME = "DISCRETE COSINE TRANSFORMATION (DCT)"
INST_CMPRS_RATIO = 7.8853
INST_CMPRS_QUALITY = 0
INST_CMPRS_QUANTZ_TBL_ID = 0
INSTRUMENT_TEMPERATURE = 12.4574
LENS_TEMPERATURE = 10.4184
MACROPIXEL_SIZE = 4
MISSING_FRAMES = 0
PIXEL_SUBSAMPLING_FLAG = N
SIGNAL_CHAIN_ID = 2
/* RADIOMETRIC DATA ELEMENTS */
BANDWIDTH = 76.0
CENTER_FILTER_WAVELENGTH = 444.0
RADIANCE_OFFSET = 0.61717
RADIANCE_SCALING_FACTOR = 0.00155589
REFLECTANCE_SCALING_FACTOR = 8.0028e-05
MEX:REFLECTANCE_OFFSET = 0.0317444
/* IMAGE OBJECT DEFINITIONS */
OBJECT = IMAGE
  INTERCHANGE_FORMAT = BINARY
  LINES = 21032
  LINE_SAMPLES = 3111
  SAMPLE_TYPE = UNSIGNED_INTEGER
  SAMPLE_BITS = 8
  BANDS = 1
  BAND_STORAGE_TYPE = BAND_SEQUENTIAL
  MAXIMUM = 255
  MEAN = 131.012
  MINIMUM = 2
  STANDARD_DEVIATION = 44.5394
END_OBJECT = IMAGE
/* MAP OBJECT DEFINITIONS */
OBJECT = IMAGE_MAP_PROJECTION
  ^DATA_SET_MAP_PROJECTION_CATALOG= "DSMAP.CAT"
  A_AXIS_RADIUS = 3396.0
  B_AXIS_RADIUS = 3396.0
  C_AXIS_RADIUS = 3396.0
  CENTER_LATITUDE = 0.0
  CENTER_LONGITUDE = 197.0
  COORDINATE_SYSTEM_NAME = PLANETOGRAPHIC
  COORDINATE_SYSTEM_TYPE = "BODY-FIXED ROTATING"
  EASTERNMOST_LONGITUDE = 199.074
  FIRST_STANDARD_PARALLEL = "N/A"
  LINE_FIRST_PIXEL = 1
  LINE_LAST_PIXEL = 21032
  LINE_PROJECTION_OFFSET = -59132.875
  MAP_PROJECTION_ROTATION = 0.0
  MAP_PROJECTION_TYPE = SINUSOIDAL
  MAP_RESOLUTION = 1185.42760773333
  MAP_SCALE = 0.05
  MAXIMUM_LATITUDE = -49.8761
  MINIMUM_LATITUDE = -67.611
  POSITIVE_LONGITUDE_DIRECTION = EAST
  REFERENCE_LATITUDE = "N/A"
  REFERENCE_LONGITUDE = "N/A"
  SAMPLE_FIRST_PIXEL = 1
  SAMPLE_LAST_PIXEL = 3111
  SAMPLE_PROJECTION_OFFSET = 1525.375
  SECOND_STANDARD_PARALLEL = "N/A"
  WESTERNMOST_LONGITUDE = 193.662
END_OBJECT = IMAGE_MAP_PROJECTION
END
