PDS_VERSION_ID = PDS3
/* FILE DATA ELEMENTS */
RECORD_TYPE = UNDEFINED
/* POINTERS TO DATA OBJECTS */
^IMAGE = ("H2433_0000_GR4.TIF")
/* IDENTIFICATION DATA ELEMENTS */
DATA_SET_ID = "MEX-M-HRSC-4-REFDR-MAPPROJECT-EXT1-V4.0"
DATA_SET_NAME = "MARS EXPRESS HRSC MAP PROJECTED REFDR EXTENSION1 V4.0"
DETECTOR_ID = MEX_HRSC_GREEN
EVENT_TYPE = "MARS-REGIONAL-MAPPING-Im"
INSTRUMENT_HOST_ID = MEX
INSTRUMENT_HOST_NAME = "MARS EXPRESS"
INSTRUMENT_ID = HRSC
INSTRUMENT_NAME = "HIGH RESOLUTION STEREO CAMERA"
MISSION_NAME = "MARS EXPRESS"
MISSION_PHASE_NAME = ME_Phase_1
PROCESSING_LEVEL_ID = 4
PRODUCT_CREATION_TIME = 2023-02-08T07:05:14.000Z
PRODUCT_ID = "H2433_0000_GR4.TIF"
RELEASE_ID = 0001
REVISION_ID = 0000
/* QUALITY DATA ELEMENTS */
DATA_QUALITY_ID = 1
DATA_QUALITY_DESC = "Data calculated based on original SPICE kernels"
/* TIME DATA ELEMENTS */
SPACECRAFT_CLOCK_START_COUNT = "1/0081818028.57954"
SPACECRAFT_CLOCK_STOP_COUNT = "1/0081818311.01539"
START_TIME = 2005-12-04T23:14:16.804Z
STOP_TIME = 2005-12-04T23:18:05.684Z
/* ORBITAL DATA ELEMENTS */
ASCENDING_NODE_LONGITUDE = 177.18
MAXIMUM_RESOLUTION = 0.043
FOOTPRINT_POINT_LATITUDE = (-74.9864,-75.1124,-75.1818,-75.1834, -75.1744,-74.8714,-74.568,-74.2644, -73.9605,-73.6563,-73.1994,-72.8946, -72.5894,-72.284,-71.9782,-71.5199, -71.2138,-70.9073,-70.6047,-70.3102, -70.0156,-69.721,-69.4262,-69.1314, -68.8365,-68.5408,-68.2456,-67.9502, -67.6551,-67.359,-66.9162,-66.4728, -66.177,-65.8813,-65.5755,-65.2673, -64.9591,-64.6511,-64.3431,-64.0338, -63.7257,-63.2648,-62.9561,-62.648, -62.3402,-62.0336,-61.7255,-61.4179, -61.1106,-60.6495,-60.1647,-60.0049, -59.9354,-59.886,-59.849,-59.848, -59.8484,-60.3256,-60.6463,-60.9514, -61.2582,-61.7185,-62.0249,-62.3316, -62.6381,-63.098,-63.5579,-63.8644, -64.1712,-64.4775,-64.7841,-65.2423, -65.5498,-65.8513,-66.4382,-66.7331, -67.0268,-67.3207,-67.6141,-67.9075, -68.4934,-68.9323,-69.5172,-69.9553, -70.5395,-70.8421,-71.1447,-71.447, -71.9003,-72.2023,-72.5039,-72.8051, -73.1059,-73.4061,-73.7061,-74.0055, -74.3045,-74.7518,-74.9004,-74.9864)
FOOTPRINT_POINT_LONGITUDE = (91.2088,93.3072,94.6483,94.6811, 94.8002,95.0121,95.2162,95.4111,95.5975 ,95.7769,96.0346,96.197,96.3544,96.5062 ,96.6532,96.8583,96.9926,97.1231, 97.2483,97.3659,97.4787,97.588,97.6942, 97.7961,97.8951,97.9959,98.0904,98.182, 98.2693,98.3604,98.4827,98.6031,98.6818 ,98.7574,98.8336,98.9092,98.9827, 99.0533,99.1218,99.1962,99.2622,99.3513 ,99.4173,99.4784,99.5367,99.5879,99.646 ,99.7006,99.7527,99.83,99.9091,99.9346, 99.9456,98.7553,98.0049,97.9866,97.9803 ,97.8861,97.8219,97.7543,97.69,97.5901, 97.5194,97.4474,97.3725,97.2566,97.1357 ,97.0516,96.966,96.8765,96.7853,96.6381 ,96.5433,96.4471,96.2401,96.1374,96.028 ,95.9161,95.7997,95.6801,95.4278, 95.2279,94.9474,94.7252,94.4144,94.2424 ,94.0624,93.8758,93.5857,93.3844, 93.1753,92.9583,92.7333,92.4986,92.256, 92.0033,91.7406,91.3254,91.1806, 91.2088)
ORBIT_NUMBER = 2433
ORBITAL_ECCENTRICITY = 0.572
ORBITAL_INCLINATION = 86.63
ORBITAL_SEMIMAJOR_AXIS = 8538.68
PERIAPSIS_ALTITUDE = 273.14
PERIAPSIS_ARGUMENT_ANGLE = 290.57
PERIAPSIS_TIME = 2005-12-04T23:15:50.000Z
SPACECRAFT_ORIENTATION = (0.0,-1.0,0.0)
^MEX_ORIENTATION_DESC = "MEX_ORIENTATION_DESC.TXT"
SPACECRAFT_POINTING_MODE = NADIR
^MEX_POINTING_DESC = "MEX_POINTING_DESC.TXT"
RIGHT_ASCENSION = -1e+32
DECLINATION = -1e+32
OFFSET_ANGLE = -1e+32
SPACECRAFT_SOLAR_DISTANCE = 2.238e+08
TARGET_NAME = MARS
/* CAMERA DATA ELEMENTS */
DETECTOR_TEMPERATURE = 18.1666
FOCAL_PLANE_TEMPERATURE = 8.3794
INST_CMPRS_NAME = "DISCRETE COSINE TRANSFORMATION (DCT)"
INST_CMPRS_RATIO = 19.2201
INST_CMPRS_QUALITY = 0
INST_CMPRS_QUANTZ_TBL_ID = 0
INSTRUMENT_TEMPERATURE = 11.0301
LENS_TEMPERATURE = 8.7872
MACROPIXEL_SIZE = 4
MISSING_FRAMES = 1
PIXEL_SUBSAMPLING_FLAG = N
SIGNAL_CHAIN_ID = 2
/* RADIOMETRIC DATA ELEMENTS */
BANDWIDTH = 88.0
CENTER_FILTER_WAVELENGTH = 538.0
RADIANCE_OFFSET = 1.18347
RADIANCE_SCALING_FACTOR = 0.00341255
REFLECTANCE_SCALING_FACTOR = 0.000147159
MEX:REFLECTANCE_OFFSET = 0.0510347
/* IMAGE OBJECT DEFINITIONS */
OBJECT = IMAGE
  INTERCHANGE_FORMAT = BINARY
  LINES = 18171
  LINE_SAMPLES = 3566
  SAMPLE_TYPE = UNSIGNED_INTEGER
  SAMPLE_BITS = 8
  BANDS = 1
  BAND_STORAGE_TYPE = BAND_SEQUENTIAL
  MAXIMUM = 255
  MEAN = 125.971
  MINIMUM = 1
  STANDARD_DEVIATION = 38.3444
END_OBJECT = IMAGE
/* MAP OBJECT DEFINITIONS */
OBJECT = IMAGE_MAP_PROJECTION
  ^DATA_SET_MAP_PROJECTION_CATALOG= "DSMAP.CAT"
  A_AXIS_RADIUS = 3396.0
  B_AXIS_RADIUS = 3396.0
  C_AXIS_RADIUS = 3396.0
  CENTER_LATITUDE = 0.0
  CENTER_LONGITUDE = 97.0
  COORDINATE_SYSTEM_NAME = PLANETOGRAPHIC
  COORDINATE_SYSTEM_TYPE = "BODY-FIXED ROTATING"
  EASTERNMOST_LONGITUDE = 99.9456
  FIRST_STANDARD_PARALLEL = "N/A"
  LINE_FIRST_PIXEL = 1
  LINE_LAST_PIXEL = 18171
  LINE_PROJECTION_OFFSET = -70947.625
  MAP_PROJECTION_ROTATION = 0.0
  MAP_PROJECTION_TYPE = SINUSOIDAL
  MAP_RESOLUTION = 1185.42760773333
  MAP_SCALE = 0.05
  MAXIMUM_LATITUDE = -59.848
  MINIMUM_LATITUDE = -75.18340000000001
  POSITIVE_LONGITUDE_DIRECTION = EAST
  REFERENCE_LATITUDE = "N/A"
  REFERENCE_LONGITUDE = "N/A"
  SAMPLE_FIRST_PIXEL = 1
  SAMPLE_LAST_PIXEL = 3566
  SAMPLE_PROJECTION_OFFSET = 1806.875
  SECOND_STANDARD_PARALLEL = "N/A"
  WESTERNMOST_LONGITUDE = 91.1806
END_OBJECT = IMAGE_MAP_PROJECTION
END
