PDS_VERSION_ID = PDS3
/* FILE DATA ELEMENTS */
RECORD_TYPE = UNDEFINED
/* POINTERS TO DATA OBJECTS */
^IMAGE = ("H2434_0000_S24.TIF")
/* IDENTIFICATION DATA ELEMENTS */
DATA_SET_ID = "MEX-M-HRSC-4-REFDR-MAPPROJECT-EXT1-V4.0"
DATA_SET_NAME = "MARS EXPRESS HRSC MAP PROJECTED REFDR EXTENSION1 V4.0"
DETECTOR_ID = MEX_HRSC_S2
EVENT_TYPE = "MARS-REGIONAL-MAPPING-Gl-Eo-La"
INSTRUMENT_HOST_ID = MEX
INSTRUMENT_HOST_NAME = "MARS EXPRESS"
INSTRUMENT_ID = HRSC
INSTRUMENT_NAME = "HIGH RESOLUTION STEREO CAMERA"
MISSION_NAME = "MARS EXPRESS"
MISSION_PHASE_NAME = ME_Phase_1
PROCESSING_LEVEL_ID = 4
PRODUCT_CREATION_TIME = 2023-02-08T07:05:14.000Z
PRODUCT_ID = "H2434_0000_S24.TIF"
RELEASE_ID = 0001
REVISION_ID = 0000
/* QUALITY DATA ELEMENTS */
DATA_QUALITY_ID = 1
DATA_QUALITY_DESC = "Data calculated based on original SPICE kernels"
/* TIME DATA ELEMENTS */
SPACECRAFT_CLOCK_START_COUNT = "1/0081842052.57939"
SPACECRAFT_CLOCK_STOP_COUNT = "1/0081842169.56375"
START_TIME = 2005-12-05T05:55:18.767Z
STOP_TIME = 2005-12-05T05:56:14.751Z
/* ORBITAL DATA ELEMENTS */
ASCENDING_NODE_LONGITUDE = 177.17
MAXIMUM_RESOLUTION = 0.025
FOOTPRINT_POINT_LATITUDE = (-83.857,-83.9059,-83.9542,-84.0019, -84.0489,-84.0953,-84.1467,-84.2139, -84.2578,-84.301,-84.3696,-84.4312, -84.4362,-84.5379,-84.4017,-84.2998, -84.2005,-84.1342,-84.0656,-83.9965, -83.9267,-83.8219,-83.7524,-83.6822, -83.5769,-83.5063,-83.4356,-83.3292, -83.2225,-83.1511,-83.0437,-82.9356, -82.864,-82.7922,-82.6859,-82.5809, -82.5109,-82.4058,-82.2305,-82.1602, -82.0546,-81.9138,-81.8082,-81.6671, -81.5609,-81.3839,-81.2064,-81.0641, -81.0285,-81.0157,-80.9717,-80.9291, -80.9022,-80.8748,-80.8291,-80.7928, -80.7633,-80.7104,-80.6562,-80.6523, -80.6513,-80.7196,-80.9229,-81.058, -81.1919,-81.2925,-81.4256,-81.5594, -81.6593,-81.7912,-81.9227,-82.0216, -82.0872,-82.2151,-82.315,-82.3819, -82.4485,-82.5148,-82.6143,-82.6804, -82.7789,-82.8443,-82.9423,-83.0071, -83.0717,-83.1358,-83.1995,-83.2631, -83.3266,-83.3894,-83.4519,-83.5144, -83.5766,-83.6378,-83.6995,-83.7604, -83.8212,-83.8806,-83.9109,-83.857)
FOOTPRINT_POINT_LONGITUDE = (330.125,330.721,331.327,331.943, 332.569,333.205,333.933,334.922,335.595 ,336.278,337.412,338.486,338.576, 338.429,339.201,339.751,340.278,340.619 ,340.955,341.284,341.606,342.074, 342.377,342.674,343.107,343.387,343.662 ,344.063,344.452,344.704,345.072,345.43 ,345.662,345.889,346.216,346.528, 346.731,347.029,347.506,347.691,347.962 ,348.313,348.568,348.898,349.138, 349.525,349.896,350.182,350.253,350.278 ,349.425,348.64,348.161,347.686,346.92, 346.336,345.872,345.068,344.273,344.216 ,344.195,344.007,343.432,343.033, 342.625,342.308,341.877,341.425,341.077 ,340.604,340.114,339.732,339.473, 338.958,338.535,338.246,337.953,337.656 ,337.195,336.882,336.401,336.073, 335.567,335.223,334.872,334.516,334.155 ,333.785,333.406,333.024,332.633, 332.233,331.824,331.414,330.987,330.556 ,330.114,329.674,329.444,330.125)
ORBIT_NUMBER = 2434
ORBITAL_ECCENTRICITY = 0.572
ORBITAL_INCLINATION = 86.62
ORBITAL_SEMIMAJOR_AXIS = 8536.72
PERIAPSIS_ALTITUDE = 274.07
PERIAPSIS_ARGUMENT_ANGLE = 290.39
PERIAPSIS_TIME = 2005-12-05T05:58:45.000Z
SPACECRAFT_ORIENTATION = (0.0,-1.0,0.0)
^MEX_ORIENTATION_DESC = "MEX_ORIENTATION_DESC.TXT"
SPACECRAFT_POINTING_MODE = ACROSSTRACK
^MEX_POINTING_DESC = "MEX_POINTING_DESC.TXT"
RIGHT_ASCENSION = -1e+32
DECLINATION = -1e+32
OFFSET_ANGLE = -0.1
SPACECRAFT_SOLAR_DISTANCE = 2.23854e+08
TARGET_NAME = MARS
/* CAMERA DATA ELEMENTS */
DETECTOR_TEMPERATURE = 18.5744
FOCAL_PLANE_TEMPERATURE = 8.3794
INST_CMPRS_NAME = "DISCRETE COSINE TRANSFORMATION (DCT)"
INST_CMPRS_RATIO = 12.2332
INST_CMPRS_QUALITY = 0
INST_CMPRS_QUANTZ_TBL_ID = 0
INSTRUMENT_TEMPERATURE = 11.234
LENS_TEMPERATURE = 9.195
MACROPIXEL_SIZE = 2
MISSING_FRAMES = 0
PIXEL_SUBSAMPLING_FLAG = N
SIGNAL_CHAIN_ID = 1
/* RADIOMETRIC DATA ELEMENTS */
BANDWIDTH = 178.0
CENTER_FILTER_WAVELENGTH = 679.0
RADIANCE_OFFSET = 2.64703
RADIANCE_SCALING_FACTOR = 0.0116017
REFLECTANCE_SCALING_FACTOR = 0.000307878
MEX:REFLECTANCE_OFFSET = 0.0702448
/* IMAGE OBJECT DEFINITIONS */
OBJECT = IMAGE
  INTERCHANGE_FORMAT = BINARY
  LINES = 9254
  LINE_SAMPLES = 6308
  SAMPLE_TYPE = UNSIGNED_INTEGER
  SAMPLE_BITS = 8
  BANDS = 1
  BAND_STORAGE_TYPE = BAND_SEQUENTIAL
  MAXIMUM = 255
  MEAN = 74.991
  MINIMUM = 1
  STANDARD_DEVIATION = 28.0893
END_OBJECT = IMAGE
/* MAP OBJECT DEFINITIONS */
OBJECT = IMAGE_MAP_PROJECTION
  ^DATA_SET_MAP_PROJECTION_CATALOG= "DSMAP.CAT"
  A_AXIS_RADIUS = 3396.0
  B_AXIS_RADIUS = 3396.0
  C_AXIS_RADIUS = 3396.0
  CENTER_LATITUDE = 0.0
  CENTER_LONGITUDE = 342.0
  COORDINATE_SYSTEM_NAME = PLANETOGRAPHIC
  COORDINATE_SYSTEM_TYPE = "BODY-FIXED ROTATING"
  EASTERNMOST_LONGITUDE = 350.278
  FIRST_STANDARD_PARALLEL = "N/A"
  LINE_FIRST_PIXEL = 1
  LINE_LAST_PIXEL = 9254
  LINE_PROJECTION_OFFSET = -191249.25
  MAP_PROJECTION_ROTATION = 0.0
  MAP_PROJECTION_TYPE = SINUSOIDAL
  MAP_RESOLUTION = 2370.85521546667
  MAP_SCALE = 0.025
  MAXIMUM_LATITUDE = -80.65130000000001
  MINIMUM_LATITUDE = -84.53789999999999
  POSITIVE_LONGITUDE_DIRECTION = EAST
  REFERENCE_LATITUDE = "N/A"
  REFERENCE_LONGITUDE = "N/A"
  SAMPLE_FIRST_PIXEL = 1
  SAMPLE_LAST_PIXEL = 6308
  SAMPLE_PROJECTION_OFFSET = 3249.25
  SECOND_STANDARD_PARALLEL = "N/A"
  WESTERNMOST_LONGITUDE = 329.444
END_OBJECT = IMAGE_MAP_PROJECTION
END
