PDS_VERSION_ID = PDS3
/* FILE DATA ELEMENTS */
RECORD_TYPE = UNDEFINED
/* POINTERS TO DATA OBJECTS */
^IMAGE = ("H2434_0004_SR4.TIF")
/* IDENTIFICATION DATA ELEMENTS */
DATA_SET_ID = "MEX-M-HRSC-4-REFDR-MAPPROJECT-EXT1-V4.0"
DATA_SET_NAME = "MARS EXPRESS HRSC MAP PROJECTED REFDR EXTENSION1 V4.0"
DETECTOR_ID = MEX_HRSC_SRC
EVENT_TYPE = "MARS-REGIONAL-MAPPING-Gl-Eo-La"
INSTRUMENT_HOST_ID = MEX
INSTRUMENT_HOST_NAME = "MARS EXPRESS"
INSTRUMENT_ID = HRSC
INSTRUMENT_NAME = "HIGH RESOLUTION STEREO CAMERA"
MISSION_NAME = "MARS EXPRESS"
MISSION_PHASE_NAME = ME_Phase_1
PROCESSING_LEVEL_ID = 4
PRODUCT_CREATION_TIME = 2023-02-08T07:05:14.000Z
PRODUCT_ID = "H2434_0004_SR4.TIF"
RELEASE_ID = 0001
REVISION_ID = 0000
/* QUALITY DATA ELEMENTS */
DATA_QUALITY_ID = 1
DATA_QUALITY_DESC = "Data calculated based on original SPICE kernels"
/* TIME DATA ELEMENTS */
SPACECRAFT_CLOCK_START_COUNT = "1/0081842052.57939"
SPACECRAFT_CLOCK_STOP_COUNT = "1/0081842169.56375"
IMAGE_TIME = 2005-12-05T05:54:54.885Z
START_TIME = 2005-12-05T05:54:54.882Z
STOP_TIME = 2005-12-05T05:54:54.887Z
/* ORBITAL DATA ELEMENTS */
ASCENDING_NODE_LONGITUDE = 177.17
MAXIMUM_RESOLUTION = 0.002935
FOOTPRINT_POINT_LATITUDE = (-84.0012,-84.0028,-84.005,-84.0078, -84.0096,-84.0113,-84.0131,-84.0156, -84.0171,-84.0187,-84.0211,-84.0227, -84.0251,-84.027,-84.0283,-84.0302, -84.0315,-84.0328,-84.0347,-84.0361, -84.0386,-84.0398,-84.042,-84.0434, -84.0434,-84.0434,-84.0418,-84.0407, -84.0396,-84.0386,-84.0375,-84.0359, -84.0348,-84.0337,-84.0326,-84.0315, -84.0305,-84.0294,-84.0283,-84.0272, -84.0261,-84.025,-84.024,-84.0229, -84.0218,-84.0207,-84.0196,-84.0185, -84.0174,-84.0163,-84.0161,-84.0159, -84.0135,-84.0121,-84.0096,-84.0075, -84.0045,-84.0022,-84.0007,-83.9993, -83.9975,-83.9954,-83.994,-83.9913, -83.9891,-83.9866,-83.9849,-83.9833, -83.981,-83.9776,-83.9754,-83.9739, -83.9739,-83.9739,-83.975,-83.9761, -83.9777,-83.9788,-83.9799,-83.9809, -83.982,-83.9831,-83.9842,-83.9853, -83.9863,-83.9874,-83.9885,-83.9895, -83.9906,-83.9917,-83.9928,-83.9938, -83.9949,-83.996,-83.9971,-83.9981, -83.9992,-84.0008,-84.0011,-84.0012)
FOOTPRINT_POINT_LONGITUDE = (335.432,335.422,335.409,335.391,335.38 ,335.37,335.359,335.344,335.335,335.325 ,335.31,335.3,335.285,335.274,335.266, 335.254,335.246,335.238,335.226,335.217 ,335.202,335.195,335.181,335.173, 335.172,335.172,335.148,335.132,335.116 ,335.099,335.083,335.059,335.043, 335.027,335.011,334.995,334.979,334.963 ,334.947,334.931,334.915,334.899, 334.883,334.867,334.851,334.835,334.819 ,334.803,334.787,334.771,334.767, 334.764,334.779,334.788,334.803,334.817 ,334.836,334.85,334.859,334.868,334.879 ,334.892,334.901,334.918,334.931, 334.947,334.957,334.967,334.982,335.002 ,335.016,335.025,335.025,335.025, 335.041,335.057,335.081,335.097,335.113 ,335.129,335.145,335.161,335.177, 335.193,335.209,335.225,335.241,335.257 ,335.273,335.289,335.305,335.321, 335.337,335.353,335.369,335.385,335.401 ,335.425,335.429,335.432)
ORBIT_NUMBER = 2434
ORBITAL_ECCENTRICITY = 0.572
ORBITAL_INCLINATION = 86.62
ORBITAL_SEMIMAJOR_AXIS = 8536.72
PERIAPSIS_ALTITUDE = 274.07
PERIAPSIS_ARGUMENT_ANGLE = 290.39
PERIAPSIS_TIME = 2005-12-05T05:58:45.000Z
SPACECRAFT_ORIENTATION = (0.0,-1.0,0.0)
^MEX_ORIENTATION_DESC = "MEX_ORIENTATION_DESC.TXT"
SPACECRAFT_POINTING_MODE = ACROSSTRACK
^MEX_POINTING_DESC = "MEX_POINTING_DESC.TXT"
RIGHT_ASCENSION = -1e+32
DECLINATION = -1e+32
OFFSET_ANGLE = -0.1
SPACECRAFT_SOLAR_DISTANCE = 2.23854e+08
TARGET_NAME = MARS
/* CAMERA DATA ELEMENTS */
BUFFER_MODE_ID = BUFFER_8
EXPOSURE_DURATION = 5.04
INST_CMPRS_NAME = NONE
INST_CMPRS_RATIO = 1.0
INST_CMPRS_QUALITY = -2147483648
INST_CMPRS_QUANTZ_TBL_ID = -2147483648
INSTRUMENT_TEMPERATURE = 5.24517
MISSING_FRAMES = 0
START_BIT = 0
/* RADIOMETRIC DATA ELEMENTS */
BANDWIDTH = 250.0
CENTER_FILTER_WAVELENGTH = 600.0
RADIANCE_OFFSET = -9.99e+31
RADIANCE_SCALING_FACTOR = -9.99e+31
REFLECTANCE_SCALING_FACTOR = -9.99e+31
MEX:REFLECTANCE_OFFSET = -9.99e+31
/* IMAGE OBJECT DEFINITIONS */
OBJECT = IMAGE
  INTERCHANGE_FORMAT = BINARY
  LINES = 1789
  LINE_SAMPLES = 1794
  SAMPLE_TYPE = UNSIGNED_INTEGER
  SAMPLE_BITS = 8
  BANDS = 1
  BAND_STORAGE_TYPE = BAND_SEQUENTIAL
  MAXIMUM = 251
  MEAN = 137.045
  MINIMUM = 4
  STANDARD_DEVIATION = 25.2221
END_OBJECT = IMAGE
/* MAP OBJECT DEFINITIONS */
OBJECT = IMAGE_MAP_PROJECTION
  ^DATA_SET_MAP_PROJECTION_CATALOG= "DSMAP.CAT"
  A_AXIS_RADIUS = 3396.19
  B_AXIS_RADIUS = 3396.19
  C_AXIS_RADIUS = 3396.19
  CENTER_LATITUDE = 0.0
  CENTER_LONGITUDE = 335.0
  COORDINATE_SYSTEM_NAME = PLANETOGRAPHIC
  COORDINATE_SYSTEM_TYPE = "BODY-FIXED ROTATING"
  EASTERNMOST_LONGITUDE = 335.432
  FIRST_STANDARD_PARALLEL = "N/A"
  LINE_FIRST_PIXEL = 1
  LINE_LAST_PIXEL = 1789
  LINE_PROJECTION_OFFSET = -1985587.0
  MAP_PROJECTION_ROTATION = 0.0
  MAP_PROJECTION_TYPE = SINUSOIDAL
  MAP_RESOLUTION = 23709.8786048756
  MAP_SCALE = 0.0025
  MAXIMUM_LATITUDE = -83.9739
  MINIMUM_LATITUDE = -84.04340000000001
  POSITIVE_LONGITUDE_DIRECTION = EAST
  REFERENCE_LATITUDE = "N/A"
  REFERENCE_LONGITUDE = "N/A"
  SAMPLE_FIRST_PIXEL = 1
  SAMPLE_LAST_PIXEL = 1794
  SAMPLE_PROJECTION_OFFSET = 517.0
  SECOND_STANDARD_PARALLEL = "N/A"
  WESTERNMOST_LONGITUDE = 334.764
END_OBJECT = IMAGE_MAP_PROJECTION
END
