PDS_VERSION_ID = PDS3
/* FILE DATA ELEMENTS */
RECORD_TYPE = UNDEFINED
/* POINTERS TO DATA OBJECTS */
^IMAGE = ("H2434_0009_P24.TIF")
/* IDENTIFICATION DATA ELEMENTS */
DATA_SET_ID = "MEX-M-HRSC-4-REFDR-MAPPROJECT-EXT1-V4.0"
DATA_SET_NAME = "MARS EXPRESS HRSC MAP PROJECTED REFDR EXTENSION1 V4.0"
DETECTOR_ID = MEX_HRSC_P2
EVENT_TYPE = "MARS-REGIONAL-MAPPING-Im-Lc-Pf"
INSTRUMENT_HOST_ID = MEX
INSTRUMENT_HOST_NAME = "MARS EXPRESS"
INSTRUMENT_ID = HRSC
INSTRUMENT_NAME = "HIGH RESOLUTION STEREO CAMERA"
MISSION_NAME = "MARS EXPRESS"
MISSION_PHASE_NAME = ME_Phase_1
PROCESSING_LEVEL_ID = 4
PRODUCT_CREATION_TIME = 2023-02-08T07:05:14.000Z
PRODUCT_ID = "H2434_0009_P24.TIF"
RELEASE_ID = 0001
REVISION_ID = 0000
/* QUALITY DATA ELEMENTS */
DATA_QUALITY_ID = 1
DATA_QUALITY_DESC = "Data calculated based on original SPICE kernels"
/* TIME DATA ELEMENTS */
SPACECRAFT_CLOCK_START_COUNT = "1/0081842300.57949"
SPACECRAFT_CLOCK_STOP_COUNT = "1/0081842685.31178"
START_TIME = 2005-12-05T05:59:07.510Z
STOP_TIME = 2005-12-05T06:04:37.675Z
/* ORBITAL DATA ELEMENTS */
ASCENDING_NODE_LONGITUDE = 177.17
MAXIMUM_RESOLUTION = 0.0392
FOOTPRINT_POINT_LATITUDE = (-68.7993,-68.868,-68.9246,-68.9256, -68.9834,-68.2043,-67.8074,-67.4126, -67.0177,-66.6228,-66.0302,-65.6361, -65.2413,-64.8471,-64.4535,-64.0606, -63.6681,-63.2765,-62.6892,-62.2898, -61.8828,-61.4784,-61.0729,-60.4661, -60.0583,-59.6586,-59.2439,-58.8277, -58.204,-57.788,-57.3737,-56.9446, -56.5145,-56.0872,-55.6618,-55.2258, -54.7847,-54.3461,-53.6813,-53.2313, -52.5585,-52.0989,-51.6352,-51.1748, -50.7143,-50.256,-49.7987,-49.3444, -48.8914,-48.0978,-47.8291,-47.7425, -47.7215,-47.6856,-47.685,-47.6857, -48.221,-48.7566,-49.4422,-49.9003, -50.3459,-50.8058,-51.2645,-51.7237, -52.1831,-52.8641,-53.3133,-53.9837, -54.421,-55.0783,-55.5165,-55.9419, -56.3673,-56.7936,-57.2221,-57.6384, -58.2595,-58.6744,-59.1653,-59.9055, -60.3112,-60.9157,-61.319,-61.9249, -62.329,-62.7221,-63.3072,-63.8926, -64.2834,-64.6755,-65.0681,-65.4594, -66.0489,-66.4415,-66.8343,-67.2274, -67.8163,-68.6027,-68.7929,-68.7993)
FOOTPRINT_POINT_LONGITUDE = (357.42,358.678,359.858,359.881,359.953 ,360.205,360.322,360.437,360.547, 360.652,360.803,360.899,360.992,361.081 ,361.167,361.25,361.331,361.41,361.523, 361.596,361.668,361.739,361.806,361.904 ,361.962,362.026,362.087,362.147, 362.233,362.287,362.341,362.394,362.445 ,362.495,362.545,362.593,362.64,362.686 ,362.753,362.798,362.863,362.906, 362.946,362.986,363.024,363.061,363.097 ,363.133,363.169,363.226,363.246, 363.252,362.409,361.313,361.294,361.288 ,361.258,361.225,361.176,361.142, 361.115,361.078,361.041,361.003,360.964 ,360.899,360.854,360.786,360.737, 360.662,360.608,360.555,360.499,360.442 ,360.381,360.319,360.224,360.157, 360.172,359.944,359.865,359.746,359.663 ,359.533,359.442,359.349,359.206, 359.054,358.948,358.837,358.721,358.602 ,358.412,358.28,358.142,357.999,357.774 ,357.449,357.366,357.42)
ORBIT_NUMBER = 2434
ORBITAL_ECCENTRICITY = 0.572
ORBITAL_INCLINATION = 86.62
ORBITAL_SEMIMAJOR_AXIS = 8536.72
PERIAPSIS_ALTITUDE = 274.07
PERIAPSIS_ARGUMENT_ANGLE = 290.39
PERIAPSIS_TIME = 2005-12-05T05:58:45.000Z
SPACECRAFT_ORIENTATION = (0.0,-1.0,0.0)
^MEX_ORIENTATION_DESC = "MEX_ORIENTATION_DESC.TXT"
SPACECRAFT_POINTING_MODE = ACROSSTRACK
^MEX_POINTING_DESC = "MEX_POINTING_DESC.TXT"
RIGHT_ASCENSION = -1e+32
DECLINATION = -1e+32
OFFSET_ANGLE = -0.1
SPACECRAFT_SOLAR_DISTANCE = 2.23854e+08
TARGET_NAME = MARS
/* CAMERA DATA ELEMENTS */
DETECTOR_TEMPERATURE = 19.7978
FOCAL_PLANE_TEMPERATURE = 8.5833
INST_CMPRS_NAME = "DISCRETE COSINE TRANSFORMATION (DCT)"
INST_CMPRS_RATIO = 12.4091
INST_CMPRS_QUALITY = 0
INST_CMPRS_QUANTZ_TBL_ID = 0
INSTRUMENT_TEMPERATURE = 12.0496
LENS_TEMPERATURE = 9.195
MACROPIXEL_SIZE = 4
MISSING_FRAMES = 0
PIXEL_SUBSAMPLING_FLAG = N
SIGNAL_CHAIN_ID = 3
/* RADIOMETRIC DATA ELEMENTS */
BANDWIDTH = 177.0
CENTER_FILTER_WAVELENGTH = 676.5
RADIANCE_OFFSET = 3.13068
RADIANCE_SCALING_FACTOR = 0.0170244
REFLECTANCE_SCALING_FACTOR = 0.000452331
MEX:REFLECTANCE_OFFSET = 0.083181
/* IMAGE OBJECT DEFINITIONS */
OBJECT = IMAGE
  INTERCHANGE_FORMAT = BINARY
  LINES = 25264
  LINE_SAMPLES = 3333
  SAMPLE_TYPE = UNSIGNED_INTEGER
  SAMPLE_BITS = 8
  BANDS = 1
  BAND_STORAGE_TYPE = BAND_SEQUENTIAL
  MAXIMUM = 255
  MEAN = 127.286
  MINIMUM = 1
  STANDARD_DEVIATION = 40.5201
END_OBJECT = IMAGE
/* MAP OBJECT DEFINITIONS */
OBJECT = IMAGE_MAP_PROJECTION
  ^DATA_SET_MAP_PROJECTION_CATALOG= "DSMAP.CAT"
  A_AXIS_RADIUS = 3396.0
  B_AXIS_RADIUS = 3396.0
  C_AXIS_RADIUS = 3396.0
  CENTER_LATITUDE = 0.0
  CENTER_LONGITUDE = 1.0
  COORDINATE_SYSTEM_NAME = PLANETOGRAPHIC
  COORDINATE_SYSTEM_TYPE = "BODY-FIXED ROTATING"
  EASTERNMOST_LONGITUDE = 3.252
  FIRST_STANDARD_PARALLEL = "N/A"
  LINE_FIRST_PIXEL = 1
  LINE_LAST_PIXEL = 25264
  LINE_PROJECTION_OFFSET = -56542.125
  MAP_PROJECTION_ROTATION = 0.0
  MAP_PROJECTION_TYPE = SINUSOIDAL
  MAP_RESOLUTION = 1185.42760773333
  MAP_SCALE = 0.05
  MAXIMUM_LATITUDE = -47.685
  MINIMUM_LATITUDE = -68.9834
  POSITIVE_LONGITUDE_DIRECTION = EAST
  REFERENCE_LATITUDE = "N/A"
  REFERENCE_LONGITUDE = "N/A"
  SAMPLE_FIRST_PIXEL = 1
  SAMPLE_LAST_PIXEL = 3333
  SAMPLE_PROJECTION_OFFSET = 1564.625
  SECOND_STANDARD_PARALLEL = "N/A"
  WESTERNMOST_LONGITUDE = -2.634
END_OBJECT = IMAGE_MAP_PROJECTION
END
