PDS_VERSION_ID = PDS3
/* FILE DATA ELEMENTS */
RECORD_TYPE = UNDEFINED
/* POINTERS TO DATA OBJECTS */
^IMAGE = ("H2440_0000_BL4.TIF")
/* IDENTIFICATION DATA ELEMENTS */
DATA_SET_ID = "MEX-M-HRSC-4-REFDR-MAPPROJECT-EXT1-V4.0"
DATA_SET_NAME = "MARS EXPRESS HRSC MAP PROJECTED REFDR EXTENSION1 V4.0"
DETECTOR_ID = MEX_HRSC_BLUE
EVENT_TYPE = "MARS-REGIONAL-MAPPING-Gl-Pf-La"
INSTRUMENT_HOST_ID = MEX
INSTRUMENT_HOST_NAME = "MARS EXPRESS"
INSTRUMENT_ID = HRSC
INSTRUMENT_NAME = "HIGH RESOLUTION STEREO CAMERA"
MISSION_NAME = "MARS EXPRESS"
MISSION_PHASE_NAME = ME_Phase_1
PROCESSING_LEVEL_ID = 4
PRODUCT_CREATION_TIME = 2023-02-08T07:05:14.000Z
PRODUCT_ID = "H2440_0000_BL4.TIF"
RELEASE_ID = 0001
REVISION_ID = 0000
/* QUALITY DATA ELEMENTS */
DATA_QUALITY_ID = 1
DATA_QUALITY_DESC = "Data calculated based on original SPICE kernels"
/* TIME DATA ELEMENTS */
SPACECRAFT_CLOCK_START_COUNT = "1/0081987183.56201"
SPACECRAFT_CLOCK_STOP_COUNT = "1/0081987476.32250"
START_TIME = 2005-12-06T22:13:43.305Z
STOP_TIME = 2005-12-06T22:17:40.842Z
/* ORBITAL DATA ELEMENTS */
ASCENDING_NODE_LONGITUDE = 177.04
MAXIMUM_RESOLUTION = 0.0433
FOOTPRINT_POINT_LATITUDE = (-81.0237,-81.2079,-81.4547,-81.4582, -81.4724,-81.0094,-80.6976,-80.3844, -80.0695,-79.7532,-79.4353,-79.1252, -78.8171,-78.3536,-78.0432,-77.7319, -77.4197,-76.9496,-76.636,-76.1659, -75.8628,-75.4076,-74.9512,-74.6464, -74.3413,-74.0361,-73.7301,-73.4241, -72.9644,-72.658,-72.3511,-72.044, -71.7366,-71.2751,-70.9671,-70.6584, -70.1977,-69.89,-69.5813,-69.2733, -68.9647,-68.6568,-68.3485,-68.0402, -67.732,-67.4236,-67.1152,-66.8067, -66.4977,-66.1889,-66.0342,-65.996, -65.9551,-65.8677,-65.8662,-65.8665, -66.3255,-66.6317,-66.9379,-67.2438, -67.7027,-68.0085,-68.3142,-68.7723, -69.0777,-69.3831,-69.8409,-70.1457, -70.6025,-71.0587,-71.3625,-71.8176, -72.4232,-72.7253,-73.0273,-73.4793, -73.78,-74.2301,-74.6789,-74.9773, -75.275,-75.572,-75.8683,-76.1727, -76.479,-76.937,-77.2405,-77.543, -77.8443,-78.1443,-78.4429,-78.74, -79.0367,-79.3413,-79.7942,-80.0929, -80.3894,-80.8285,-80.973,-81.0237)
FOOTPRINT_POINT_LONGITUDE = (109.052,111.332,114.885,114.941,114.89 ,116.138,116.903,117.618,118.287, 118.915,119.506,120.047,120.552,121.258 ,121.699,122.118,122.516,123.078, 123.429,123.925,124.226,124.653,125.054 ,125.309,125.553,125.787,126.013,126.23 ,126.541,126.738,126.929,127.112,127.29 ,127.546,127.709,127.868,128.093, 128.237,128.379,128.515,128.647,128.774 ,128.898,129.019,129.136,129.249, 129.359,129.467,129.572,129.674,129.724 ,129.736,128.884,127.39,127.368,127.36, 127.177,127.045,126.91,126.774,126.56, 126.413,126.262,126.032,125.869,125.69, 125.41,125.224,124.931,124.626,124.412, 124.077,123.611,123.375,123.107,122.679 ,122.391,121.937,121.453,121.114,120.76 ,120.391,120.007,119.593,119.155, 118.482,117.975,117.457,116.915,116.348 ,115.753,115.127,114.455,113.722, 112.534,111.676,110.777,109.311,108.784 ,109.052)
ORBIT_NUMBER = 2440
ORBITAL_ECCENTRICITY = 0.572
ORBITAL_INCLINATION = 86.61
ORBITAL_SEMIMAJOR_AXIS = 8537.83
PERIAPSIS_ALTITUDE = 274.72
PERIAPSIS_ARGUMENT_ANGLE = 289.36
PERIAPSIS_TIME = 2005-12-06T22:16:31.000Z
SPACECRAFT_ORIENTATION = (0.0,-1.0,0.0)
^MEX_ORIENTATION_DESC = "MEX_ORIENTATION_DESC.TXT"
SPACECRAFT_POINTING_MODE = ACROSSTRACK
^MEX_POINTING_DESC = "MEX_POINTING_DESC.TXT"
RIGHT_ASCENSION = -1e+32
DECLINATION = -1e+32
OFFSET_ANGLE = 0.55
SPACECRAFT_SOLAR_DISTANCE = 2.24181e+08
TARGET_NAME = MARS
/* CAMERA DATA ELEMENTS */
DETECTOR_TEMPERATURE = 18.3705
FOCAL_PLANE_TEMPERATURE = 8.1755
INST_CMPRS_NAME = "DISCRETE COSINE TRANSFORMATION (DCT)"
INST_CMPRS_RATIO = 7.46455
INST_CMPRS_QUALITY = 0
INST_CMPRS_QUANTZ_TBL_ID = 0
INSTRUMENT_TEMPERATURE = 11.234
LENS_TEMPERATURE = 8.3794
MACROPIXEL_SIZE = 4
MISSING_FRAMES = 0
PIXEL_SUBSAMPLING_FLAG = N
SIGNAL_CHAIN_ID = 2
/* RADIOMETRIC DATA ELEMENTS */
BANDWIDTH = 76.0
CENTER_FILTER_WAVELENGTH = 444.0
RADIANCE_OFFSET = 0.403826
RADIANCE_SCALING_FACTOR = 0.00176291
REFLECTANCE_SCALING_FACTOR = 9.10296e-05
MEX:REFLECTANCE_OFFSET = 0.0208519
/* IMAGE OBJECT DEFINITIONS */
OBJECT = IMAGE
  INTERCHANGE_FORMAT = BINARY
  LINES = 18521
  LINE_SAMPLES = 5616
  SAMPLE_TYPE = UNSIGNED_INTEGER
  SAMPLE_BITS = 8
  BANDS = 1
  BAND_STORAGE_TYPE = BAND_SEQUENTIAL
  MAXIMUM = 255
  MEAN = 131.369
  MINIMUM = 1
  STANDARD_DEVIATION = 51.8409
END_OBJECT = IMAGE
/* MAP OBJECT DEFINITIONS */
OBJECT = IMAGE_MAP_PROJECTION
  ^DATA_SET_MAP_PROJECTION_CATALOG= "DSMAP.CAT"
  A_AXIS_RADIUS = 3396.0
  B_AXIS_RADIUS = 3396.0
  C_AXIS_RADIUS = 3396.0
  CENTER_LATITUDE = 0.0
  CENTER_LONGITUDE = 124.0
  COORDINATE_SYSTEM_NAME = PLANETOGRAPHIC
  COORDINATE_SYSTEM_TYPE = "BODY-FIXED ROTATING"
  EASTERNMOST_LONGITUDE = 129.736
  FIRST_STANDARD_PARALLEL = "N/A"
  LINE_FIRST_PIXEL = 1
  LINE_LAST_PIXEL = 18521
  LINE_PROJECTION_OFFSET = -78075.125
  MAP_PROJECTION_ROTATION = 0.0
  MAP_PROJECTION_TYPE = SINUSOIDAL
  MAP_RESOLUTION = 1185.42760773333
  MAP_SCALE = 0.05
  MAXIMUM_LATITUDE = -65.86620000000001
  MINIMUM_LATITUDE = -81.47239999999999
  POSITIVE_LONGITUDE_DIRECTION = EAST
  REFERENCE_LATITUDE = "N/A"
  REFERENCE_LONGITUDE = "N/A"
  SAMPLE_FIRST_PIXEL = 1
  SAMPLE_LAST_PIXEL = 5616
  SAMPLE_PROJECTION_OFFSET = 2844.125
  SECOND_STANDARD_PARALLEL = "N/A"
  WESTERNMOST_LONGITUDE = 108.784
END_OBJECT = IMAGE_MAP_PROJECTION
END
