PDS_VERSION_ID = PDS3
/* FILE DATA ELEMENTS */
RECORD_TYPE = UNDEFINED
/* POINTERS TO DATA OBJECTS */
^IMAGE = ("H2440_0000_GR4.TIF")
/* IDENTIFICATION DATA ELEMENTS */
DATA_SET_ID = "MEX-M-HRSC-4-REFDR-MAPPROJECT-EXT1-V4.0"
DATA_SET_NAME = "MARS EXPRESS HRSC MAP PROJECTED REFDR EXTENSION1 V4.0"
DETECTOR_ID = MEX_HRSC_GREEN
EVENT_TYPE = "MARS-REGIONAL-MAPPING-Gl-Pf-La"
INSTRUMENT_HOST_ID = MEX
INSTRUMENT_HOST_NAME = "MARS EXPRESS"
INSTRUMENT_ID = HRSC
INSTRUMENT_NAME = "HIGH RESOLUTION STEREO CAMERA"
MISSION_NAME = "MARS EXPRESS"
MISSION_PHASE_NAME = ME_Phase_1
PROCESSING_LEVEL_ID = 4
PRODUCT_CREATION_TIME = 2023-02-08T07:05:14.000Z
PRODUCT_ID = "H2440_0000_GR4.TIF"
RELEASE_ID = 0001
REVISION_ID = 0000
/* QUALITY DATA ELEMENTS */
DATA_QUALITY_ID = 1
DATA_QUALITY_DESC = "Data calculated based on original SPICE kernels"
/* TIME DATA ELEMENTS */
SPACECRAFT_CLOCK_START_COUNT = "1/0081987183.56201"
SPACECRAFT_CLOCK_STOP_COUNT = "1/0081987476.32250"
START_TIME = 2005-12-06T22:13:34.020Z
STOP_TIME = 2005-12-06T22:17:32.649Z
/* ORBITAL DATA ELEMENTS */
ASCENDING_NODE_LONGITUDE = 177.04
MAXIMUM_RESOLUTION = 0.0434
FOOTPRINT_POINT_LATITUDE = (-81.0559,-81.2489,-81.5085,-81.5122, -81.4975,-81.0231,-80.7152,-80.405, -80.0933,-79.7799,-79.4652,-79.1492, -78.8317,-78.5244,-78.0617,-77.7526, -77.2885,-76.9769,-76.6648,-76.3521, -76.0389,-75.7251,-75.4205,-74.9661, -74.6627,-74.3588,-74.0487,-73.5917, -73.2869,-72.981,-72.6747,-72.3685, -72.062,-71.7555,-71.4482,-71.1415, -70.6813,-70.3726,-70.0642,-69.7559, -69.2938,-68.9855,-68.6709,-68.3619, -68.053,-67.7439,-67.4348,-67.1257, -66.6621,-66.199,-66.0449,-66.0068, -65.8589,-65.8573,-65.8576,-66.1648, -66.6253,-67.0855,-67.3923,-67.8521, -68.1585,-68.4653,-68.9307,-69.2363, -69.5391,-69.8438,-70.3001,-70.6049, -70.9091,-71.2126,-71.6671,-71.9712, -72.4245,-72.8788,-73.1769,-73.6261, -73.9253,-74.3786,-74.8246,-75.2688, -75.5706,-75.8769,-76.1822,-76.4864, -76.793,-77.2434,-77.5435,-77.8426, -78.1404,-78.4372,-78.7429,-79.0468, -79.3485,-79.6481,-79.9439,-80.2391, -80.5318,-80.8277,-80.9754,-81.0559)
FOOTPRINT_POINT_LONGITUDE = (108.9,111.19,114.77,114.827,114.863, 116.144,116.9,117.608,118.271,118.895, 119.481,120.033,120.554,121.03,121.695, 122.111,122.697,123.064,123.414,123.748 ,124.067,124.371,124.654,125.053, 125.306,125.549,125.787,126.12,126.333, 126.537,126.734,126.924,127.107,127.285 ,127.455,127.621,127.86,128.011,128.159 ,128.301,128.507,128.639,128.769, 128.893,129.014,129.131,129.244,129.355 ,129.515,129.668,129.719,129.731, 127.398,127.375,127.368,127.244,127.051 ,126.848,126.709,126.491,126.341, 126.189,125.949,125.78,125.591,125.409, 125.122,124.929,124.728,124.517,124.187 ,123.967,123.608,123.241,122.959, 122.535,122.242,121.775,121.283,120.76, 120.384,119.986,119.569,119.133,118.699 ,117.958,117.442,116.904,116.339, 115.747,115.101,114.412,113.682,112.909 ,112.08,111.215,110.296,109.282,108.742 ,108.9)
ORBIT_NUMBER = 2440
ORBITAL_ECCENTRICITY = 0.572
ORBITAL_INCLINATION = 86.61
ORBITAL_SEMIMAJOR_AXIS = 8537.83
PERIAPSIS_ALTITUDE = 274.72
PERIAPSIS_ARGUMENT_ANGLE = 289.36
PERIAPSIS_TIME = 2005-12-06T22:16:31.000Z
SPACECRAFT_ORIENTATION = (0.0,-1.0,0.0)
^MEX_ORIENTATION_DESC = "MEX_ORIENTATION_DESC.TXT"
SPACECRAFT_POINTING_MODE = ACROSSTRACK
^MEX_POINTING_DESC = "MEX_POINTING_DESC.TXT"
RIGHT_ASCENSION = -1e+32
DECLINATION = -1e+32
OFFSET_ANGLE = 0.55
SPACECRAFT_SOLAR_DISTANCE = 2.24181e+08
TARGET_NAME = MARS
/* CAMERA DATA ELEMENTS */
DETECTOR_TEMPERATURE = 18.3705
FOCAL_PLANE_TEMPERATURE = 8.1755
INST_CMPRS_NAME = "DISCRETE COSINE TRANSFORMATION (DCT)"
INST_CMPRS_RATIO = 22.6051
INST_CMPRS_QUALITY = 0
INST_CMPRS_QUANTZ_TBL_ID = 0
INSTRUMENT_TEMPERATURE = 11.234
LENS_TEMPERATURE = 8.3794
MACROPIXEL_SIZE = 4
PIXEL_SUBSAMPLING_FLAG = N
SIGNAL_CHAIN_ID = 2
/* RADIOMETRIC DATA ELEMENTS */
BANDWIDTH = 88.0
CENTER_FILTER_WAVELENGTH = 538.0
RADIANCE_OFFSET = 0.921183
RADIANCE_SCALING_FACTOR = 0.00424625
REFLECTANCE_SCALING_FACTOR = 0.000183734
MEX:REFLECTANCE_OFFSET = 0.0398594
/* IMAGE OBJECT DEFINITIONS */
OBJECT = IMAGE
  INTERCHANGE_FORMAT = BINARY
  LINES = 18521
  LINE_SAMPLES = 5616
  SAMPLE_TYPE = UNSIGNED_INTEGER
  SAMPLE_BITS = 8
  BANDS = 1
  BAND_STORAGE_TYPE = BAND_SEQUENTIAL
  MAXIMUM = 255
  MEAN = 125.065
  MINIMUM = 1
  STANDARD_DEVIATION = 50.7065
END_OBJECT = IMAGE
/* MAP OBJECT DEFINITIONS */
OBJECT = IMAGE_MAP_PROJECTION
  ^DATA_SET_MAP_PROJECTION_CATALOG= "DSMAP.CAT"
  A_AXIS_RADIUS = 3396.0
  B_AXIS_RADIUS = 3396.0
  C_AXIS_RADIUS = 3396.0
  CENTER_LATITUDE = 0.0
  CENTER_LONGITUDE = 124.0
  COORDINATE_SYSTEM_NAME = PLANETOGRAPHIC
  COORDINATE_SYSTEM_TYPE = "BODY-FIXED ROTATING"
  EASTERNMOST_LONGITUDE = 129.731
  FIRST_STANDARD_PARALLEL = "N/A"
  LINE_FIRST_PIXEL = 1
  LINE_LAST_PIXEL = 18521
  LINE_PROJECTION_OFFSET = -78075.125
  MAP_PROJECTION_ROTATION = 0.0
  MAP_PROJECTION_TYPE = SINUSOIDAL
  MAP_RESOLUTION = 1185.42760773333
  MAP_SCALE = 0.05
  MAXIMUM_LATITUDE = -65.8573
  MINIMUM_LATITUDE = -81.51220000000001
  POSITIVE_LONGITUDE_DIRECTION = EAST
  REFERENCE_LATITUDE = "N/A"
  REFERENCE_LONGITUDE = "N/A"
  SAMPLE_FIRST_PIXEL = 1
  SAMPLE_LAST_PIXEL = 5616
  SAMPLE_PROJECTION_OFFSET = 2844.125
  SECOND_STANDARD_PARALLEL = "N/A"
  WESTERNMOST_LONGITUDE = 108.742
END_OBJECT = IMAGE_MAP_PROJECTION
END
