PDS_VERSION_ID = PDS3
/* FILE DATA ELEMENTS */
RECORD_TYPE = UNDEFINED
/* POINTERS TO DATA OBJECTS */
^IMAGE = ("H2440_0000_IR4.TIF")
/* IDENTIFICATION DATA ELEMENTS */
DATA_SET_ID = "MEX-M-HRSC-4-REFDR-MAPPROJECT-EXT1-V4.0"
DATA_SET_NAME = "MARS EXPRESS HRSC MAP PROJECTED REFDR EXTENSION1 V4.0"
DETECTOR_ID = MEX_HRSC_IR
EVENT_TYPE = "MARS-REGIONAL-MAPPING-Gl-Pf-La"
INSTRUMENT_HOST_ID = MEX
INSTRUMENT_HOST_NAME = "MARS EXPRESS"
INSTRUMENT_ID = HRSC
INSTRUMENT_NAME = "HIGH RESOLUTION STEREO CAMERA"
MISSION_NAME = "MARS EXPRESS"
MISSION_PHASE_NAME = ME_Phase_1
PROCESSING_LEVEL_ID = 4
PRODUCT_CREATION_TIME = 2023-02-08T07:05:14.000Z
PRODUCT_ID = "H2440_0000_IR4.TIF"
RELEASE_ID = 0001
REVISION_ID = 0000
/* QUALITY DATA ELEMENTS */
DATA_QUALITY_ID = 1
DATA_QUALITY_DESC = "Data calculated based on original SPICE kernels"
/* TIME DATA ELEMENTS */
SPACECRAFT_CLOCK_START_COUNT = "1/0081987183.56201"
SPACECRAFT_CLOCK_STOP_COUNT = "1/0081987476.32250"
START_TIME = 2005-12-06T22:13:15.669Z
STOP_TIME = 2005-12-06T22:17:16.605Z
/* ORBITAL DATA ELEMENTS */
ASCENDING_NODE_LONGITUDE = 177.04
MAXIMUM_RESOLUTION = 0.0453
FOOTPRINT_POINT_LATITUDE = (-81.0992,-81.3099,-81.594,-81.5981, -81.5268,-81.2155,-80.9013,-80.4301, -80.1127,-79.8004,-79.4912,-79.1805, -78.8675,-78.5528,-78.2347,-77.9179, -77.6058,-77.3045,-76.9946,-76.6847, -76.2192,-75.9084,-75.4397,-74.9704, -74.6571,-74.3533,-74.0498,-73.5957, -73.1411,-72.8349,-72.5285,-72.0703, -71.7647,-71.4572,-71.1527,-70.8495, -70.5393,-70.2283,-69.9181,-69.6112, -69.3016,-68.8376,-68.5261,-68.2156, -67.9042,-67.5929,-67.282,-66.972, -66.5066,-66.1985,-66.0439,-66.0425, -65.9346,-65.8582,-65.8562,-65.8563, -66.1663,-66.6304,-67.0935,-67.4022, -67.865,-68.1733,-68.4829,-68.9468, -69.2524,-69.8562,-70.3116,-70.7707, -71.074,-71.377,-71.679,-71.9867, -72.4391,-72.8945,-73.632,-73.9293, -74.2261,-74.5299,-74.9877,-75.2921, -75.5961,-75.8994,-76.2012,-76.5017, -76.8103,-77.1026,-77.3992,-77.7062, -78.0118,-78.3169,-78.621,-78.9213, -79.2189,-79.6651,-79.9637,-80.2646, -80.5627,-80.8533,-80.9979,-81.0992)
FOOTPRINT_POINT_LONGITUDE = (108.65,110.968,114.616,114.674,114.886 ,115.743,116.543,117.637,118.31,118.929 ,119.503,120.045,120.558,121.044, 121.507,121.942,122.349,122.723,123.086 ,123.432,123.922,124.23,124.668,125.078 ,125.338,125.578,125.81,126.139,126.451 ,126.65,126.842,127.118,127.293,127.464 ,127.628,127.786,127.94,128.09,128.235, 128.375,128.51,128.707,128.833,128.955, 129.074,129.189,129.301,129.41,129.568, 129.669,129.718,129.719,128.332,127.4, 127.378,127.37,127.244,127.049,126.844, 126.703,126.483,126.331,126.177,125.936 ,125.764,125.395,125.107,124.813, 124.605,124.39,124.166,123.945,123.584, 123.211,122.511,122.219,121.915,121.593 ,121.07,120.705,120.324,119.927,119.511 ,119.077,118.637,118.152,117.653, 117.111,116.541,115.942,115.313,114.646 ,113.942,112.8,111.954,111.062,110.114, 109.102,108.572,108.65)
ORBIT_NUMBER = 2440
ORBITAL_ECCENTRICITY = 0.572
ORBITAL_INCLINATION = 86.61
ORBITAL_SEMIMAJOR_AXIS = 8537.83
PERIAPSIS_ALTITUDE = 274.72
PERIAPSIS_ARGUMENT_ANGLE = 289.36
PERIAPSIS_TIME = 2005-12-06T22:16:31.000Z
SPACECRAFT_ORIENTATION = (0.0,-1.0,0.0)
^MEX_ORIENTATION_DESC = "MEX_ORIENTATION_DESC.TXT"
SPACECRAFT_POINTING_MODE = ACROSSTRACK
^MEX_POINTING_DESC = "MEX_POINTING_DESC.TXT"
RIGHT_ASCENSION = -1e+32
DECLINATION = -1e+32
OFFSET_ANGLE = 0.55
SPACECRAFT_SOLAR_DISTANCE = 2.24181e+08
TARGET_NAME = MARS
/* CAMERA DATA ELEMENTS */
DETECTOR_TEMPERATURE = 17.351
FOCAL_PLANE_TEMPERATURE = 8.1755
INST_CMPRS_NAME = "DISCRETE COSINE TRANSFORMATION (DCT)"
INST_CMPRS_RATIO = 15.7404
INST_CMPRS_QUALITY = 0
INST_CMPRS_QUANTZ_TBL_ID = 0
INSTRUMENT_TEMPERATURE = 11.234
LENS_TEMPERATURE = 8.3794
MACROPIXEL_SIZE = 4
MISSING_FRAMES = 0
PIXEL_SUBSAMPLING_FLAG = N
SIGNAL_CHAIN_ID = 2
/* RADIOMETRIC DATA ELEMENTS */
BANDWIDTH = 81.0
CENTER_FILTER_WAVELENGTH = 955.5
RADIANCE_OFFSET = 0.566079
RADIANCE_SCALING_FACTOR = 0.00400668
REFLECTANCE_SCALING_FACTOR = 0.000434421
MEX:REFLECTANCE_OFFSET = 0.0613766
/* IMAGE OBJECT DEFINITIONS */
OBJECT = IMAGE
  INTERCHANGE_FORMAT = BINARY
  LINES = 18521
  LINE_SAMPLES = 5616
  SAMPLE_TYPE = UNSIGNED_INTEGER
  SAMPLE_BITS = 8
  BANDS = 1
  BAND_STORAGE_TYPE = BAND_SEQUENTIAL
  MAXIMUM = 255
  MEAN = 109.337
  MINIMUM = 1
  STANDARD_DEVIATION = 44.9089
END_OBJECT = IMAGE
/* MAP OBJECT DEFINITIONS */
OBJECT = IMAGE_MAP_PROJECTION
  ^DATA_SET_MAP_PROJECTION_CATALOG= "DSMAP.CAT"
  A_AXIS_RADIUS = 3396.0
  B_AXIS_RADIUS = 3396.0
  C_AXIS_RADIUS = 3396.0
  CENTER_LATITUDE = 0.0
  CENTER_LONGITUDE = 124.0
  COORDINATE_SYSTEM_NAME = PLANETOGRAPHIC
  COORDINATE_SYSTEM_TYPE = "BODY-FIXED ROTATING"
  EASTERNMOST_LONGITUDE = 129.719
  FIRST_STANDARD_PARALLEL = "N/A"
  LINE_FIRST_PIXEL = 1
  LINE_LAST_PIXEL = 18521
  LINE_PROJECTION_OFFSET = -78075.125
  MAP_PROJECTION_ROTATION = 0.0
  MAP_PROJECTION_TYPE = SINUSOIDAL
  MAP_RESOLUTION = 1185.42760773333
  MAP_SCALE = 0.05
  MAXIMUM_LATITUDE = -65.8562
  MINIMUM_LATITUDE = -81.5981
  POSITIVE_LONGITUDE_DIRECTION = EAST
  REFERENCE_LATITUDE = "N/A"
  REFERENCE_LONGITUDE = "N/A"
  SAMPLE_FIRST_PIXEL = 1
  SAMPLE_LAST_PIXEL = 5616
  SAMPLE_PROJECTION_OFFSET = 2844.125
  SECOND_STANDARD_PARALLEL = "N/A"
  WESTERNMOST_LONGITUDE = 108.572
END_OBJECT = IMAGE_MAP_PROJECTION
END
