PDS_VERSION_ID = PDS3
/* FILE DATA ELEMENTS */
RECORD_TYPE = UNDEFINED
/* POINTERS TO DATA OBJECTS */
^IMAGE = ("H2445_0000_IR4.TIF")
/* IDENTIFICATION DATA ELEMENTS */
DATA_SET_ID = "MEX-M-HRSC-4-REFDR-MAPPROJECT-EXT1-V4.0"
DATA_SET_NAME = "MARS EXPRESS HRSC MAP PROJECTED REFDR EXTENSION1 V4.0"
DETECTOR_ID = MEX_HRSC_IR
EVENT_TYPE = "MARS-LOCAL-STEREO-Gl-Pf-Ts"
INSTRUMENT_HOST_ID = MEX
INSTRUMENT_HOST_NAME = "MARS EXPRESS"
INSTRUMENT_ID = HRSC
INSTRUMENT_NAME = "HIGH RESOLUTION STEREO CAMERA"
MISSION_NAME = "MARS EXPRESS"
MISSION_PHASE_NAME = ME_Phase_1
PROCESSING_LEVEL_ID = 4
PRODUCT_CREATION_TIME = 2023-02-08T07:05:14.000Z
PRODUCT_ID = "H2445_0000_IR4.TIF"
RELEASE_ID = 0001
REVISION_ID = 0000
/* QUALITY DATA ELEMENTS */
DATA_QUALITY_ID = 1
DATA_QUALITY_DESC = "Data calculated based on original SPICE kernels"
/* TIME DATA ELEMENTS */
SPACECRAFT_CLOCK_START_COUNT = "1/0082108132.57942"
SPACECRAFT_CLOCK_STOP_COUNT = "1/0082108365.16071"
START_TIME = 2005-12-08T07:49:04.505Z
STOP_TIME = 2005-12-08T07:52:05.850Z
/* ORBITAL DATA ELEMENTS */
ASCENDING_NODE_LONGITUDE = 176.94
MAXIMUM_RESOLUTION = 0.0907
FOOTPRINT_POINT_LATITUDE = (-78.8711,-78.9598,-79.0479,-79.1548, -79.1572,-79.0861,-78.8504,-78.6138, -78.3771,-78.017,-77.6627,-77.424, -77.1852,-76.9449,-76.5851,-76.3441, -76.1119,-75.8794,-75.5308,-75.298, -75.0638,-74.8303,-74.5961,-74.2446, -74.0096,-73.775,-73.4214,-73.0658, -72.8283,-72.592,-72.3582,-72.0032, -71.7661,-71.5284,-71.2914,-71.0537, -70.6969,-70.4584,-70.1013,-69.8631, -69.6246,-69.2659,-69.0268,-68.6682, -68.3093,-68.0695,-67.7103,-67.3499, -67.2297,-67.1979,-67.1636,-67.075, -67.0736,-67.0742,-67.3133,-67.5539, -67.7913,-68.0292,-68.2682,-68.5047, -68.7425,-68.98,-69.3359,-69.5734, -69.8093,-70.1623,-70.3985,-70.6342, -70.9862,-71.2217,-71.4564,-71.6914, -71.9275,-72.2739,-72.5075,-72.8567, -73.09,-73.4418,-73.6736,-73.9052, -74.1343,-74.3661,-74.5965,-74.8275, -75.1712,-75.4,-75.6268,-75.857, -76.0845,-76.3192,-76.6712,-76.9059, -77.2555,-77.4886,-77.836,-78.0671, -78.2965,-78.6407,-78.7553,-78.8711)
FOOTPRINT_POINT_LONGITUDE = (347.259,348.578,350.007,351.964,352.01 ,352.295,352.606,352.904,353.189, 353.609,353.983,354.226,354.46,354.688, 355.011,355.219,355.412,355.599,355.865 ,356.036,356.204,356.364,356.521, 356.746,356.891,357.031,357.235,357.434 ,357.562,357.683,357.797,357.969,358.08 ,358.188,358.293,358.395,358.544, 358.641,358.78,358.87,358.957,359.086, 359.169,359.29,359.406,359.482,359.592, 359.699,359.734,359.743,358.994,357.36, 357.337,357.321,357.23,357.138,357.041, 356.943,356.843,356.739,356.633,356.525 ,356.357,356.241,356.122,355.937, 355.811,355.681,355.478,355.339,355.196 ,355.05,354.9,354.663,354.501,354.249, 354.075,353.806,353.619,353.426,353.226 ,353.022,352.81,352.593,352.252,352.016 ,351.771,351.52,351.259,350.981,350.541 ,350.234,349.752,349.416,348.887, 348.516,348.131,347.524,347.313, 347.259)
ORBIT_NUMBER = 2445
ORBITAL_ECCENTRICITY = 0.572
ORBITAL_INCLINATION = 86.63
ORBITAL_SEMIMAJOR_AXIS = 8535.09
PERIAPSIS_ALTITUDE = 274.86
PERIAPSIS_ARGUMENT_ANGLE = 288.47
PERIAPSIS_TIME = 2005-12-08T07:51:24.000Z
SPACECRAFT_ORIENTATION = (0.0,-1.0,0.0)
^MEX_ORIENTATION_DESC = "MEX_ORIENTATION_DESC.TXT"
SPACECRAFT_POINTING_MODE = NADIR
^MEX_POINTING_DESC = "MEX_POINTING_DESC.TXT"
RIGHT_ASCENSION = -1e+32
DECLINATION = -1e+32
OFFSET_ANGLE = -1e+32
SPACECRAFT_SOLAR_DISTANCE = 2.24454e+08
TARGET_NAME = MARS
/* CAMERA DATA ELEMENTS */
DETECTOR_TEMPERATURE = 16.9432
FOCAL_PLANE_TEMPERATURE = 8.9911
INST_CMPRS_NAME = "DISCRETE COSINE TRANSFORMATION (DCT)"
INST_CMPRS_RATIO = 26.024
INST_CMPRS_QUALITY = 0
INST_CMPRS_QUANTZ_TBL_ID = 0
INSTRUMENT_TEMPERATURE = 11.0301
LENS_TEMPERATURE = 8.3794
MACROPIXEL_SIZE = 8
MISSING_FRAMES = 0
PIXEL_SUBSAMPLING_FLAG = N
SIGNAL_CHAIN_ID = 2
/* RADIOMETRIC DATA ELEMENTS */
BANDWIDTH = 81.0
CENTER_FILTER_WAVELENGTH = 955.5
RADIANCE_OFFSET = 0.632226
RADIANCE_SCALING_FACTOR = 0.00289254
REFLECTANCE_SCALING_FACTOR = 0.000314384
MEX:REFLECTANCE_OFFSET = 0.0687154
/* IMAGE OBJECT DEFINITIONS */
OBJECT = IMAGE
  INTERCHANGE_FORMAT = BINARY
  LINES = 7125
  LINE_SAMPLES = 1870
  SAMPLE_TYPE = UNSIGNED_INTEGER
  SAMPLE_BITS = 8
  BANDS = 1
  BAND_STORAGE_TYPE = BAND_SEQUENTIAL
  MAXIMUM = 255
  MEAN = 136.053
  MINIMUM = 1
  STANDARD_DEVIATION = 29.0268
END_OBJECT = IMAGE
/* MAP OBJECT DEFINITIONS */
OBJECT = IMAGE_MAP_PROJECTION
  ^DATA_SET_MAP_PROJECTION_CATALOG= "DSMAP.CAT"
  A_AXIS_RADIUS = 3396.0
  B_AXIS_RADIUS = 3396.0
  C_AXIS_RADIUS = 3396.0
  CENTER_LATITUDE = 0.0
  CENTER_LONGITUDE = 356.0
  COORDINATE_SYSTEM_NAME = PLANETOGRAPHIC
  COORDINATE_SYSTEM_TYPE = "BODY-FIXED ROTATING"
  EASTERNMOST_LONGITUDE = 359.743
  FIRST_STANDARD_PARALLEL = "N/A"
  LINE_FIRST_PIXEL = 1
  LINE_LAST_PIXEL = 7125
  LINE_PROJECTION_OFFSET = -39748.3125
  MAP_PROJECTION_ROTATION = 0.0
  MAP_PROJECTION_TYPE = SINUSOIDAL
  MAP_RESOLUTION = 592.713803866667
  MAP_SCALE = 0.1
  MAXIMUM_LATITUDE = -67.0736
  MINIMUM_LATITUDE = -79.1572
  POSITIVE_LONGITUDE_DIRECTION = EAST
  REFERENCE_LATITUDE = "N/A"
  REFERENCE_LONGITUDE = "N/A"
  SAMPLE_FIRST_PIXEL = 1
  SAMPLE_LAST_PIXEL = 1870
  SAMPLE_PROJECTION_OFFSET = 1002.3125
  SECOND_STANDARD_PARALLEL = "N/A"
  WESTERNMOST_LONGITUDE = 347.259
END_OBJECT = IMAGE_MAP_PROJECTION
END
