PDS_VERSION_ID = PDS3
/* FILE DATA ELEMENTS */
RECORD_TYPE = UNDEFINED
/* POINTERS TO DATA OBJECTS */
^IMAGE = ("H2449_0000_IR4.TIF")
/* IDENTIFICATION DATA ELEMENTS */
DATA_SET_ID = "MEX-M-HRSC-4-REFDR-MAPPROJECT-EXT1-V4.0"
DATA_SET_NAME = "MARS EXPRESS HRSC MAP PROJECTED REFDR EXTENSION1 V4.0"
DETECTOR_ID = MEX_HRSC_IR
EVENT_TYPE = "MARS-REGIONAL-MAPPING-Im-Fl-Gl"
INSTRUMENT_HOST_ID = MEX
INSTRUMENT_HOST_NAME = "MARS EXPRESS"
INSTRUMENT_ID = HRSC
INSTRUMENT_NAME = "HIGH RESOLUTION STEREO CAMERA"
MISSION_NAME = "MARS EXPRESS"
MISSION_PHASE_NAME = ME_Phase_1
PROCESSING_LEVEL_ID = 4
PRODUCT_CREATION_TIME = 2023-02-08T07:05:14.000Z
PRODUCT_ID = "H2449_0000_IR4.TIF"
RELEASE_ID = 0001
REVISION_ID = 0000
/* QUALITY DATA ELEMENTS */
DATA_QUALITY_ID = 1
DATA_QUALITY_DESC = "Data calculated based on original SPICE kernels"
/* TIME DATA ELEMENTS */
SPACECRAFT_CLOCK_START_COUNT = "1/0082205010.57156"
SPACECRAFT_CLOCK_STOP_COUNT = "1/0082205314.14751"
START_TIME = 2005-12-09T10:43:41.773Z
STOP_TIME = 2005-12-09T10:47:41.763Z
/* ORBITAL DATA ELEMENTS */
ASCENDING_NODE_LONGITUDE = 176.85
MAXIMUM_RESOLUTION = 0.0454
FOOTPRINT_POINT_LATITUDE = (-69.0936,-69.1525,-69.2241,-69.2252, -69.155,-68.6999,-68.3956,-68.0911, -67.6343,-67.33,-67.0242,-66.7194, -66.4145,-66.109,-65.6509,-65.1928, -64.8871,-64.4289,-63.9692,-63.6634, -63.2033,-62.8951,-62.5828,-62.2643, -61.9459,-61.6266,-61.3101,-61.0045, -60.5156,-60.1926,-59.8772,-59.5605, -59.0657,-58.7339,-58.2372,-57.9061, -57.5777,-57.2519,-56.9118,-56.5674, -56.2277,-55.8856,-55.5301,-55.184, -54.8386,-54.4781,-53.9496,-53.5962, -53.233,-53.0504,-53.0081,-52.9915, -52.9665,-52.9326,-52.9317,-52.9323, -53.2912,-53.8254,-54.3601,-54.7099, -55.0748,-55.4269,-55.7649,-56.1086, -56.4514,-56.789,-57.2901,-57.6179, -57.9473,-58.278,-58.6142,-58.9459, -59.2749,-59.5941,-59.9066,-60.2284, -60.7059,-61.0257,-61.3436,-61.6607, -61.9793,-62.4544,-62.906,-63.218, -63.5231,-63.9795,-64.2837,-64.5881, -64.8925,-65.1966,-65.8033,-66.107, -66.4111,-66.8664,-67.3207,-67.9261, -68.3814,-68.8269,-68.9829,-69.0936)
FOOTPRINT_POINT_LONGITUDE = (323.655,324.676,326.124,326.148, 326.255,326.409,326.509,326.606,326.745 ,326.835,326.923,327.008,327.09,327.17, 327.287,327.398,327.47,327.574,327.676, 327.74,327.836,327.899,327.965,328.026, 328.084,328.142,328.196,328.238,328.328 ,328.383,328.43,328.478,328.551,328.6, 328.67,328.716,328.758,328.797,328.839, 328.883,328.923,328.963,329.013,329.053 ,329.085,329.128,329.182,329.218, 329.254,329.271,329.275,328.755,328.02, 327.373,327.355,327.349,327.308,327.251 ,327.193,327.15,327.112,327.072,327.026 ,326.982,326.935,326.885,326.807, 326.756,326.704,326.651,326.599,326.543 ,326.484,326.423,326.361,326.302, 326.207,326.142,326.074,326.004,325.933 ,325.821,325.705,325.631,325.552, 325.428,325.342,325.254,325.163,325.07, 324.874,324.772,324.667,324.504,324.332 ,324.091,323.902,323.698,323.632, 323.655)
ORBIT_NUMBER = 2449
ORBITAL_ECCENTRICITY = 0.572
ORBITAL_INCLINATION = 86.64
ORBITAL_SEMIMAJOR_AXIS = 8533.17
PERIAPSIS_ALTITUDE = 274.91
PERIAPSIS_ARGUMENT_ANGLE = 287.8
PERIAPSIS_TIME = 2005-12-09T10:43:19.000Z
SPACECRAFT_ORIENTATION = (0.0,-1.0,0.0)
^MEX_ORIENTATION_DESC = "MEX_ORIENTATION_DESC.TXT"
SPACECRAFT_POINTING_MODE = NADIR
^MEX_POINTING_DESC = "MEX_POINTING_DESC.TXT"
RIGHT_ASCENSION = -1e+32
DECLINATION = -1e+32
OFFSET_ANGLE = -1e+32
SPACECRAFT_SOLAR_DISTANCE = 2.24673e+08
TARGET_NAME = MARS
/* CAMERA DATA ELEMENTS */
DETECTOR_TEMPERATURE = 17.351
FOCAL_PLANE_TEMPERATURE = 8.5833
INST_CMPRS_NAME = "DISCRETE COSINE TRANSFORMATION (DCT)"
INST_CMPRS_RATIO = 8.74104
INST_CMPRS_QUALITY = 0
INST_CMPRS_QUANTZ_TBL_ID = 0
INSTRUMENT_TEMPERATURE = 10.6223
LENS_TEMPERATURE = 8.5833
MACROPIXEL_SIZE = 4
MISSING_FRAMES = 0
PIXEL_SUBSAMPLING_FLAG = N
SIGNAL_CHAIN_ID = 2
/* RADIOMETRIC DATA ELEMENTS */
BANDWIDTH = 81.0
CENTER_FILTER_WAVELENGTH = 955.5
RADIANCE_OFFSET = 0.781087
RADIANCE_SCALING_FACTOR = 0.00409599
REFLECTANCE_SCALING_FACTOR = 0.000446054
MEX:REFLECTANCE_OFFSET = 0.0850606
/* IMAGE OBJECT DEFINITIONS */
OBJECT = IMAGE
  INTERCHANGE_FORMAT = BINARY
  LINES = 19211
  LINE_SAMPLES = 3087
  SAMPLE_TYPE = UNSIGNED_INTEGER
  SAMPLE_BITS = 8
  BANDS = 1
  BAND_STORAGE_TYPE = BAND_SEQUENTIAL
  MAXIMUM = 255
  MEAN = 108.743
  MINIMUM = 1
  STANDARD_DEVIATION = 35.1454
END_OBJECT = IMAGE
/* MAP OBJECT DEFINITIONS */
OBJECT = IMAGE_MAP_PROJECTION
  ^DATA_SET_MAP_PROJECTION_CATALOG= "DSMAP.CAT"
  A_AXIS_RADIUS = 3396.0
  B_AXIS_RADIUS = 3396.0
  C_AXIS_RADIUS = 3396.0
  CENTER_LATITUDE = 0.0
  CENTER_LONGITUDE = 327.0
  COORDINATE_SYSTEM_NAME = PLANETOGRAPHIC
  COORDINATE_SYSTEM_TYPE = "BODY-FIXED ROTATING"
  EASTERNMOST_LONGITUDE = 329.275
  FIRST_STANDARD_PARALLEL = "N/A"
  LINE_FIRST_PIXEL = 1
  LINE_LAST_PIXEL = 19211
  LINE_PROJECTION_OFFSET = -62761.125
  MAP_PROJECTION_ROTATION = 0.0
  MAP_PROJECTION_TYPE = SINUSOIDAL
  MAP_RESOLUTION = 1185.42760773333
  MAP_SCALE = 0.05
  MAXIMUM_LATITUDE = -52.9317
  MINIMUM_LATITUDE = -69.2252
  POSITIVE_LONGITUDE_DIRECTION = EAST
  REFERENCE_LATITUDE = "N/A"
  REFERENCE_LONGITUDE = "N/A"
  SAMPLE_FIRST_PIXEL = 1
  SAMPLE_LAST_PIXEL = 3087
  SAMPLE_PROJECTION_OFFSET = 1438.375
  SECOND_STANDARD_PARALLEL = "N/A"
  WESTERNMOST_LONGITUDE = 323.632
END_OBJECT = IMAGE_MAP_PROJECTION
END
