PDS_VERSION_ID = PDS3
/* FILE DATA ELEMENTS */
RECORD_TYPE = UNDEFINED
/* POINTERS TO DATA OBJECTS */
^IMAGE = ("H2451_0002_P14.TIF")
/* IDENTIFICATION DATA ELEMENTS */
DATA_SET_ID = "MEX-M-HRSC-4-REFDR-MAPPROJECT-EXT1-V4.0"
DATA_SET_NAME = "MARS EXPRESS HRSC MAP PROJECTED REFDR EXTENSION1 V4.0"
DETECTOR_ID = MEX_HRSC_P1
EVENT_TYPE = "MARS-TERMINATOR-CARTOGRAPHY-Ot-At"
INSTRUMENT_HOST_ID = MEX
INSTRUMENT_HOST_NAME = "MARS EXPRESS"
INSTRUMENT_ID = HRSC
INSTRUMENT_NAME = "HIGH RESOLUTION STEREO CAMERA"
MISSION_NAME = "MARS EXPRESS"
MISSION_PHASE_NAME = ME_Phase_1
PROCESSING_LEVEL_ID = 4
PRODUCT_CREATION_TIME = 2023-02-08T07:05:14.000Z
PRODUCT_ID = "H2451_0002_P14.TIF"
RELEASE_ID = 0001
REVISION_ID = 0000
/* QUALITY DATA ELEMENTS */
DATA_QUALITY_ID = 1
DATA_QUALITY_DESC = "Data calculated based on original SPICE kernels"
/* TIME DATA ELEMENTS */
SPACECRAFT_CLOCK_START_COUNT = "1/0082254747.56203"
SPACECRAFT_CLOCK_STOP_COUNT = "1/0082255727.55950"
START_TIME = 2005-12-10T00:33:57.031Z
STOP_TIME = 2005-12-10T00:36:06.888Z
/* ORBITAL DATA ELEMENTS */
ASCENDING_NODE_LONGITUDE = 176.81
MAXIMUM_RESOLUTION = 0.1448
FOOTPRINT_POINT_LATITUDE = (11.6921,11.7085,11.7218,11.7352, 11.7487,11.7623,11.7761,11.7899,11.8039 ,11.8215,11.8358,11.8501,11.8646, 11.8792,11.894,11.9089,11.9239,11.9391, 11.9544,11.9698,11.9854,12.0012,12.0171 ,12.0332,12.0494,12.0657,12.0698, 12.0944,12.3557,12.5639,12.7716,12.9273 ,13.134,13.4432,13.6488,13.9569,14.1612 ,14.3652,14.6191,14.8722,15.0742, 15.4268,15.6777,15.8775,16.077,16.2762, 16.5746,16.7727,17.1184,17.1677,17.1729 ,17.154,17.1302,17.1115,17.0833,17.0645 ,17.0457,17.0273,17.0129,16.9942, 16.9753,16.9471,16.9284,16.9099,16.8915 ,16.873,16.8498,16.8307,16.8128,16.7947 ,16.7767,16.7586,16.7404,16.7224, 16.6997,16.6951,16.693,16.5003,16.1617, 15.9676,15.7729,15.4309,15.0875,14.8906 ,14.6435,14.4452,14.2465,14.0476, 13.8482,13.6482,13.2966,13.0952,12.8932 ,12.6398,12.4364,12.1811,12.0273, 11.7715,11.7202,11.6921)
FOOTPRINT_POINT_LONGITUDE = (128.395,128.7,128.944,129.187,129.431, 129.674,129.916,130.159,130.402,130.705 ,130.948,131.191,131.433,131.675, 131.918,132.16,132.403,132.646,132.889, 133.132,133.375,133.619,133.863,134.108 ,134.353,134.598,134.659,134.688, 134.691,134.694,134.696,134.698,134.7, 134.704,134.706,134.711,134.713,134.716 ,134.719,134.722,134.725,134.73,134.733 ,134.736,134.739,134.741,134.746, 134.749,134.754,134.755,134.755,134.477 ,134.126,133.845,133.425,133.145, 132.866,132.587,132.378,132.1,131.822, 131.404,131.126,130.848,130.57,130.292, 129.944,129.666,129.387,129.109,128.83, 128.551,128.272,127.993,127.643,127.573 ,127.547,127.582,127.643,127.677, 127.712,127.772,127.831,127.865,127.907 ,127.941,127.974,128.008,128.041, 128.074,128.131,128.164,128.197,128.237 ,128.269,128.31,128.334,128.374,128.382 ,128.395)
ORBIT_NUMBER = 2451
ORBITAL_ECCENTRICITY = 0.572
ORBITAL_INCLINATION = 86.62
ORBITAL_SEMIMAJOR_AXIS = 8536.05
PERIAPSIS_ALTITUDE = 275.11
PERIAPSIS_ARGUMENT_ANGLE = 287.44
PERIAPSIS_TIME = 2005-12-10T00:09:17.000Z
SPACECRAFT_ORIENTATION = (0.0,-1.0,0.0)
^MEX_ORIENTATION_DESC = "MEX_ORIENTATION_DESC.TXT"
SPACECRAFT_POINTING_MODE = ACROSSTRACK
^MEX_POINTING_DESC = "MEX_POINTING_DESC.TXT"
RIGHT_ASCENSION = -1e+32
DECLINATION = -1e+32
OFFSET_ANGLE = -0.13
SPACECRAFT_SOLAR_DISTANCE = 2.24782e+08
TARGET_NAME = MARS
/* CAMERA DATA ELEMENTS */
DETECTOR_TEMPERATURE = 21.0212
FOCAL_PLANE_TEMPERATURE = 9.8067
INST_CMPRS_NAME = "DISCRETE COSINE TRANSFORMATION (DCT)"
INST_CMPRS_RATIO = 10.6359
INST_CMPRS_QUALITY = 0
INST_CMPRS_QUANTZ_TBL_ID = 0
INSTRUMENT_TEMPERATURE = 15.312
LENS_TEMPERATURE = 10.0106
MACROPIXEL_SIZE = 2
MISSING_FRAMES = 0
PIXEL_SUBSAMPLING_FLAG = N
SIGNAL_CHAIN_ID = 3
/* RADIOMETRIC DATA ELEMENTS */
BANDWIDTH = 174.0
CENTER_FILTER_WAVELENGTH = 675.0
RADIANCE_OFFSET = 8.76275
RADIANCE_SCALING_FACTOR = 0.0110851
REFLECTANCE_SCALING_FACTOR = 0.000301273
MEX:REFLECTANCE_OFFSET = 0.238156
/* IMAGE OBJECT DEFINITIONS */
OBJECT = IMAGE
  INTERCHANGE_FORMAT = BINARY
  LINES = 1657
  LINE_SAMPLES = 2430
  SAMPLE_TYPE = UNSIGNED_INTEGER
  SAMPLE_BITS = 8
  BANDS = 1
  BAND_STORAGE_TYPE = BAND_SEQUENTIAL
  MAXIMUM = 255
  MEAN = 115.674
  MINIMUM = 1
  STANDARD_DEVIATION = 29.8608
END_OBJECT = IMAGE
/* MAP OBJECT DEFINITIONS */
OBJECT = IMAGE_MAP_PROJECTION
  ^DATA_SET_MAP_PROJECTION_CATALOG= "DSMAP.CAT"
  A_AXIS_RADIUS = 3396.0
  B_AXIS_RADIUS = 3396.0
  C_AXIS_RADIUS = 3396.0
  CENTER_LATITUDE = 0.0
  CENTER_LONGITUDE = 131.0
  COORDINATE_SYSTEM_NAME = PLANETOGRAPHIC
  COORDINATE_SYSTEM_TYPE = "BODY-FIXED ROTATING"
  EASTERNMOST_LONGITUDE = 134.755
  FIRST_STANDARD_PARALLEL = "N/A"
  LINE_FIRST_PIXEL = 1
  LINE_LAST_PIXEL = 1657
  LINE_PROJECTION_OFFSET = 5073.25
  MAP_PROJECTION_ROTATION = 0.0
  MAP_PROJECTION_TYPE = SINUSOIDAL
  MAP_RESOLUTION = 296.356901933333
  MAP_SCALE = 0.2
  MAXIMUM_LATITUDE = 17.1729
  MINIMUM_LATITUDE = 11.6921
  POSITIVE_LONGITUDE_DIRECTION = EAST
  REFERENCE_LATITUDE = "N/A"
  REFERENCE_LONGITUDE = "N/A"
  SAMPLE_FIRST_PIXEL = 1
  SAMPLE_LAST_PIXEL = 2430
  SAMPLE_PROJECTION_OFFSET = 1181.25
  SECOND_STANDARD_PARALLEL = "N/A"
  WESTERNMOST_LONGITUDE = 127.547
END_OBJECT = IMAGE_MAP_PROJECTION
END
