PDS_VERSION_ID = PDS3
/* FILE DATA ELEMENTS */
RECORD_TYPE = UNDEFINED
/* POINTERS TO DATA OBJECTS */
^IMAGE = ("H2453_0000_ND4.TIF")
/* IDENTIFICATION DATA ELEMENTS */
DATA_SET_ID = "MEX-M-HRSC-4-REFDR-MAPPROJECT-EXT1-V4.0"
DATA_SET_NAME = "MARS EXPRESS HRSC MAP PROJECTED REFDR EXTENSION1 V4.0"
DETECTOR_ID = MEX_HRSC_NADIR
EVENT_TYPE = "MARS-REGIONAL-MAPPING-Im-Fl-Pf"
INSTRUMENT_HOST_ID = MEX
INSTRUMENT_HOST_NAME = "MARS EXPRESS"
INSTRUMENT_ID = HRSC
INSTRUMENT_NAME = "HIGH RESOLUTION STEREO CAMERA"
MISSION_NAME = "MARS EXPRESS"
MISSION_PHASE_NAME = ME_Phase_1
PROCESSING_LEVEL_ID = 4
PRODUCT_CREATION_TIME = 2023-02-08T07:05:14.000Z
PRODUCT_ID = "H2453_0000_ND4.TIF"
RELEASE_ID = 0001
REVISION_ID = 0000
/* QUALITY DATA ELEMENTS */
DATA_QUALITY_ID = 1
DATA_QUALITY_DESC = "Data calculated based on original SPICE kernels"
/* TIME DATA ELEMENTS */
SPACECRAFT_CLOCK_START_COUNT = "1/0082301807.56173"
SPACECRAFT_CLOCK_STOP_COUNT = "1/0082302282.46219"
START_TIME = 2005-12-10T13:37:19.219Z
STOP_TIME = 2005-12-10T13:43:53.204Z
/* ORBITAL DATA ELEMENTS */
ASCENDING_NODE_LONGITUDE = 176.77
MAXIMUM_RESOLUTION = 0.0114
FOOTPRINT_POINT_LATITUDE = (-64.5596,-64.6548,-64.6556,-64.6601, -63.8274,-62.9959,-62.1655,-61.5238, -61.0939,-60.6643,-59.8066,-59.1425, -58.6994,-58.2568,-57.5859,-57.1291, -56.6734,-56.218,-55.7499,-55.2804, -54.8117,-54.3342,-53.8516,-53.37, -52.8895,-52.4101,-51.9317,-51.4541, -50.9775,-50.4379,-49.8721,-49.3079, -48.4607,-47.9007,-47.3425,-46.786, -46.2181,-45.6464,-45.0656,-44.4756, -43.8793,-42.9664,-42.3516,-41.7394, -41.1296,-40.5223,-39.9178,-39.6165, -39.6043,-39.5878,-39.5704,-39.5699, -39.5699,-40.1715,-40.7757,-41.3825, -41.992,-42.604,-43.2187,-43.8219, -44.4172,-45.0061,-45.5855,-46.1562, -46.7231,-47.2784,-47.8354,-48.3942, -49.2394,-49.8023,-50.3668,-50.9071, -51.3825,-51.8589,-52.3364,-52.8148, -53.2943,-53.7746,-54.256,-54.7327, -55.2002,-55.6685,-56.1357,-56.5899, -57.0448,-57.5003,-57.949,-58.39, -58.8316,-59.2737,-59.715,-60.5699, -60.998,-61.4265,-62.0663,-62.8934, -63.7217,-64.3435,-64.5508,-64.5596)
FOOTPRINT_POINT_LONGITUDE = (293.002,295.171,295.194,295.301, 295.465,295.62,295.762,295.866,295.934, 295.997,296.119,296.209,296.267,296.323 ,296.401,296.453,296.511,296.561,296.61 ,296.655,296.701,296.752,296.792, 296.834,296.876,296.922,296.963,297.001 ,297.034,297.077,297.119,297.155,297.21 ,297.247,297.284,297.319,297.353, 297.385,297.419,297.448,297.485,297.526 ,297.555,297.588,297.615,297.637, 297.663,297.675,297.676,296.272,295.455 ,295.433,295.423,295.416,295.409, 295.399,295.388,295.376,295.358,295.343 ,295.326,295.306,295.285,295.264, 295.239,295.215,295.188,295.158,295.109 ,295.073,295.036,294.998,294.964, 294.928,294.89,294.85,294.809,294.764, 294.718,294.669,294.619,294.566,294.512 ,294.456,294.398,294.337,294.274,294.21 ,294.144,294.075,294.002,293.854, 293.775,293.692,293.563,293.384,293.192 ,293.036,292.981,293.002)
ORBIT_NUMBER = 2453
ORBITAL_ECCENTRICITY = 0.572
ORBITAL_INCLINATION = 86.62
ORBITAL_SEMIMAJOR_AXIS = 8533.4
PERIAPSIS_ALTITUDE = 275.02
PERIAPSIS_ARGUMENT_ANGLE = 287.11
PERIAPSIS_TIME = 2005-12-10T13:35:18.000Z
SPACECRAFT_ORIENTATION = (0.0,-1.0,0.0)
^MEX_ORIENTATION_DESC = "MEX_ORIENTATION_DESC.TXT"
SPACECRAFT_POINTING_MODE = ACROSSTRACK
^MEX_POINTING_DESC = "MEX_POINTING_DESC.TXT"
RIGHT_ASCENSION = -1e+32
DECLINATION = -1e+32
OFFSET_ANGLE = -0.28
SPACECRAFT_SOLAR_DISTANCE = 2.24891e+08
TARGET_NAME = MARS
/* CAMERA DATA ELEMENTS */
DETECTOR_TEMPERATURE = 17.9627
FOCAL_PLANE_TEMPERATURE = 8.1755
INST_CMPRS_NAME = "DISCRETE COSINE TRANSFORMATION (DCT)"
INST_CMPRS_RATIO = 7.38111
INST_CMPRS_QUALITY = 0
INST_CMPRS_QUANTZ_TBL_ID = 0
INSTRUMENT_TEMPERATURE = 11.234
LENS_TEMPERATURE = 8.5833
MACROPIXEL_SIZE = 1
MISSING_FRAMES = 2
PIXEL_SUBSAMPLING_FLAG = N
SIGNAL_CHAIN_ID = 0
/* RADIOMETRIC DATA ELEMENTS */
BANDWIDTH = 177.0
CENTER_FILTER_WAVELENGTH = 677.5
RADIANCE_OFFSET = 3.14766
RADIANCE_SCALING_FACTOR = 0.0129315
REFLECTANCE_SCALING_FACTOR = 0.000347442
MEX:REFLECTANCE_OFFSET = 0.0845706
/* IMAGE OBJECT DEFINITIONS */
OBJECT = IMAGE
  INTERCHANGE_FORMAT = BINARY
  LINES = 118973
  LINE_SAMPLES = 12277
  SAMPLE_TYPE = UNSIGNED_INTEGER
  SAMPLE_BITS = 8
  BANDS = 1
  BAND_STORAGE_TYPE = BAND_SEQUENTIAL
  MAXIMUM = 255
  MEAN = 125.693
  MINIMUM = 1
  STANDARD_DEVIATION = 23.6474
END_OBJECT = IMAGE
/* MAP OBJECT DEFINITIONS */
OBJECT = IMAGE_MAP_PROJECTION
  ^DATA_SET_MAP_PROJECTION_CATALOG= "DSMAP.CAT"
  A_AXIS_RADIUS = 3396.0
  B_AXIS_RADIUS = 3396.0
  C_AXIS_RADIUS = 3396.0
  CENTER_LATITUDE = 0.0
  CENTER_LONGITUDE = 296.0
  COORDINATE_SYSTEM_NAME = PLANETOGRAPHIC
  COORDINATE_SYSTEM_TYPE = "BODY-FIXED ROTATING"
  EASTERNMOST_LONGITUDE = 297.676
  FIRST_STANDARD_PARALLEL = "N/A"
  LINE_FIRST_PIXEL = 1
  LINE_LAST_PIXEL = 118973
  LINE_PROJECTION_OFFSET = -187629.0
  MAP_PROJECTION_ROTATION = 0.0
  MAP_PROJECTION_TYPE = SINUSOIDAL
  MAP_RESOLUTION = 4741.71043093333
  MAP_SCALE = 0.0125
  MAXIMUM_LATITUDE = -39.5699
  MINIMUM_LATITUDE = -64.6601
  POSITIVE_LONGITUDE_DIRECTION = EAST
  REFERENCE_LATITUDE = "N/A"
  REFERENCE_LONGITUDE = "N/A"
  SAMPLE_FIRST_PIXEL = 1
  SAMPLE_LAST_PIXEL = 12277
  SAMPLE_PROJECTION_OFFSET = 6154.0
  SECOND_STANDARD_PARALLEL = "N/A"
  WESTERNMOST_LONGITUDE = 292.981
END_OBJECT = IMAGE_MAP_PROJECTION
END
