PDS_VERSION_ID = PDS3
/* FILE DATA ELEMENTS */
RECORD_TYPE = UNDEFINED
/* POINTERS TO DATA OBJECTS */
^IMAGE = ("H2457_0000_BL4.TIF")
/* IDENTIFICATION DATA ELEMENTS */
DATA_SET_ID = "MEX-M-HRSC-4-REFDR-MAPPROJECT-EXT1-V4.0"
DATA_SET_NAME = "MARS EXPRESS HRSC MAP PROJECTED REFDR EXTENSION1 V4.0"
DETECTOR_ID = MEX_HRSC_BLUE
EVENT_TYPE = "MARS-REGIONAL-MAPPING-Te-Im-Pf"
INSTRUMENT_HOST_ID = MEX
INSTRUMENT_HOST_NAME = "MARS EXPRESS"
INSTRUMENT_ID = HRSC
INSTRUMENT_NAME = "HIGH RESOLUTION STEREO CAMERA"
MISSION_NAME = "MARS EXPRESS"
MISSION_PHASE_NAME = ME_Phase_1
PROCESSING_LEVEL_ID = 4
PRODUCT_CREATION_TIME = 2023-02-08T07:05:14.000Z
PRODUCT_ID = "H2457_0000_BL4.TIF"
RELEASE_ID = 0001
REVISION_ID = 0000
/* QUALITY DATA ELEMENTS */
DATA_QUALITY_ID = 1
DATA_QUALITY_DESC = "Data calculated based on original SPICE kernels"
/* TIME DATA ELEMENTS */
SPACECRAFT_CLOCK_START_COUNT = "1/0082398505.57271"
SPACECRAFT_CLOCK_STOP_COUNT = "1/0082398847.48496"
START_TIME = 2005-12-11T16:29:01.320Z
STOP_TIME = 2005-12-11T16:33:39.352Z
/* ORBITAL DATA ELEMENTS */
ASCENDING_NODE_LONGITUDE = 176.69
MAXIMUM_RESOLUTION = 0.0898
FOOTPRINT_POINT_LATITUDE = (-66.4278,-66.4961,-66.5495,-66.5505, -66.5653,-65.9453,-65.4625,-65.1406, -64.8187,-64.4969,-64.1757,-63.6938, -63.053,-62.5599,-62.2276,-61.8959, -61.3981,-61.0662,-60.7359,-60.3978, -60.055,-59.7129,-59.3712,-59.0298, -58.6888,-58.3355,-57.8083,-57.4554, -57.1041,-56.7435,-56.3811,-56.0192, -55.6578,-55.103,-54.731,-54.3601, -53.9893,-53.6193,-53.25,-52.8814, -52.5132,-52.1457,-51.5614,-51.1256, -50.6905,-50.2565,-49.8237,-49.3916, -48.9606,-48.7456,-48.6715,-48.6357, -48.6045,-48.6037,-48.6051,-49.2501, -49.6797,-50.1116,-50.5445,-50.9785, -51.4135,-51.8248,-52.1907,-52.5573, -52.9247,-53.2927,-53.6613,-54.0304, -54.4003,-54.7708,-55.1417,-55.5114, -55.8716,-56.2323,-56.5935,-56.9549, -57.305,-57.6563,-58.1822,-58.7057, -59.0458,-59.3863,-59.7271,-60.0683, -60.5774,-61.0722,-61.4024,-61.7329, -62.0635,-62.3943,-62.7253,-63.0466, -63.6854,-64.4841,-64.9642,-65.2842, -65.605,-66.2289,-66.3828,-66.4278)
FOOTPRINT_POINT_LONGITUDE = (257.912,259.109,260.182,260.204, 260.224,260.415,260.557,260.648,260.736 ,260.822,260.906,261.027,261.182, 261.295,261.369,261.441,261.545,261.612 ,261.679,261.743,261.808,261.871, 261.932,261.992,262.05,262.109,262.195, 262.249,262.303,262.356,262.409,262.46, 262.51,262.585,262.633,262.681,262.727, 262.771,262.815,262.858,262.899,262.94, 263.002,263.048,263.092,263.135,263.177 ,263.217,263.256,263.276,263.283, 262.065,261.242,261.223,261.209,261.155 ,261.124,261.087,261.048,261.006, 260.963,260.922,260.884,260.844,260.802 ,260.758,260.714,260.668,260.621, 260.571,260.521,260.468,260.415,260.36, 260.304,260.246,260.188,260.123,260.035 ,259.938,259.872,259.804,259.733, 259.661,259.549,259.434,259.354,259.272 ,259.188,259.102,259.014,258.92,258.732 ,258.49,258.33,258.221,258.1,257.869, 257.813,257.912)
ORBIT_NUMBER = 2457
ORBITAL_ECCENTRICITY = 0.572
ORBITAL_INCLINATION = 86.62
ORBITAL_SEMIMAJOR_AXIS = 8532.93
PERIAPSIS_ALTITUDE = 274.62
PERIAPSIS_ARGUMENT_ANGLE = 286.39
PERIAPSIS_TIME = 2005-12-11T16:27:15.000Z
SPACECRAFT_ORIENTATION = (0.0,-1.0,0.0)
^MEX_ORIENTATION_DESC = "MEX_ORIENTATION_DESC.TXT"
SPACECRAFT_POINTING_MODE = ACROSSTRACK
^MEX_POINTING_DESC = "MEX_POINTING_DESC.TXT"
RIGHT_ASCENSION = -1e+32
DECLINATION = -1e+32
OFFSET_ANGLE = 0.35
SPACECRAFT_SOLAR_DISTANCE = 2.2511e+08
TARGET_NAME = MARS
/* CAMERA DATA ELEMENTS */
DETECTOR_TEMPERATURE = 18.5744
FOCAL_PLANE_TEMPERATURE = 8.5833
INST_CMPRS_NAME = "DISCRETE COSINE TRANSFORMATION (DCT)"
INST_CMPRS_RATIO = 28.919
INST_CMPRS_QUALITY = 0
INST_CMPRS_QUANTZ_TBL_ID = 0
INSTRUMENT_TEMPERATURE = 11.4379
LENS_TEMPERATURE = 8.9911
MACROPIXEL_SIZE = 8
MISSING_FRAMES = 0
PIXEL_SUBSAMPLING_FLAG = N
SIGNAL_CHAIN_ID = 2
/* RADIOMETRIC DATA ELEMENTS */
BANDWIDTH = 76.0
CENTER_FILTER_WAVELENGTH = 444.0
RADIANCE_OFFSET = 0.601931
RADIANCE_SCALING_FACTOR = 0.00162794
REFLECTANCE_SCALING_FACTOR = 8.47591e-05
MEX:REFLECTANCE_OFFSET = 0.0313397
/* IMAGE OBJECT DEFINITIONS */
OBJECT = IMAGE
  INTERCHANGE_FORMAT = BINARY
  LINES = 10653
  LINE_SAMPLES = 1659
  SAMPLE_TYPE = UNSIGNED_INTEGER
  SAMPLE_BITS = 8
  BANDS = 1
  BAND_STORAGE_TYPE = BAND_SEQUENTIAL
  MAXIMUM = 255
  MEAN = 120.223
  MINIMUM = 1
  STANDARD_DEVIATION = 40.3877
END_OBJECT = IMAGE
/* MAP OBJECT DEFINITIONS */
OBJECT = IMAGE_MAP_PROJECTION
  ^DATA_SET_MAP_PROJECTION_CATALOG= "DSMAP.CAT"
  A_AXIS_RADIUS = 3396.0
  B_AXIS_RADIUS = 3396.0
  C_AXIS_RADIUS = 3396.0
  CENTER_LATITUDE = 0.0
  CENTER_LONGITUDE = 261.0
  COORDINATE_SYSTEM_NAME = PLANETOGRAPHIC
  COORDINATE_SYSTEM_TYPE = "BODY-FIXED ROTATING"
  EASTERNMOST_LONGITUDE = 263.283
  FIRST_STANDARD_PARALLEL = "N/A"
  LINE_FIRST_PIXEL = 1
  LINE_LAST_PIXEL = 10653
  LINE_PROJECTION_OFFSET = -28806.5625
  MAP_PROJECTION_ROTATION = 0.0
  MAP_PROJECTION_TYPE = SINUSOIDAL
  MAP_RESOLUTION = 592.713803866667
  MAP_SCALE = 0.1
  MAXIMUM_LATITUDE = -48.6037
  MINIMUM_LATITUDE = -66.56529999999999
  POSITIVE_LONGITUDE_DIRECTION = EAST
  REFERENCE_LATITUDE = "N/A"
  REFERENCE_LONGITUDE = "N/A"
  SAMPLE_FIRST_PIXEL = 1
  SAMPLE_LAST_PIXEL = 1659
  SAMPLE_PROJECTION_OFFSET = 758.3125
  SECOND_STANDARD_PARALLEL = "N/A"
  WESTERNMOST_LONGITUDE = 257.813
END_OBJECT = IMAGE_MAP_PROJECTION
END
