PDS_VERSION_ID = PDS3
/* FILE DATA ELEMENTS */
RECORD_TYPE = UNDEFINED
/* POINTERS TO DATA OBJECTS */
^IMAGE = ("H2457_0000_S24.TIF")
/* IDENTIFICATION DATA ELEMENTS */
DATA_SET_ID = "MEX-M-HRSC-4-REFDR-MAPPROJECT-EXT1-V4.0"
DATA_SET_NAME = "MARS EXPRESS HRSC MAP PROJECTED REFDR EXTENSION1 V4.0"
DETECTOR_ID = MEX_HRSC_S2
EVENT_TYPE = "MARS-REGIONAL-MAPPING-Te-Im-Pf"
INSTRUMENT_HOST_ID = MEX
INSTRUMENT_HOST_NAME = "MARS EXPRESS"
INSTRUMENT_ID = HRSC
INSTRUMENT_NAME = "HIGH RESOLUTION STEREO CAMERA"
MISSION_NAME = "MARS EXPRESS"
MISSION_PHASE_NAME = ME_Phase_1
PROCESSING_LEVEL_ID = 4
PRODUCT_CREATION_TIME = 2023-02-08T07:05:14.000Z
PRODUCT_ID = "H2457_0000_S24.TIF"
RELEASE_ID = 0001
REVISION_ID = 0000
/* QUALITY DATA ELEMENTS */
DATA_QUALITY_ID = 1
DATA_QUALITY_DESC = "Data calculated based on original SPICE kernels"
/* TIME DATA ELEMENTS */
SPACECRAFT_CLOCK_START_COUNT = "1/0082398505.57271"
SPACECRAFT_CLOCK_STOP_COUNT = "1/0082398847.48496"
START_TIME = 2005-12-11T16:29:22.379Z
STOP_TIME = 2005-12-11T16:34:12.631Z
/* ORBITAL DATA ELEMENTS */
ASCENDING_NODE_LONGITUDE = 176.69
MAXIMUM_RESOLUTION = 0.0243
FOOTPRINT_POINT_LATITUDE = (-66.359,-66.4001,-66.4592,-66.46, -66.5469,-66.2277,-65.5908,-64.9549, -64.3207,-63.9927,-63.5017,-63.1747, -62.6846,-62.3585,-62.0341,-61.6953, -61.3588,-61.0208,-60.5209,-60.0118, -59.6678,-59.3243,-58.8105,-58.2853, -57.9369,-57.5784,-57.2261,-56.8663, -56.5052,-56.1445,-55.7839,-55.4245, -55.0669,-54.7095,-54.3586,-53.9997, -53.6455,-53.2434,-52.8249,-52.4036, -51.9852,-51.5728,-51.156,-50.7436, -50.3324,-49.9245,-49.5119,-48.8854, -48.6743,-48.6561,-48.6305,-48.613, -48.6125,-48.6127,-49.0305,-49.6541, -50.0622,-50.4723,-50.8833,-51.2958, -51.9166,-52.3326,-52.75,-53.1698, -53.5742,-53.9269,-54.2808,-54.6365, -54.9915,-55.3477,-55.7059,-56.0646, -56.4242,-56.7841,-57.1434,-57.4928, -57.8517,-58.3722,-58.7189,-59.0606, -59.4039,-59.7476,-60.0918,-60.4284, -60.7587,-61.0948,-61.43,-61.7654, -62.0965,-62.4202,-62.7437,-63.0728, -63.5606,-63.8903,-64.2166,-64.9997, -65.4773,-66.27,-66.4252,-66.359)
FOOTPRINT_POINT_LONGITUDE = (257.917,258.802,260.271,260.294, 260.293,260.392,260.583,260.763,260.934 ,261.018,261.141,261.22,261.334,261.408 ,261.48,261.552,261.622,261.691,261.79, 261.887,261.951,262.013,262.103,262.192 ,262.25,262.306,262.361,262.416,262.47, 262.522,262.573,262.623,262.672,262.719 ,262.766,262.81,262.854,262.903,262.953 ,263.001,263.048,263.094,263.138, 263.182,263.224,263.265,263.306,263.365 ,263.385,263.387,261.94,261.175,261.153 ,261.145,261.115,261.066,261.032, 260.996,260.959,260.92,260.859,260.816, 260.771,260.723,260.675,260.633,260.589 ,260.542,260.496,260.447,260.396, 260.343,260.289,260.233,260.175,260.117 ,260.048,259.962,259.898,259.833, 259.764,259.694,259.621,259.546,259.475 ,259.395,259.315,259.232,259.149, 259.065,258.98,258.884,258.745,258.642, 258.541,258.294,258.124,257.831,257.776 ,257.917)
ORBIT_NUMBER = 2457
ORBITAL_ECCENTRICITY = 0.572
ORBITAL_INCLINATION = 86.62
ORBITAL_SEMIMAJOR_AXIS = 8532.93
PERIAPSIS_ALTITUDE = 274.62
PERIAPSIS_ARGUMENT_ANGLE = 286.39
PERIAPSIS_TIME = 2005-12-11T16:27:15.000Z
SPACECRAFT_ORIENTATION = (0.0,-1.0,0.0)
^MEX_ORIENTATION_DESC = "MEX_ORIENTATION_DESC.TXT"
SPACECRAFT_POINTING_MODE = ACROSSTRACK
^MEX_POINTING_DESC = "MEX_POINTING_DESC.TXT"
RIGHT_ASCENSION = -1e+32
DECLINATION = -1e+32
OFFSET_ANGLE = 0.35
SPACECRAFT_SOLAR_DISTANCE = 2.2511e+08
TARGET_NAME = MARS
/* CAMERA DATA ELEMENTS */
DETECTOR_TEMPERATURE = 18.9822
FOCAL_PLANE_TEMPERATURE = 8.5833
INST_CMPRS_NAME = "DISCRETE COSINE TRANSFORMATION (DCT)"
INST_CMPRS_RATIO = 12.4595
INST_CMPRS_QUALITY = 0
INST_CMPRS_QUANTZ_TBL_ID = 0
INSTRUMENT_TEMPERATURE = 11.4379
LENS_TEMPERATURE = 8.9911
MACROPIXEL_SIZE = 2
MISSING_FRAMES = 0
PIXEL_SUBSAMPLING_FLAG = N
SIGNAL_CHAIN_ID = 1
/* RADIOMETRIC DATA ELEMENTS */
BANDWIDTH = 178.0
CENTER_FILTER_WAVELENGTH = 679.0
RADIANCE_OFFSET = 3.26122
RADIANCE_SCALING_FACTOR = 0.0137729
REFLECTANCE_SCALING_FACTOR = 0.000369611
MEX:REFLECTANCE_OFFSET = 0.0875186
/* IMAGE OBJECT DEFINITIONS */
OBJECT = IMAGE
  INTERCHANGE_FORMAT = BINARY
  LINES = 42612
  LINE_SAMPLES = 6634
  SAMPLE_TYPE = UNSIGNED_INTEGER
  SAMPLE_BITS = 8
  BANDS = 1
  BAND_STORAGE_TYPE = BAND_SEQUENTIAL
  MAXIMUM = 255
  MEAN = 145.669
  MINIMUM = 1
  STANDARD_DEVIATION = 29.7665
END_OBJECT = IMAGE
/* MAP OBJECT DEFINITIONS */
OBJECT = IMAGE_MAP_PROJECTION
  ^DATA_SET_MAP_PROJECTION_CATALOG= "DSMAP.CAT"
  A_AXIS_RADIUS = 3396.0
  B_AXIS_RADIUS = 3396.0
  C_AXIS_RADIUS = 3396.0
  CENTER_LATITUDE = 0.0
  CENTER_LONGITUDE = 261.0
  COORDINATE_SYSTEM_NAME = PLANETOGRAPHIC
  COORDINATE_SYSTEM_TYPE = "BODY-FIXED ROTATING"
  EASTERNMOST_LONGITUDE = 263.387
  FIRST_STANDARD_PARALLEL = "N/A"
  LINE_FIRST_PIXEL = 1
  LINE_LAST_PIXEL = 42612
  LINE_PROJECTION_OFFSET = -115224.75
  MAP_PROJECTION_ROTATION = 0.0
  MAP_PROJECTION_TYPE = SINUSOIDAL
  MAP_RESOLUTION = 2370.85521546667
  MAP_SCALE = 0.025
  MAXIMUM_LATITUDE = -48.6125
  MINIMUM_LATITUDE = -66.54689999999999
  POSITIVE_LONGITUDE_DIRECTION = EAST
  REFERENCE_LATITUDE = "N/A"
  REFERENCE_LONGITUDE = "N/A"
  SAMPLE_FIRST_PIXEL = 1
  SAMPLE_LAST_PIXEL = 6634
  SAMPLE_PROJECTION_OFFSET = 3034.75
  SECOND_STANDARD_PARALLEL = "N/A"
  WESTERNMOST_LONGITUDE = 257.776
END_OBJECT = IMAGE_MAP_PROJECTION
END
