PDS_VERSION_ID = PDS3
/* FILE DATA ELEMENTS */
RECORD_TYPE = UNDEFINED
/* POINTERS TO DATA OBJECTS */
^IMAGE = ("H2459_0000_ND4.TIF")
/* IDENTIFICATION DATA ELEMENTS */
DATA_SET_ID = "MEX-M-HRSC-4-REFDR-MAPPROJECT-EXT1-V4.0"
DATA_SET_NAME = "MARS EXPRESS HRSC MAP PROJECTED REFDR EXTENSION1 V4.0"
DETECTOR_ID = MEX_HRSC_NADIR
EVENT_TYPE = "MARS-REGIONAL-MAPPING-Im-Gl-Pf"
INSTRUMENT_HOST_ID = MEX
INSTRUMENT_HOST_NAME = "MARS EXPRESS"
INSTRUMENT_ID = HRSC
INSTRUMENT_NAME = "HIGH RESOLUTION STEREO CAMERA"
MISSION_NAME = "MARS EXPRESS"
MISSION_PHASE_NAME = ME_Phase_1
PROCESSING_LEVEL_ID = 4
PRODUCT_CREATION_TIME = 2023-02-08T07:05:14.000Z
PRODUCT_ID = "H2459_0000_ND4.TIF"
RELEASE_ID = 0001
REVISION_ID = 0000
/* QUALITY DATA ELEMENTS */
DATA_QUALITY_ID = 1
DATA_QUALITY_DESC = "Data calculated based on original SPICE kernels"
/* TIME DATA ELEMENTS */
SPACECRAFT_CLOCK_START_COUNT = "1/0082446643.56188"
SPACECRAFT_CLOCK_STOP_COUNT = "1/0082446896.31492"
START_TIME = 2005-12-12T05:51:16.595Z
STOP_TIME = 2005-12-12T05:54:36.584Z
/* ORBITAL DATA ELEMENTS */
ASCENDING_NODE_LONGITUDE = 176.64
MAXIMUM_RESOLUTION = 0.0108
FOOTPRINT_POINT_LATITUDE = (-80.8381,-80.9763,-81.0931,-81.2041, -81.2073,-81.2146,-80.9546,-80.6936, -80.4315,-80.1686,-79.9055,-79.396, -79.1403,-78.8838,-78.6269,-78.3697, -78.1118,-77.8532,-77.5943,-77.3351, -77.0756,-76.8156,-76.5554,-76.2948, -76.0339,-75.7727,-75.5113,-75.2495, -74.9876,-74.7256,-74.4633,-74.2008, -73.9381,-73.5436,-73.1491,-72.8858, -72.4907,-72.2272,-71.9635,-71.6997, -71.436,-71.1721,-70.9082,-70.6442, -70.3801,-70.116,-69.8519,-69.5878, -69.3237,-69.0596,-68.7954,-68.5313, -68.2672,-68.1351,-68.1185,-68.0499, -67.979,-67.9774,-67.9768,-68.5013, -69.0254,-69.5494,-69.8114,-70.0733, -70.3352,-70.5966,-70.858,-71.1193, -71.3804,-71.6414,-71.9023,-72.1629, -72.4233,-72.6837,-73.0741,-73.463, -73.7223,-73.9814,-74.3692,-74.6276, -75.014,-75.2711,-75.5278,-75.7841, -76.0399,-76.295,-76.5497,-76.8038, -77.0575,-77.5628,-78.0653,-78.5647, -79.0605,-79.5517,-79.9297,-80.1814, -80.4315,-80.6799,-80.8035,-80.8381)
FOOTPRINT_POINT_LONGITUDE = (46.0076,47.8852,49.6362,51.476,51.5323 ,51.6513,52.2513,52.8178,53.3534, 53.8601,54.3391,55.1953,55.5936,55.9698 ,56.3321,56.6807,57.0117,57.3253, 57.6268,57.9177,58.1966,58.4645,58.7221 ,58.9696,59.2075,59.4367,59.6572,59.869 ,60.0747,60.2738,60.4652,60.6502, 60.8287,61.0836,61.3297,61.487,61.7132, 61.858,61.9983,62.1329,62.2664,62.3948, 62.5193,62.6404,62.7577,62.8719,62.9832 ,63.0912,63.1966,63.2996,63.3993, 63.4964,63.591,63.6374,63.6432,62.2987, 61.0993,61.0737,61.0611,60.8253,60.5726 ,60.3072,60.1712,60.0303,59.886,59.7316 ,59.5749,59.4144,59.2476,59.0767, 58.9005,58.718,58.5304,58.3373,58.042, 57.7154,57.495,57.2678,56.9081,56.6629, 56.268,55.993,55.7082,55.4139,55.1066, 54.7837,54.4514,54.1057,53.747,52.9847, 52.155,51.2519,50.2656,49.1773,48.2492, 47.5955,46.9063,46.1799,45.8018, 46.0076)
ORBIT_NUMBER = 2459
ORBITAL_ECCENTRICITY = 0.572
ORBITAL_INCLINATION = 86.63
ORBITAL_SEMIMAJOR_AXIS = 8533.91
PERIAPSIS_ALTITUDE = 274.45
PERIAPSIS_ARGUMENT_ANGLE = 286.05
PERIAPSIS_TIME = 2005-12-12T05:53:13.000Z
SPACECRAFT_ORIENTATION = (0.0,-1.0,0.0)
^MEX_ORIENTATION_DESC = "MEX_ORIENTATION_DESC.TXT"
SPACECRAFT_POINTING_MODE = ACROSSTRACK
^MEX_POINTING_DESC = "MEX_POINTING_DESC.TXT"
RIGHT_ASCENSION = -1e+32
DECLINATION = -1e+32
OFFSET_ANGLE = 0.23
SPACECRAFT_SOLAR_DISTANCE = 2.2522e+08
TARGET_NAME = MARS
/* CAMERA DATA ELEMENTS */
DETECTOR_TEMPERATURE = 18.3705
FOCAL_PLANE_TEMPERATURE = 8.7872
INST_CMPRS_NAME = "DISCRETE COSINE TRANSFORMATION (DCT)"
INST_CMPRS_RATIO = 6.83944
INST_CMPRS_QUALITY = 0
INST_CMPRS_QUANTZ_TBL_ID = 0
INSTRUMENT_TEMPERATURE = 11.234
LENS_TEMPERATURE = 8.9911
MACROPIXEL_SIZE = 1
MISSING_FRAMES = 0
PIXEL_SUBSAMPLING_FLAG = N
SIGNAL_CHAIN_ID = 0
/* RADIOMETRIC DATA ELEMENTS */
BANDWIDTH = 177.0
CENTER_FILTER_WAVELENGTH = 677.5
RADIANCE_OFFSET = 1.82062
RADIANCE_SCALING_FACTOR = 0.0102439
REFLECTANCE_SCALING_FACTOR = 0.000276035
MEX:REFLECTANCE_OFFSET = 0.049059
/* IMAGE OBJECT DEFINITIONS */
OBJECT = IMAGE
  INTERCHANGE_FORMAT = BINARY
  LINES = 62771
  LINE_SAMPLES = 18229
  SAMPLE_TYPE = UNSIGNED_INTEGER
  SAMPLE_BITS = 8
  BANDS = 1
  BAND_STORAGE_TYPE = BAND_SEQUENTIAL
  MAXIMUM = 255
  MEAN = 123.722
  MINIMUM = 1
  STANDARD_DEVIATION = 50.0383
END_OBJECT = IMAGE
/* MAP OBJECT DEFINITIONS */
OBJECT = IMAGE_MAP_PROJECTION
  ^DATA_SET_MAP_PROJECTION_CATALOG= "DSMAP.CAT"
  A_AXIS_RADIUS = 3396.0
  B_AXIS_RADIUS = 3396.0
  C_AXIS_RADIUS = 3396.0
  CENTER_LATITUDE = 0.0
  CENTER_LONGITUDE = 59.0
  COORDINATE_SYSTEM_NAME = PLANETOGRAPHIC
  COORDINATE_SYSTEM_TYPE = "BODY-FIXED ROTATING"
  EASTERNMOST_LONGITUDE = 63.6432
  FIRST_STANDARD_PARALLEL = "N/A"
  LINE_FIRST_PIXEL = 1
  LINE_LAST_PIXEL = 62771
  LINE_PROJECTION_OFFSET = -322327.0
  MAP_PROJECTION_ROTATION = 0.0
  MAP_PROJECTION_TYPE = SINUSOIDAL
  MAP_RESOLUTION = 4741.71043093333
  MAP_SCALE = 0.0125
  MAXIMUM_LATITUDE = -67.9768
  MINIMUM_LATITUDE = -81.2146
  POSITIVE_LONGITUDE_DIRECTION = EAST
  REFERENCE_LATITUDE = "N/A"
  REFERENCE_LONGITUDE = "N/A"
  SAMPLE_FIRST_PIXEL = 1
  SAMPLE_LAST_PIXEL = 18229
  SAMPLE_PROJECTION_OFFSET = 10022.0
  SECOND_STANDARD_PARALLEL = "N/A"
  WESTERNMOST_LONGITUDE = 45.8018
END_OBJECT = IMAGE_MAP_PROJECTION
END
