PDS_VERSION_ID = PDS3
/* FILE DATA ELEMENTS */
RECORD_TYPE = UNDEFINED
/* POINTERS TO DATA OBJECTS */
^IMAGE = ("H2459_0009_IR4.TIF")
/* IDENTIFICATION DATA ELEMENTS */
DATA_SET_ID = "MEX-M-HRSC-4-REFDR-MAPPROJECT-EXT1-V4.0"
DATA_SET_NAME = "MARS EXPRESS HRSC MAP PROJECTED REFDR EXTENSION1 V4.0"
DETECTOR_ID = MEX_HRSC_IR
EVENT_TYPE = "MARS-REGIONAL-MAPPING-Im-Fl-La"
INSTRUMENT_HOST_ID = MEX
INSTRUMENT_HOST_NAME = "MARS EXPRESS"
INSTRUMENT_ID = HRSC
INSTRUMENT_NAME = "HIGH RESOLUTION STEREO CAMERA"
MISSION_NAME = "MARS EXPRESS"
MISSION_PHASE_NAME = ME_Phase_1
PROCESSING_LEVEL_ID = 4
PRODUCT_CREATION_TIME = 2023-02-08T07:05:14.000Z
PRODUCT_ID = "H2459_0009_IR4.TIF"
RELEASE_ID = 0001
REVISION_ID = 0000
/* QUALITY DATA ELEMENTS */
DATA_QUALITY_ID = 1
DATA_QUALITY_DESC = "Data calculated based on original SPICE kernels"
/* TIME DATA ELEMENTS */
SPACECRAFT_CLOCK_START_COUNT = "1/0082447430.57170"
SPACECRAFT_CLOCK_STOP_COUNT = "1/0082447986.40440"
START_TIME = 2005-12-12T06:04:07.943Z
STOP_TIME = 2005-12-12T06:08:32.227Z
/* ORBITAL DATA ELEMENTS */
ASCENDING_NODE_LONGITUDE = 176.64
MAXIMUM_RESOLUTION = 0.1063
FOOTPRINT_POINT_LATITUDE = (-29.5195,-29.5314,-29.5403,-29.5475, -29.5531,-29.557,-29.5597,-29.5597, -29.4991,-29.0875,-28.6735,-28.1067, -27.677,-27.241,-26.6492,-26.3514, -26.0505,-25.7471,-25.4434,-25.1377, -24.8285,-24.5168,-24.2002,-23.728, -23.4137,-23.1009,-22.7895,-22.4776, -22.0097,-21.7075,-21.3977,-20.9345, -20.625,-20.3182,-19.8615,-19.5565, -19.2539,-18.9439,-18.6389,-18.0421, -17.7413,-17.2942,-16.9962,-16.697, -16.398,-16.1007,-15.804,-15.214, -14.6281,-14.4784,-14.3534,-14.363, -14.3737,-14.3852,-14.3897,-14.3939, -14.3911,-14.3909,-14.3924,-14.8292, -15.4157,-16.0019,-16.4394,-16.7355, -17.035,-17.4846,-17.7827,-18.0808, -18.3791,-18.6781,-18.9806,-19.431, -19.8859,-20.194,-20.4934,-20.7992, -21.1067,-21.4145,-21.7229,-22.0318, -22.4893,-22.8013,-23.1215,-23.4331, -23.7466,-24.0535,-24.3693,-24.8374, -25.1438,-25.4482,-25.7548,-26.0555, -26.3523,-26.6471,-27.3816,-27.9552, -28.6594,-29.2122,-29.3518,-29.5195)
FOOTPRINT_POINT_LONGITUDE = (65.4321,65.8559,66.2317,66.607,66.9814 ,67.3551,67.9157,67.9391,67.9644, 67.9733,67.9816,67.995,68.0047,68.0147, 68.0288,68.0356,68.0421,68.0489,68.0551 ,68.0609,68.0672,68.0736,68.0803, 68.0896,68.0957,68.1014,68.1068,68.1124 ,68.1211,68.124,68.1293,68.137,68.1425, 68.1473,68.1536,68.1581,68.1619,68.1682 ,68.173,68.1791,68.183,68.1879,68.1913, 68.1952,68.1991,68.2027,68.2062,68.2127 ,68.2184,68.2209,68.2231,67.8154, 67.4992,67.1208,66.6167,65.8583,64.8747 ,64.8428,64.8323,64.8587,64.8939, 64.9268,64.9492,64.9654,64.9826,65.0075 ,65.0227,65.0374,65.0515,65.0655, 65.0805,65.1005,65.1212,65.1365,65.1473 ,65.1604,65.1737,65.1866,65.1992, 65.2114,65.2261,65.2383,65.2537,65.2645 ,65.2757,65.2832,65.2942,65.3094,65.318 ,65.326,65.3359,65.3438,65.3502,65.357, 65.3744,65.3851,65.396,65.4025,65.4048, 65.4321)
ORBIT_NUMBER = 2459
ORBITAL_ECCENTRICITY = 0.572
ORBITAL_INCLINATION = 86.63
ORBITAL_SEMIMAJOR_AXIS = 8533.91
PERIAPSIS_ALTITUDE = 274.45
PERIAPSIS_ARGUMENT_ANGLE = 286.05
PERIAPSIS_TIME = 2005-12-12T05:53:13.000Z
SPACECRAFT_ORIENTATION = (0.0,-1.0,0.0)
^MEX_ORIENTATION_DESC = "MEX_ORIENTATION_DESC.TXT"
SPACECRAFT_POINTING_MODE = ACROSSTRACK
^MEX_POINTING_DESC = "MEX_POINTING_DESC.TXT"
RIGHT_ASCENSION = -1e+32
DECLINATION = -1e+32
OFFSET_ANGLE = 0.23
SPACECRAFT_SOLAR_DISTANCE = 2.2522e+08
TARGET_NAME = MARS
/* CAMERA DATA ELEMENTS */
DETECTOR_TEMPERATURE = 20.0017
FOCAL_PLANE_TEMPERATURE = 9.195
INST_CMPRS_NAME = "DISCRETE COSINE TRANSFORMATION (DCT)"
INST_CMPRS_RATIO = 14.2121
INST_CMPRS_QUALITY = 0
INST_CMPRS_QUANTZ_TBL_ID = 0
INSTRUMENT_TEMPERATURE = 13.8847
LENS_TEMPERATURE = 9.6028
MACROPIXEL_SIZE = 4
MISSING_FRAMES = 0
PIXEL_SUBSAMPLING_FLAG = N
SIGNAL_CHAIN_ID = 2
/* RADIOMETRIC DATA ELEMENTS */
BANDWIDTH = 81.0
CENTER_FILTER_WAVELENGTH = 955.5
RADIANCE_OFFSET = 1.05205
RADIANCE_SCALING_FACTOR = 0.00400255
REFLECTANCE_SCALING_FACTOR = 0.000438008
MEX:REFLECTANCE_OFFSET = 0.115129
/* IMAGE OBJECT DEFINITIONS */
OBJECT = IMAGE
  INTERCHANGE_FORMAT = BINARY
  LINES = 9002
  LINE_SAMPLES = 2197
  SAMPLE_TYPE = UNSIGNED_INTEGER
  SAMPLE_BITS = 8
  BANDS = 1
  BAND_STORAGE_TYPE = BAND_SEQUENTIAL
  MAXIMUM = 255
  MEAN = 96.1359
  MINIMUM = 1
  STANDARD_DEVIATION = 39.1469
END_OBJECT = IMAGE
/* MAP OBJECT DEFINITIONS */
OBJECT = IMAGE_MAP_PROJECTION
  ^DATA_SET_MAP_PROJECTION_CATALOG= "DSMAP.CAT"
  A_AXIS_RADIUS = 3396.0
  B_AXIS_RADIUS = 3396.0
  C_AXIS_RADIUS = 3396.0
  CENTER_LATITUDE = 0.0
  CENTER_LONGITUDE = 67.0
  COORDINATE_SYSTEM_NAME = PLANETOGRAPHIC
  COORDINATE_SYSTEM_TYPE = "BODY-FIXED ROTATING"
  EASTERNMOST_LONGITUDE = 68.2231
  FIRST_STANDARD_PARALLEL = "N/A"
  LINE_FIRST_PIXEL = 1
  LINE_LAST_PIXEL = 9002
  LINE_PROJECTION_OFFSET = -8524.125
  MAP_PROJECTION_ROTATION = 0.0
  MAP_PROJECTION_TYPE = SINUSOIDAL
  MAP_RESOLUTION = 592.713803866667
  MAP_SCALE = 0.1
  MAXIMUM_LATITUDE = -14.3534
  MINIMUM_LATITUDE = -29.5597
  POSITIVE_LONGITUDE_DIRECTION = EAST
  REFERENCE_LATITUDE = "N/A"
  REFERENCE_LONGITUDE = "N/A"
  SAMPLE_FIRST_PIXEL = 1
  SAMPLE_LAST_PIXEL = 2197
  SAMPLE_PROJECTION_OFFSET = 1374.875
  SECOND_STANDARD_PARALLEL = "N/A"
  WESTERNMOST_LONGITUDE = 64.8323
END_OBJECT = IMAGE_MAP_PROJECTION
END
