PDS_VERSION_ID = PDS3
/* FILE DATA ELEMENTS */
RECORD_TYPE = UNDEFINED
/* POINTERS TO DATA OBJECTS */
^IMAGE = ("H2460_0000_GR4.TIF")
/* IDENTIFICATION DATA ELEMENTS */
DATA_SET_ID = "MEX-M-HRSC-4-REFDR-MAPPROJECT-EXT1-V4.0"
DATA_SET_NAME = "MARS EXPRESS HRSC MAP PROJECTED REFDR EXTENSION1 V4.0"
DETECTOR_ID = MEX_HRSC_GREEN
EVENT_TYPE = "MARS-REGIONAL-MAPPING-Fl-Gl-Pf"
INSTRUMENT_HOST_ID = MEX
INSTRUMENT_HOST_NAME = "MARS EXPRESS"
INSTRUMENT_ID = HRSC
INSTRUMENT_NAME = "HIGH RESOLUTION STEREO CAMERA"
MISSION_NAME = "MARS EXPRESS"
MISSION_PHASE_NAME = ME_Phase_1
PROCESSING_LEVEL_ID = 4
PRODUCT_CREATION_TIME = 2023-02-08T07:05:14.000Z
PRODUCT_ID = "H2460_0000_GR4.TIF"
RELEASE_ID = 0001
REVISION_ID = 0000
/* QUALITY DATA ELEMENTS */
DATA_QUALITY_ID = 1
DATA_QUALITY_DESC = "Data calculated based on original SPICE kernels"
/* TIME DATA ELEMENTS */
SPACECRAFT_CLOCK_START_COUNT = "1/0082470821.57306"
SPACECRAFT_CLOCK_STOP_COUNT = "1/0082471079.40225"
START_TIME = 2005-12-12T12:34:10.411Z
STOP_TIME = 2005-12-12T12:37:35.502Z
/* ORBITAL DATA ELEMENTS */
ASCENDING_NODE_LONGITUDE = 176.63
MAXIMUM_RESOLUTION = 0.0436
FOOTPRINT_POINT_LATITUDE = (-81.0907,-81.2812,-81.3881,-81.4569, -81.4599,-81.4527,-81.1868,-80.9199, -80.6519,-80.3829,-80.113,-79.7071, -79.4457,-79.1836,-78.9209,-78.6576, -78.3938,-78.1295,-77.8647,-77.5994, -77.3338,-77.0678,-76.8013,-76.5344, -76.2674,-76.0,-75.5984,-75.196, -74.9275,-74.6587,-74.3896,-73.9857, -73.5814,-73.1767,-72.9069,-72.6366, -72.231,-71.9607,-71.6896,-71.4196, -71.1488,-70.8779,-70.4715,-70.2005, -69.9294,-69.5227,-69.1159,-68.8445, -68.5736,-68.1666,-68.0309,-68.0125, -67.9615,-67.8773,-67.8759,-67.8761, -68.1456,-68.415,-68.8193,-69.2228, -69.4917,-69.7607,-70.0294,-70.4322, -70.7008,-71.1031,-71.371,-71.6389, -72.0402,-72.4411,-72.8413,-73.1079, -73.3741,-73.6403,-74.0389,-74.5687, -74.8331,-75.0975,-75.4933,-75.8871, -76.1493,-76.411,-76.6721,-77.0627, -77.3222,-77.7104,-77.9681,-78.225, -78.4811,-78.7361,-78.9906,-79.2438, -79.6304,-79.8906,-80.1495,-80.4069, -80.6626,-80.9166,-81.0428,-81.0907)
FOOTPRINT_POINT_LONGITUDE = (307.934,310.646,312.364,313.568, 313.624,313.825,314.442,315.022,315.569 ,316.086,316.576,317.26,317.671,318.062 ,318.435,318.79,319.129,319.453,319.763 ,320.06,320.344,320.615,320.876,321.127 ,321.367,321.597,321.927,322.24,322.438 ,322.63,322.815,323.081,323.333,323.573 ,323.725,323.874,324.088,324.224,324.36 ,324.485,324.61,324.732,324.907,325.019 ,325.129,325.287,325.439,325.539, 325.632,325.771,325.816,325.822,324.775 ,323.3,323.276,323.268,323.154,323.037, 322.856,322.664,322.531,322.396,322.255 ,322.036,321.885,321.648,321.484, 321.316,321.051,320.774,320.482,320.279 ,320.069,319.853,319.514,319.031, 318.776,318.514,318.101,317.659,317.351 ,317.031,316.698,316.173,315.803, 315.219,314.808,314.379,313.929,313.458 ,312.967,312.45,311.608,310.999,310.359 ,309.684,308.97,308.216,307.823, 307.934)
ORBIT_NUMBER = 2460
ORBITAL_ECCENTRICITY = 0.572
ORBITAL_INCLINATION = 86.63
ORBITAL_SEMIMAJOR_AXIS = 8531.6
PERIAPSIS_ALTITUDE = 275.1
PERIAPSIS_ARGUMENT_ANGLE = 285.88
PERIAPSIS_TIME = 2005-12-12T12:36:12.000Z
SPACECRAFT_ORIENTATION = (0.0,-1.0,0.0)
^MEX_ORIENTATION_DESC = "MEX_ORIENTATION_DESC.TXT"
SPACECRAFT_POINTING_MODE = ACROSSTRACK
^MEX_POINTING_DESC = "MEX_POINTING_DESC.TXT"
RIGHT_ASCENSION = -1e+32
DECLINATION = -1e+32
OFFSET_ANGLE = 0.1
SPACECRAFT_SOLAR_DISTANCE = 2.25274e+08
TARGET_NAME = MARS
/* CAMERA DATA ELEMENTS */
DETECTOR_TEMPERATURE = 18.3705
FOCAL_PLANE_TEMPERATURE = 8.7872
INST_CMPRS_NAME = "DISCRETE COSINE TRANSFORMATION (DCT)"
INST_CMPRS_RATIO = 30.6118
INST_CMPRS_QUALITY = 0
INST_CMPRS_QUANTZ_TBL_ID = 0
INSTRUMENT_TEMPERATURE = 11.6418
LENS_TEMPERATURE = 9.6028
MACROPIXEL_SIZE = 4
MISSING_FRAMES = 0
PIXEL_SUBSAMPLING_FLAG = N
SIGNAL_CHAIN_ID = 2
/* RADIOMETRIC DATA ELEMENTS */
BANDWIDTH = 88.0
CENTER_FILTER_WAVELENGTH = 538.0
RADIANCE_OFFSET = 0.917298
RADIANCE_SCALING_FACTOR = 0.0037356
REFLECTANCE_SCALING_FACTOR = 0.00016322
MEX:REFLECTANCE_OFFSET = 0.0400795
/* IMAGE OBJECT DEFINITIONS */
OBJECT = IMAGE
  INTERCHANGE_FORMAT = BINARY
  LINES = 16099
  LINE_SAMPLES = 4585
  SAMPLE_TYPE = UNSIGNED_INTEGER
  SAMPLE_BITS = 8
  BANDS = 1
  BAND_STORAGE_TYPE = BAND_SEQUENTIAL
  MAXIMUM = 255
  MEAN = 139.838
  MINIMUM = 1
  STANDARD_DEVIATION = 48.7381
END_OBJECT = IMAGE
/* MAP OBJECT DEFINITIONS */
OBJECT = IMAGE_MAP_PROJECTION
  ^DATA_SET_MAP_PROJECTION_CATALOG= "DSMAP.CAT"
  A_AXIS_RADIUS = 3396.0
  B_AXIS_RADIUS = 3396.0
  C_AXIS_RADIUS = 3396.0
  CENTER_LATITUDE = 0.0
  CENTER_LONGITUDE = 321.0
  COORDINATE_SYSTEM_NAME = PLANETOGRAPHIC
  COORDINATE_SYSTEM_TYPE = "BODY-FIXED ROTATING"
  EASTERNMOST_LONGITUDE = 325.822
  FIRST_STANDARD_PARALLEL = "N/A"
  LINE_FIRST_PIXEL = 1
  LINE_LAST_PIXEL = 16099
  LINE_PROJECTION_OFFSET = -80463.625
  MAP_PROJECTION_ROTATION = 0.0
  MAP_PROJECTION_TYPE = SINUSOIDAL
  MAP_RESOLUTION = 1185.42760773333
  MAP_SCALE = 0.05
  MAXIMUM_LATITUDE = -67.8759
  MINIMUM_LATITUDE = -81.4599
  POSITIVE_LONGITUDE_DIRECTION = EAST
  REFERENCE_LATITUDE = "N/A"
  REFERENCE_LONGITUDE = "N/A"
  SAMPLE_FIRST_PIXEL = 1
  SAMPLE_LAST_PIXEL = 4585
  SAMPLE_PROJECTION_OFFSET = 2436.625
  SECOND_STANDARD_PARALLEL = "N/A"
  WESTERNMOST_LONGITUDE = 307.823
END_OBJECT = IMAGE_MAP_PROJECTION
END
