PDS_VERSION_ID = PDS3
/* FILE DATA ELEMENTS */
RECORD_TYPE = UNDEFINED
/* POINTERS TO DATA OBJECTS */
^IMAGE = ("H2460_0000_P24.TIF")
/* IDENTIFICATION DATA ELEMENTS */
DATA_SET_ID = "MEX-M-HRSC-4-REFDR-MAPPROJECT-EXT1-V4.0"
DATA_SET_NAME = "MARS EXPRESS HRSC MAP PROJECTED REFDR EXTENSION1 V4.0"
DETECTOR_ID = MEX_HRSC_P2
EVENT_TYPE = "MARS-REGIONAL-MAPPING-Fl-Gl-Pf"
INSTRUMENT_HOST_ID = MEX
INSTRUMENT_HOST_NAME = "MARS EXPRESS"
INSTRUMENT_ID = HRSC
INSTRUMENT_NAME = "HIGH RESOLUTION STEREO CAMERA"
MISSION_NAME = "MARS EXPRESS"
MISSION_PHASE_NAME = ME_Phase_1
PROCESSING_LEVEL_ID = 4
PRODUCT_CREATION_TIME = 2023-02-08T07:05:14.000Z
PRODUCT_ID = "H2460_0000_P24.TIF"
RELEASE_ID = 0001
REVISION_ID = 0000
/* QUALITY DATA ELEMENTS */
DATA_QUALITY_ID = 1
DATA_QUALITY_DESC = "Data calculated based on original SPICE kernels"
/* TIME DATA ELEMENTS */
SPACECRAFT_CLOCK_START_COUNT = "1/0082470821.57306"
SPACECRAFT_CLOCK_STOP_COUNT = "1/0082471079.40225"
START_TIME = 2005-12-12T12:34:31.179Z
STOP_TIME = 2005-12-12T12:37:55.727Z
/* ORBITAL DATA ELEMENTS */
ASCENDING_NODE_LONGITUDE = 176.63
MAXIMUM_RESOLUTION = 0.0448
FOOTPRINT_POINT_LATITUDE = (-81.0097,-81.1508,-81.3584,-81.3613, -81.4319,-81.1618,-80.7644,-80.5024, -80.24,-79.9766,-79.7128,-79.4482, -79.0505,-78.6519,-78.2523,-77.9855, -77.5849,-77.3175,-77.0494,-76.7814, -76.5135,-76.2444,-75.9754,-75.7064, -75.4378,-75.0344,-74.7652,-74.4964, -74.2274,-73.9581,-73.6891,-73.2853, -73.0158,-72.7454,-72.3432,-72.0743, -71.6724,-71.4001,-71.1316,-70.8628, -70.4596,-70.191,-69.9228,-69.6544, -69.3862,-69.1181,-68.8513,-68.5824, -68.1811,-68.0475,-68.0125,-67.9528, -67.8852,-67.8838,-67.884,-68.2818, -68.5495,-69.0795,-69.479,-69.7451, -70.0115,-70.2779,-70.6776,-70.9444, -71.3441,-71.6104,-71.877,-72.2768, -72.5432,-72.9425,-73.2087,-73.4747, -73.74,-74.0055,-74.4043,-74.6695, -74.9342,-75.1967,-75.4615,-75.7267, -75.9904,-76.3851,-76.6479,-76.9101, -77.172,-77.4334,-77.8242,-78.0839, -78.3432,-78.731,-79.1162,-79.3719, -79.6268,-79.8806,-80.1332,-80.3843, -80.6344,-80.892,-81.0206,-81.0097)
FOOTPRINT_POINT_LONGITUDE = (308.24,310.289,313.787,313.841,313.854 ,314.48,315.329,315.848,316.339,316.803 ,317.244,317.662,318.251,318.797, 319.306,319.626,320.08,320.366,320.64, 320.903,321.155,321.396,321.628,321.851 ,322.066,322.374,322.569,322.757, 322.939,323.115,323.284,323.527,323.683 ,323.832,324.05,324.189,324.39,324.516, 324.64,324.761,324.935,325.047,325.156, 325.262,325.365,325.465,325.563,325.657 ,325.794,325.839,325.85,324.567,323.282 ,323.258,323.249,323.082,322.961,322.72 ,322.526,322.392,322.254,322.111, 321.889,321.734,321.494,321.328,321.155 ,320.885,320.697,320.404,320.199, 319.988,319.771,319.544,319.186,318.938 ,318.681,318.422,318.143,317.849, 317.549,317.075,316.743,316.397,316.035 ,315.658,315.061,314.64,314.199,313.495 ,312.744,312.213,311.652,311.063, 310.443,309.79,309.1,308.344,307.948, 308.24)
ORBIT_NUMBER = 2460
ORBITAL_ECCENTRICITY = 0.572
ORBITAL_INCLINATION = 86.63
ORBITAL_SEMIMAJOR_AXIS = 8531.6
PERIAPSIS_ALTITUDE = 275.1
PERIAPSIS_ARGUMENT_ANGLE = 285.88
PERIAPSIS_TIME = 2005-12-12T12:36:12.000Z
SPACECRAFT_ORIENTATION = (0.0,-1.0,0.0)
^MEX_ORIENTATION_DESC = "MEX_ORIENTATION_DESC.TXT"
SPACECRAFT_POINTING_MODE = ACROSSTRACK
^MEX_POINTING_DESC = "MEX_POINTING_DESC.TXT"
RIGHT_ASCENSION = -1e+32
DECLINATION = -1e+32
OFFSET_ANGLE = 0.1
SPACECRAFT_SOLAR_DISTANCE = 2.25274e+08
TARGET_NAME = MARS
/* CAMERA DATA ELEMENTS */
DETECTOR_TEMPERATURE = 18.5744
FOCAL_PLANE_TEMPERATURE = 8.7872
INST_CMPRS_NAME = "DISCRETE COSINE TRANSFORMATION (DCT)"
INST_CMPRS_RATIO = 20.596
INST_CMPRS_QUALITY = 0
INST_CMPRS_QUANTZ_TBL_ID = 0
INSTRUMENT_TEMPERATURE = 11.6418
LENS_TEMPERATURE = 9.6028
MACROPIXEL_SIZE = 4
MISSING_FRAMES = 0
PIXEL_SUBSAMPLING_FLAG = N
SIGNAL_CHAIN_ID = 3
/* RADIOMETRIC DATA ELEMENTS */
BANDWIDTH = 177.0
CENTER_FILTER_WAVELENGTH = 676.5
RADIANCE_OFFSET = 2.45633
RADIANCE_SCALING_FACTOR = 0.0115214
REFLECTANCE_SCALING_FACTOR = 0.000310019
MEX:REFLECTANCE_OFFSET = 0.066095
/* IMAGE OBJECT DEFINITIONS */
OBJECT = IMAGE
  INTERCHANGE_FORMAT = BINARY
  LINES = 16099
  LINE_SAMPLES = 4585
  SAMPLE_TYPE = UNSIGNED_INTEGER
  SAMPLE_BITS = 8
  BANDS = 1
  BAND_STORAGE_TYPE = BAND_SEQUENTIAL
  MAXIMUM = 255
  MEAN = 123.377
  MINIMUM = 1
  STANDARD_DEVIATION = 49.5562
END_OBJECT = IMAGE
/* MAP OBJECT DEFINITIONS */
OBJECT = IMAGE_MAP_PROJECTION
  ^DATA_SET_MAP_PROJECTION_CATALOG= "DSMAP.CAT"
  A_AXIS_RADIUS = 3396.0
  B_AXIS_RADIUS = 3396.0
  C_AXIS_RADIUS = 3396.0
  CENTER_LATITUDE = 0.0
  CENTER_LONGITUDE = 321.0
  COORDINATE_SYSTEM_NAME = PLANETOGRAPHIC
  COORDINATE_SYSTEM_TYPE = "BODY-FIXED ROTATING"
  EASTERNMOST_LONGITUDE = 325.85
  FIRST_STANDARD_PARALLEL = "N/A"
  LINE_FIRST_PIXEL = 1
  LINE_LAST_PIXEL = 16099
  LINE_PROJECTION_OFFSET = -80463.625
  MAP_PROJECTION_ROTATION = 0.0
  MAP_PROJECTION_TYPE = SINUSOIDAL
  MAP_RESOLUTION = 1185.42760773333
  MAP_SCALE = 0.05
  MAXIMUM_LATITUDE = -67.88379999999999
  MINIMUM_LATITUDE = -81.4319
  POSITIVE_LONGITUDE_DIRECTION = EAST
  REFERENCE_LATITUDE = "N/A"
  REFERENCE_LONGITUDE = "N/A"
  SAMPLE_FIRST_PIXEL = 1
  SAMPLE_LAST_PIXEL = 4585
  SAMPLE_PROJECTION_OFFSET = 2436.625
  SECOND_STANDARD_PARALLEL = "N/A"
  WESTERNMOST_LONGITUDE = 307.948
END_OBJECT = IMAGE_MAP_PROJECTION
END
