PDS_VERSION_ID = PDS3
/* FILE DATA ELEMENTS */
RECORD_TYPE = UNDEFINED
/* POINTERS TO DATA OBJECTS */
^IMAGE = ("H2467_0000_ND4.TIF")
/* IDENTIFICATION DATA ELEMENTS */
DATA_SET_ID = "MEX-M-HRSC-4-REFDR-MAPPROJECT-EXT1-V4.0"
DATA_SET_NAME = "MARS EXPRESS HRSC MAP PROJECTED REFDR EXTENSION1 V4.0"
DETECTOR_ID = MEX_HRSC_NADIR
EVENT_TYPE = "MARS-REGIONAL-MAPPING-Im-Lc-Pf"
INSTRUMENT_HOST_ID = MEX
INSTRUMENT_HOST_NAME = "MARS EXPRESS"
INSTRUMENT_ID = HRSC
INSTRUMENT_NAME = "HIGH RESOLUTION STEREO CAMERA"
MISSION_NAME = "MARS EXPRESS"
MISSION_PHASE_NAME = ME_Phase_1
PROCESSING_LEVEL_ID = 4
PRODUCT_CREATION_TIME = 2023-02-08T07:05:14.000Z
PRODUCT_ID = "H2467_0000_ND4.TIF"
RELEASE_ID = 0001
REVISION_ID = 0000
/* QUALITY DATA ELEMENTS */
DATA_QUALITY_ID = 1
DATA_QUALITY_DESC = "Data calculated based on original SPICE kernels"
/* TIME DATA ELEMENTS */
SPACECRAFT_CLOCK_START_COUNT = "1/0082640560.57973"
SPACECRAFT_CLOCK_STOP_COUNT = "1/0082640829.23467"
START_TIME = 2005-12-14T11:43:21.850Z
STOP_TIME = 2005-12-14T11:46:15.838Z
/* ORBITAL DATA ELEMENTS */
ASCENDING_NODE_LONGITUDE = 176.48
MAXIMUM_RESOLUTION = 0.0144
FOOTPRINT_POINT_LATITUDE = (-50.8126,-50.8241,-50.8348,-50.8446, -50.8534,-50.8614,-50.87,-50.8704, -50.8716,-50.3883,-50.0028,-49.6179, -49.2338,-48.7428,-48.3504,-48.051, -47.8503,-47.6499,-47.4497,-47.2458, -47.041,-46.8364,-46.6321,-46.4247, -46.2159,-46.0073,-45.799,-45.4809, -45.2682,-45.0559,-44.7327,-44.5162, -44.2999,-43.9705,-43.75,-43.5299, -43.3064,-43.0821,-42.858,-42.6313, -42.4029,-42.1749,-41.9445,-41.7124, -41.4807,-41.2459,-41.0101,-40.7748, -40.4155,-40.2959,-40.2843,-40.2801, -40.2745,-40.2691,-40.2609,-40.2521, -40.2515,-40.2516,-40.4903,-40.7292, -40.9639,-41.199,-41.4334,-41.6644, -41.8959,-42.1259,-42.3532,-42.5809, -42.8072,-43.0307,-43.2546,-43.4776, -43.6972,-43.9171,-44.2458,-44.4615, -44.6776,-45.0002,-45.212,-45.4241, -45.7417,-45.9494,-46.1575,-46.3658, -46.573,-46.7768,-46.9808,-47.1851, -47.3888,-47.7885,-47.9887,-48.2877, -48.6792,-49.1691,-49.5523,-49.9363, -50.3211,-50.7067,-50.8033,-50.8126)
FOOTPRINT_POINT_LONGITUDE = (0.00458701,0.333516,0.664151,0.996907, 1.33124,1.66766,2.0917,2.11298,2.17184, 2.20393,2.2401,2.26549,2.28918,2.31059, 2.33695,2.35525,2.36798,2.38003,2.39172 ,2.4033,2.41498,2.42645,2.43749,2.44863 ,2.45954,2.47015,2.48087,2.49786, 2.50842,2.51913,2.53494,2.54879,2.5604, 2.57051,2.58185,2.59154,2.60167,2.61456 ,2.6268,2.63676,2.64654,2.65342,2.66071 ,2.67013,2.68057,2.69047,2.70047, 2.71353,2.72462,2.73022,2.73069,2.05947 ,1.5608,1.20482,0.75677,0.357551, 0.334095,0.322603,0.321053,0.319652, 0.317954,0.316133,0.313435,0.310998, 0.308376,0.305392,0.30207,0.298652, 0.295213,0.291573,0.287667,0.283531, 0.279193,0.27414,0.266714,0.26155, 0.256074,0.247635,0.241917,0.23553, 0.224577,0.218063,0.211389,0.204741, 0.198577,0.191566,0.183918,0.175986, 0.168012,0.151603,0.143081,0.129864, 0.111591,0.0876714,0.0681719,0.0472314, 0.0249843,0.00410421,359.998, 0.00458701)
ORBIT_NUMBER = 2467
ORBITAL_ECCENTRICITY = 0.572
ORBITAL_INCLINATION = 86.63
ORBITAL_SEMIMAJOR_AXIS = 8531.86
PERIAPSIS_ALTITUDE = 275.45
PERIAPSIS_ARGUMENT_ANGLE = 284.63
PERIAPSIS_TIME = 2005-12-14T11:37:11.000Z
SPACECRAFT_ORIENTATION = (0.0,-1.0,0.0)
^MEX_ORIENTATION_DESC = "MEX_ORIENTATION_DESC.TXT"
SPACECRAFT_POINTING_MODE = ACROSSTRACK
^MEX_POINTING_DESC = "MEX_POINTING_DESC.TXT"
RIGHT_ASCENSION = -1e+32
DECLINATION = -1e+32
OFFSET_ANGLE = -0.45
SPACECRAFT_SOLAR_DISTANCE = 2.25658e+08
TARGET_NAME = MARS
/* CAMERA DATA ELEMENTS */
DETECTOR_TEMPERATURE = 18.1666
FOCAL_PLANE_TEMPERATURE = 8.3794
INST_CMPRS_NAME = "DISCRETE COSINE TRANSFORMATION (DCT)"
INST_CMPRS_RATIO = 6.81822
INST_CMPRS_QUALITY = 0
INST_CMPRS_QUANTZ_TBL_ID = 0
INSTRUMENT_TEMPERATURE = 11.0301
LENS_TEMPERATURE = 8.9911
MACROPIXEL_SIZE = 1
MISSING_FRAMES = 0
PIXEL_SUBSAMPLING_FLAG = N
SIGNAL_CHAIN_ID = 0
/* RADIOMETRIC DATA ELEMENTS */
BANDWIDTH = 177.0
CENTER_FILTER_WAVELENGTH = 677.5
RADIANCE_OFFSET = 3.50276
RADIANCE_SCALING_FACTOR = 0.0154776
REFLECTANCE_SCALING_FACTOR = 0.000418689
MEX:REFLECTANCE_OFFSET = 0.0947545
/* IMAGE OBJECT DEFINITIONS */
OBJECT = IMAGE
  INTERCHANGE_FORMAT = BINARY
  LINES = 50359
  LINE_SAMPLES = 9269
  SAMPLE_TYPE = UNSIGNED_INTEGER
  SAMPLE_BITS = 8
  BANDS = 1
  BAND_STORAGE_TYPE = BAND_SEQUENTIAL
  MAXIMUM = 255
  MEAN = 134.561
  MINIMUM = 1
  STANDARD_DEVIATION = 24.7664
END_OBJECT = IMAGE
/* MAP OBJECT DEFINITIONS */
OBJECT = IMAGE_MAP_PROJECTION
  ^DATA_SET_MAP_PROJECTION_CATALOG= "DSMAP.CAT"
  A_AXIS_RADIUS = 3396.0
  B_AXIS_RADIUS = 3396.0
  C_AXIS_RADIUS = 3396.0
  CENTER_LATITUDE = 0.0
  CENTER_LONGITUDE = 1.0
  COORDINATE_SYSTEM_NAME = PLANETOGRAPHIC
  COORDINATE_SYSTEM_TYPE = "BODY-FIXED ROTATING"
  EASTERNMOST_LONGITUDE = 359.998
  FIRST_STANDARD_PARALLEL = "N/A"
  LINE_FIRST_PIXEL = 1
  LINE_LAST_PIXEL = 50359
  LINE_PROJECTION_OFFSET = -190862.0
  MAP_PROJECTION_ROTATION = 0.0
  MAP_PROJECTION_TYPE = SINUSOIDAL
  MAP_RESOLUTION = 4741.71043093333
  MAP_SCALE = 0.0125
  MAXIMUM_LATITUDE = -40.2515
  MINIMUM_LATITUDE = -50.8716
  POSITIVE_LONGITUDE_DIRECTION = EAST
  REFERENCE_LATITUDE = "N/A"
  REFERENCE_LONGITUDE = "N/A"
  SAMPLE_FIRST_PIXEL = 1
  SAMPLE_LAST_PIXEL = 9269
  SAMPLE_PROJECTION_OFFSET = 3009.0
  SECOND_STANDARD_PARALLEL = "N/A"
  WESTERNMOST_LONGITUDE = 0.004104
END_OBJECT = IMAGE_MAP_PROJECTION
END
