PDS_VERSION_ID = PDS3
/* FILE DATA ELEMENTS */
RECORD_TYPE = UNDEFINED
/* POINTERS TO DATA OBJECTS */
^IMAGE = ("H2467_0001_SR4.TIF")
/* IDENTIFICATION DATA ELEMENTS */
DATA_SET_ID = "MEX-M-HRSC-4-REFDR-MAPPROJECT-EXT1-V4.0"
DATA_SET_NAME = "MARS EXPRESS HRSC MAP PROJECTED REFDR EXTENSION1 V4.0"
DETECTOR_ID = MEX_HRSC_SRC
EVENT_TYPE = "MARS-REGIONAL-MAPPING-Im-Lc-Pf"
INSTRUMENT_HOST_ID = MEX
INSTRUMENT_HOST_NAME = "MARS EXPRESS"
INSTRUMENT_ID = HRSC
INSTRUMENT_NAME = "HIGH RESOLUTION STEREO CAMERA"
MISSION_NAME = "MARS EXPRESS"
MISSION_PHASE_NAME = ME_Phase_1
PROCESSING_LEVEL_ID = 4
PRODUCT_CREATION_TIME = 2023-02-08T07:05:14.000Z
PRODUCT_ID = "H2467_0001_SR4.TIF"
RELEASE_ID = 0001
REVISION_ID = 0000
/* QUALITY DATA ELEMENTS */
DATA_QUALITY_ID = 1
DATA_QUALITY_DESC = "Data calculated based on original SPICE kernels"
/* TIME DATA ELEMENTS */
SPACECRAFT_CLOCK_START_COUNT = "1/0082640560.57973"
SPACECRAFT_CLOCK_STOP_COUNT = "1/0082640829.23467"
IMAGE_TIME = 2005-12-14T11:43:42.420Z
START_TIME = 2005-12-14T11:43:42.161Z
STOP_TIME = 2005-12-14T11:43:42.678Z
/* ORBITAL DATA ELEMENTS */
ASCENDING_NODE_LONGITUDE = 176.48
MAXIMUM_RESOLUTION = 0.003701
FOOTPRINT_POINT_LATITUDE = (-49.4994,-49.5033,-49.5067,-49.5102, -49.5132,-49.5153,-49.5183,-49.5206, -49.5244,-49.5281,-49.5322,-49.5354, -49.5376,-49.5415,-49.5451,-49.5476, -49.5498,-49.5545,-49.5589,-49.5623, -49.5624,-49.5624,-49.5623,-49.5622, -49.5621,-49.562,-49.5619,-49.5618, -49.5617,-49.5616,-49.5615,-49.5614, -49.5613,-49.5612,-49.5611,-49.561, -49.5609,-49.5608,-49.5607,-49.5606, -49.5605,-49.5604,-49.5603,-49.5602, -49.5601,-49.56,-49.5599,-49.5599, -49.5599,-49.5578,-49.5533,-49.5503, -49.5478,-49.5446,-49.5425,-49.5388, -49.5365,-49.5344,-49.5315,-49.5282, -49.5257,-49.523,-49.5207,-49.5183, -49.5147,-49.5125,-49.5087,-49.5058, -49.5036,-49.5011,-49.497,-49.4969, -49.4969,-49.497,-49.4971,-49.4972, -49.4973,-49.4974,-49.4975,-49.4976, -49.4977,-49.4978,-49.4979,-49.498, -49.4981,-49.4982,-49.4983,-49.4984, -49.4985,-49.4985,-49.4986,-49.4987, -49.4988,-49.4989,-49.499,-49.4991, -49.4992,-49.4993,-49.4993,-49.4994)
FOOTPRINT_POINT_LONGITUDE = (1.20114,1.20091,1.2007,1.2005,1.20032, 1.2002,1.20002,1.19988,1.19966,1.19944, 1.1992,1.19901,1.19888,1.19865,1.19844, 1.19829,1.19816,1.19788,1.19762,1.19742 ,1.19741,1.19732,1.19344,1.18957,1.1857 ,1.18182,1.17795,1.17408,1.17021, 1.16634,1.16247,1.15859,1.15472,1.15085 ,1.14698,1.14311,1.13924,1.13537,1.1315 ,1.12763,1.12376,1.1199,1.11603,1.11216 ,1.10829,1.10442,1.10056,1.09959, 1.09901,1.09914,1.09941,1.09959,1.09975 ,1.09994,1.10007,1.1003,1.10044,1.10057 ,1.10075,1.10094,1.1011,1.10126,1.1014, 1.10155,1.10177,1.1019,1.10214,1.10232, 1.10245,1.1026,1.10286,1.10286,1.10296, 1.10682,1.11068,1.11454,1.11841,1.12227 ,1.12614,1.13,1.13386,1.13773,1.14159, 1.14546,1.14932,1.15319,1.15705,1.16092 ,1.16479,1.16865,1.17252,1.17639, 1.18025,1.18412,1.18799,1.19186,1.19573 ,1.19959,1.20056,1.20114)
ORBIT_NUMBER = 2467
ORBITAL_ECCENTRICITY = 0.572
ORBITAL_INCLINATION = 86.63
ORBITAL_SEMIMAJOR_AXIS = 8531.86
PERIAPSIS_ALTITUDE = 275.45
PERIAPSIS_ARGUMENT_ANGLE = 284.63
PERIAPSIS_TIME = 2005-12-14T11:37:11.000Z
SPACECRAFT_ORIENTATION = (0.0,-1.0,0.0)
^MEX_ORIENTATION_DESC = "MEX_ORIENTATION_DESC.TXT"
SPACECRAFT_POINTING_MODE = ACROSSTRACK
^MEX_POINTING_DESC = "MEX_POINTING_DESC.TXT"
RIGHT_ASCENSION = -1e+32
DECLINATION = -1e+32
OFFSET_ANGLE = -0.45
SPACECRAFT_SOLAR_DISTANCE = 2.25658e+08
TARGET_NAME = MARS
/* CAMERA DATA ELEMENTS */
BUFFER_MODE_ID = BUFFER_8
EXPOSURE_DURATION = 516.096
INST_CMPRS_NAME = NONE
INST_CMPRS_RATIO = 1.0
INST_CMPRS_QUALITY = -2147483648
INST_CMPRS_QUANTZ_TBL_ID = -2147483648
INSTRUMENT_TEMPERATURE = 5.2039
MISSING_FRAMES = 0
START_BIT = 0
/* RADIOMETRIC DATA ELEMENTS */
BANDWIDTH = 250.0
CENTER_FILTER_WAVELENGTH = 600.0
RADIANCE_OFFSET = -9.99e+31
RADIANCE_SCALING_FACTOR = -9.99e+31
REFLECTANCE_SCALING_FACTOR = -9.99e+31
MEX:REFLECTANCE_OFFSET = -9.99e+31
/* IMAGE OBJECT DEFINITIONS */
OBJECT = IMAGE
  INTERCHANGE_FORMAT = BINARY
  LINES = 1637
  LINE_SAMPLES = 1660
  SAMPLE_TYPE = UNSIGNED_INTEGER
  SAMPLE_BITS = 8
  BANDS = 1
  BAND_STORAGE_TYPE = BAND_SEQUENTIAL
  MAXIMUM = 255
  MEAN = 254.999
  MINIMUM = 53
  STANDARD_DEVIATION = 0.282724
END_OBJECT = IMAGE
/* MAP OBJECT DEFINITIONS */
OBJECT = IMAGE_MAP_PROJECTION
  ^DATA_SET_MAP_PROJECTION_CATALOG= "DSMAP.CAT"
  A_AXIS_RADIUS = 3396.19
  B_AXIS_RADIUS = 3396.19
  C_AXIS_RADIUS = 3396.19
  CENTER_LATITUDE = 0.0
  CENTER_LONGITUDE = 1.0
  COORDINATE_SYSTEM_NAME = PLANETOGRAPHIC
  COORDINATE_SYSTEM_TYPE = "BODY-FIXED ROTATING"
  EASTERNMOST_LONGITUDE = 1.20114
  FIRST_STANDARD_PARALLEL = "N/A"
  LINE_FIRST_PIXEL = 1
  LINE_LAST_PIXEL = 1637
  LINE_PROJECTION_OFFSET = -1172053.0
  MAP_PROJECTION_ROTATION = 0.0
  MAP_PROJECTION_TYPE = SINUSOIDAL
  MAP_RESOLUTION = 23709.8786048756
  MAP_SCALE = 0.0025
  MAXIMUM_LATITUDE = -49.4969
  MINIMUM_LATITUDE = -49.5624
  POSITIVE_LONGITUDE_DIRECTION = EAST
  REFERENCE_LATITUDE = "N/A"
  REFERENCE_LONGITUDE = "N/A"
  SAMPLE_FIRST_PIXEL = 1
  SAMPLE_LAST_PIXEL = 1660
  SAMPLE_PROJECTION_OFFSET = -1821.0
  SECOND_STANDARD_PARALLEL = "N/A"
  WESTERNMOST_LONGITUDE = 1.09901
END_OBJECT = IMAGE_MAP_PROJECTION
END
