PDS_VERSION_ID = PDS3
/* FILE DATA ELEMENTS */
RECORD_TYPE = UNDEFINED
/* POINTERS TO DATA OBJECTS */
^IMAGE = ("H2467_0007_SR4.TIF")
/* IDENTIFICATION DATA ELEMENTS */
DATA_SET_ID = "MEX-M-HRSC-4-REFDR-MAPPROJECT-EXT1-V4.0"
DATA_SET_NAME = "MARS EXPRESS HRSC MAP PROJECTED REFDR EXTENSION1 V4.0"
DETECTOR_ID = MEX_HRSC_SRC
EVENT_TYPE = "MARS-REGIONAL-MAPPING-Im-Lc-Pf"
INSTRUMENT_HOST_ID = MEX
INSTRUMENT_HOST_NAME = "MARS EXPRESS"
INSTRUMENT_ID = HRSC
INSTRUMENT_NAME = "HIGH RESOLUTION STEREO CAMERA"
MISSION_NAME = "MARS EXPRESS"
MISSION_PHASE_NAME = ME_Phase_1
PROCESSING_LEVEL_ID = 4
PRODUCT_CREATION_TIME = 2023-02-08T07:05:14.000Z
PRODUCT_ID = "H2467_0007_SR4.TIF"
RELEASE_ID = 0001
REVISION_ID = 0000
/* QUALITY DATA ELEMENTS */
DATA_QUALITY_ID = 1
DATA_QUALITY_DESC = "Data calculated based on original SPICE kernels"
/* TIME DATA ELEMENTS */
SPACECRAFT_CLOCK_START_COUNT = "1/0082640560.57973"
SPACECRAFT_CLOCK_STOP_COUNT = "1/0082640829.23467"
IMAGE_TIME = 2005-12-14T11:43:45.690Z
START_TIME = 2005-12-14T11:43:45.687Z
STOP_TIME = 2005-12-14T11:43:45.692Z
/* ORBITAL DATA ELEMENTS */
ASCENDING_NODE_LONGITUDE = 176.48
MAXIMUM_RESOLUTION = 0.003712
FOOTPRINT_POINT_LATITUDE = (-49.2952,-49.2979,-49.3,-49.3034, -49.3059,-49.3078,-49.3124,-49.3154, -49.3194,-49.3226,-49.3253,-49.3294, -49.3321,-49.3362,-49.3388,-49.3415, -49.3446,-49.3471,-49.3499,-49.353, -49.3552,-49.3584,-49.3584,-49.3584, -49.3583,-49.3582,-49.3581,-49.358, -49.3579,-49.3578,-49.3577,-49.3577, -49.3576,-49.3575,-49.3574,-49.3573, -49.3572,-49.3571,-49.357,-49.3569, -49.3568,-49.3567,-49.3566,-49.3565, -49.3564,-49.3563,-49.3562,-49.3561, -49.356,-49.356,-49.3559,-49.3524, -49.3486,-49.344,-49.3403,-49.3363, -49.3332,-49.3291,-49.3271,-49.3249, -49.3226,-49.3206,-49.3179,-49.3135, -49.3096,-49.3075,-49.3048,-49.3025, -49.2995,-49.2948,-49.2928,-49.2928, -49.2928,-49.2929,-49.293,-49.2931, -49.2932,-49.2933,-49.2934,-49.2934, -49.2935,-49.2936,-49.2937,-49.2938, -49.2939,-49.294,-49.2941,-49.2942, -49.2943,-49.2944,-49.2945,-49.2946, -49.2947,-49.2948,-49.2949,-49.295, -49.2951,-49.2952,-49.2952,-49.2952)
FOOTPRINT_POINT_LONGITUDE = (1.21125,1.21109,1.21097,1.21077, 1.21063,1.21052,1.21025,1.21008,1.20984 ,1.20965,1.2095,1.20926,1.20911,1.20887 ,1.20872,1.20856,1.20838,1.20823, 1.20807,1.20789,1.20776,1.20758,1.20757 ,1.20748,1.20361,1.19974,1.19587, 1.19201,1.18814,1.18427,1.18041,1.17654 ,1.17267,1.16881,1.16494,1.16107, 1.15721,1.15334,1.14948,1.14561,1.14175 ,1.13789,1.13402,1.13016,1.12629, 1.12243,1.11857,1.11471,1.11084,1.10988 ,1.1093,1.10951,1.10974,1.11001,1.11024 ,1.11048,1.11066,1.11091,1.11103, 1.11116,1.1113,1.11142,1.11158,1.11185, 1.11208,1.11221,1.11237,1.11251,1.11269 ,1.11297,1.11309,1.11309,1.11319, 1.11705,1.12091,1.12476,1.12862,1.13248 ,1.13634,1.1402,1.14406,1.14792,1.15178 ,1.15564,1.1595,1.16336,1.16722,1.17108 ,1.17494,1.1788,1.18266,1.18653,1.19039 ,1.19425,1.19811,1.20198,1.20584,1.2097 ,1.21067,1.21125)
ORBIT_NUMBER = 2467
ORBITAL_ECCENTRICITY = 0.572
ORBITAL_INCLINATION = 86.63
ORBITAL_SEMIMAJOR_AXIS = 8531.86
PERIAPSIS_ALTITUDE = 275.45
PERIAPSIS_ARGUMENT_ANGLE = 284.63
PERIAPSIS_TIME = 2005-12-14T11:37:11.000Z
SPACECRAFT_ORIENTATION = (0.0,-1.0,0.0)
^MEX_ORIENTATION_DESC = "MEX_ORIENTATION_DESC.TXT"
SPACECRAFT_POINTING_MODE = ACROSSTRACK
^MEX_POINTING_DESC = "MEX_POINTING_DESC.TXT"
RIGHT_ASCENSION = -1e+32
DECLINATION = -1e+32
OFFSET_ANGLE = -0.45
SPACECRAFT_SOLAR_DISTANCE = 2.25658e+08
TARGET_NAME = MARS
/* CAMERA DATA ELEMENTS */
BUFFER_MODE_ID = BUFFER_8
EXPOSURE_DURATION = 5.04
INST_CMPRS_NAME = NONE
INST_CMPRS_RATIO = 1.0
INST_CMPRS_QUALITY = -2147483648
INST_CMPRS_QUANTZ_TBL_ID = -2147483648
INSTRUMENT_TEMPERATURE = 5.51353
MISSING_FRAMES = 0
START_BIT = 0
/* RADIOMETRIC DATA ELEMENTS */
BANDWIDTH = 250.0
CENTER_FILTER_WAVELENGTH = 600.0
RADIANCE_OFFSET = -9.99e+31
RADIANCE_SCALING_FACTOR = -9.99e+31
REFLECTANCE_SCALING_FACTOR = -9.99e+31
MEX:REFLECTANCE_OFFSET = -9.99e+31
/* IMAGE OBJECT DEFINITIONS */
OBJECT = IMAGE
  INTERCHANGE_FORMAT = BINARY
  LINES = 1640
  LINE_SAMPLES = 1663
  SAMPLE_TYPE = UNSIGNED_INTEGER
  SAMPLE_BITS = 8
  BANDS = 1
  BAND_STORAGE_TYPE = BAND_SEQUENTIAL
  MAXIMUM = 251
  MEAN = 132.357
  MINIMUM = 6
  STANDARD_DEVIATION = 27.531
END_OBJECT = IMAGE
/* MAP OBJECT DEFINITIONS */
OBJECT = IMAGE_MAP_PROJECTION
  ^DATA_SET_MAP_PROJECTION_CATALOG= "DSMAP.CAT"
  A_AXIS_RADIUS = 3396.19
  B_AXIS_RADIUS = 3396.19
  C_AXIS_RADIUS = 3396.19
  CENTER_LATITUDE = 0.0
  CENTER_LONGITUDE = 1.0
  COORDINATE_SYSTEM_NAME = PLANETOGRAPHIC
  COORDINATE_SYSTEM_TYPE = "BODY-FIXED ROTATING"
  EASTERNMOST_LONGITUDE = 1.21125
  FIRST_STANDARD_PARALLEL = "N/A"
  LINE_FIRST_PIXEL = 1
  LINE_LAST_PIXEL = 1640
  LINE_PROJECTION_OFFSET = -1167232.0
  MAP_PROJECTION_ROTATION = 0.0
  MAP_PROJECTION_TYPE = SINUSOIDAL
  MAP_RESOLUTION = 23709.8786048756
  MAP_SCALE = 0.0025
  MAXIMUM_LATITUDE = -49.2928
  MINIMUM_LATITUDE = -49.3584
  POSITIVE_LONGITUDE_DIRECTION = EAST
  REFERENCE_LATITUDE = "N/A"
  REFERENCE_LONGITUDE = "N/A"
  SAMPLE_FIRST_PIXEL = 1
  SAMPLE_LAST_PIXEL = 1663
  SAMPLE_PROJECTION_OFFSET = -1982.0
  SECOND_STANDARD_PARALLEL = "N/A"
  WESTERNMOST_LONGITUDE = 1.1093
END_OBJECT = IMAGE_MAP_PROJECTION
END
