PDS_VERSION_ID = PDS3
/* FILE DATA ELEMENTS */
RECORD_TYPE = UNDEFINED
/* POINTERS TO DATA OBJECTS */
^IMAGE = ("H2469_0000_IR4.TIF")
/* IDENTIFICATION DATA ELEMENTS */
DATA_SET_ID = "MEX-M-HRSC-4-REFDR-MAPPROJECT-EXT1-V4.0"
DATA_SET_NAME = "MARS EXPRESS HRSC MAP PROJECTED REFDR EXTENSION1 V4.0"
DETECTOR_ID = MEX_HRSC_IR
EVENT_TYPE = "MARS-REGIONAL-MAPPING-Im-Fl-Gl"
INSTRUMENT_HOST_ID = MEX
INSTRUMENT_HOST_NAME = "MARS EXPRESS"
INSTRUMENT_ID = HRSC
INSTRUMENT_NAME = "HIGH RESOLUTION STEREO CAMERA"
MISSION_NAME = "MARS EXPRESS"
MISSION_PHASE_NAME = ME_Phase_1
PROCESSING_LEVEL_ID = 4
PRODUCT_CREATION_TIME = 2023-02-08T07:05:14.000Z
PRODUCT_ID = "H2469_0000_IR4.TIF"
RELEASE_ID = 0001
REVISION_ID = 0000
/* QUALITY DATA ELEMENTS */
DATA_QUALITY_ID = 1
DATA_QUALITY_DESC = "Data calculated based on original SPICE kernels"
/* TIME DATA ELEMENTS */
SPACECRAFT_CLOCK_START_COUNT = "1/0082688507.56182"
SPACECRAFT_CLOCK_STOP_COUNT = "1/0082688808.29717"
START_TIME = 2005-12-15T01:01:58.976Z
STOP_TIME = 2005-12-15T01:06:03.479Z
/* ORBITAL DATA ELEMENTS */
ASCENDING_NODE_LONGITUDE = 176.43
MAXIMUM_RESOLUTION = 0.0454
FOOTPRINT_POINT_LATITUDE = (-78.753,-78.9106,-79.0163,-79.0185, -78.9534,-78.4881,-78.1767,-77.8631, -77.5502,-77.2365,-76.9221,-76.607, -76.2914,-75.9749,-75.4999,-75.1834, -74.8653,-74.5469,-74.0679,-73.7445, -73.4284,-73.1059,-72.6226,-72.3022, -71.8213,-71.3384,-70.8549,-70.5317, -70.2094,-69.8867,-69.5648,-69.2423, -68.9189,-68.5916,-68.271,-67.9463, -67.46,-66.9747,-66.6512,-66.1486, -65.8109,-65.3048,-64.9675,-64.6299, -64.1218,-63.7833,-63.4453,-62.9214, -62.7461,-62.6857,-62.6517,-62.5866, -62.5855,-62.5859,-62.9338,-63.4504, -63.9551,-64.2915,-64.6279,-64.9655, -65.3016,-65.6396,-66.1438,-66.4789, -66.7997,-67.2833,-67.6053,-67.9263, -68.2489,-68.5673,-68.8942,-69.2162, -69.5354,-69.853,-70.1731,-70.4864, -70.8085,-71.2895,-71.766,-72.0848, -72.4048,-72.721,-73.0391,-73.5146, -73.8312,-74.302,-74.617,-74.93, -75.2425,-75.5548,-75.8661,-76.1767, -76.4863,-76.7936,-77.1009,-77.4076, -77.7129,-78.4686,-78.6226,-78.753)
FOOTPRINT_POINT_LONGITUDE = (150.294,152.812,154.795,154.838, 155.103,155.688,156.053,156.405,156.734 ,157.047,157.345,157.63,157.901,158.161 ,158.527,158.756,158.979,159.191, 159.495,159.696,159.872,160.054,160.312 ,160.471,160.699,160.917,161.124, 161.258,161.384,161.507,161.624,161.738 ,161.85,161.964,162.063,162.166,162.312 ,162.451,162.539,162.673,162.76,162.885 ,162.964,163.042,163.157,163.23,163.301 ,163.407,163.441,163.453,162.589, 161.225,161.204,161.197,161.113,160.983 ,160.851,160.759,160.664,160.567, 160.465,160.362,160.198,160.085,159.971 ,159.794,159.671,159.544,159.413, 159.276,159.137,158.992,158.841,158.684 ,158.522,158.351,158.179,157.906, 157.617,157.415,157.206,156.988,156.761 ,156.404,156.153,155.756,155.477, 155.186,154.882,154.564,154.231,153.883 ,153.519,153.136,152.735,152.313,151.87 ,150.658,150.395,150.294)
ORBIT_NUMBER = 2469
ORBITAL_ECCENTRICITY = 0.572
ORBITAL_INCLINATION = 86.62
ORBITAL_SEMIMAJOR_AXIS = 8532.79
PERIAPSIS_ALTITUDE = 276.03
PERIAPSIS_ARGUMENT_ANGLE = 284.31
PERIAPSIS_TIME = 2005-12-15T01:03:13.000Z
SPACECRAFT_ORIENTATION = (0.0,-1.0,0.0)
^MEX_ORIENTATION_DESC = "MEX_ORIENTATION_DESC.TXT"
SPACECRAFT_POINTING_MODE = ACROSSTRACK
^MEX_POINTING_DESC = "MEX_POINTING_DESC.TXT"
RIGHT_ASCENSION = -1e+32
DECLINATION = -1e+32
OFFSET_ANGLE = -0.05
SPACECRAFT_SOLAR_DISTANCE = 2.25767e+08
TARGET_NAME = MARS
/* CAMERA DATA ELEMENTS */
DETECTOR_TEMPERATURE = 17.351
FOCAL_PLANE_TEMPERATURE = 8.7872
INST_CMPRS_NAME = "DISCRETE COSINE TRANSFORMATION (DCT)"
INST_CMPRS_RATIO = 14.7282
INST_CMPRS_QUALITY = 0
INST_CMPRS_QUANTZ_TBL_ID = 0
INSTRUMENT_TEMPERATURE = 11.4379
LENS_TEMPERATURE = 8.7872
MACROPIXEL_SIZE = 4
MISSING_FRAMES = 0
PIXEL_SUBSAMPLING_FLAG = N
SIGNAL_CHAIN_ID = 2
/* RADIOMETRIC DATA ELEMENTS */
BANDWIDTH = 81.0
CENTER_FILTER_WAVELENGTH = 955.5
RADIANCE_OFFSET = 0.501134
RADIANCE_SCALING_FACTOR = 0.00359356
REFLECTANCE_SCALING_FACTOR = 0.000395161
MEX:REFLECTANCE_OFFSET = 0.0551064
/* IMAGE OBJECT DEFINITIONS */
OBJECT = IMAGE
  INTERCHANGE_FORMAT = BINARY
  LINES = 19387
  LINE_SAMPLES = 4142
  SAMPLE_TYPE = UNSIGNED_INTEGER
  SAMPLE_BITS = 8
  BANDS = 1
  BAND_STORAGE_TYPE = BAND_SEQUENTIAL
  MAXIMUM = 255
  MEAN = 123.703
  MINIMUM = 1
  STANDARD_DEVIATION = 52.1635
END_OBJECT = IMAGE
/* MAP OBJECT DEFINITIONS */
OBJECT = IMAGE_MAP_PROJECTION
  ^DATA_SET_MAP_PROJECTION_CATALOG= "DSMAP.CAT"
  A_AXIS_RADIUS = 3396.0
  B_AXIS_RADIUS = 3396.0
  C_AXIS_RADIUS = 3396.0
  CENTER_LATITUDE = 0.0
  CENTER_LONGITUDE = 160.0
  COORDINATE_SYSTEM_NAME = PLANETOGRAPHIC
  COORDINATE_SYSTEM_TYPE = "BODY-FIXED ROTATING"
  EASTERNMOST_LONGITUDE = 163.453
  FIRST_STANDARD_PARALLEL = "N/A"
  LINE_FIRST_PIXEL = 1
  LINE_LAST_PIXEL = 19387
  LINE_PROJECTION_OFFSET = -74184.125
  MAP_PROJECTION_ROTATION = 0.0
  MAP_PROJECTION_TYPE = SINUSOIDAL
  MAP_RESOLUTION = 1185.42760773333
  MAP_SCALE = 0.05
  MAXIMUM_LATITUDE = -62.5855
  MINIMUM_LATITUDE = -79.0185
  POSITIVE_LONGITUDE_DIRECTION = EAST
  REFERENCE_LATITUDE = "N/A"
  REFERENCE_LONGITUDE = "N/A"
  SAMPLE_FIRST_PIXEL = 1
  SAMPLE_LAST_PIXEL = 4142
  SAMPLE_PROJECTION_OFFSET = 2248.375
  SECOND_STANDARD_PARALLEL = "N/A"
  WESTERNMOST_LONGITUDE = 150.294
END_OBJECT = IMAGE_MAP_PROJECTION
END
